{"text_format":"1","workbook":"xlsx","n_sheets":4,"sheets":["Clavet","Kerrobert","Maidstone","Meadow Lake"],"not_rendered":{"charts":0,"images":0,"macros":0,"external_links":0,"defined_names":0,"comments":0,"pivot_tables":0},"unopened":[],"bounds":{"document_bytes":16777216,"sheet_cells":100000,"rows_first":2000,"rows_last":500,"rows_between":2000,"halvings":0,"cell_chars":16384,"cell_head_chars":4096},"cells_cut":0,"cells_raw":0,"read":"whole","date_system":"1900"}

{"sheet":"Clavet","index":0,"n_rows":758,"n_cols":11,"rows_kept":758,"cut":false,"hidden":false,"merged":[]}
[{"$f":"Kerrobert!A1","v":"Group: Global WYAMZ - Monthly Monthly: 01/2019  Type: AVG 1 Hr."}]
[]
["Date & Time","Clavet","Clavet","Clavet","Clavet","Clavet","Clavet","Clavet","Clavet","Clavet","Clavet"]
[null,"NO","NO2","NOX","O3","PM25","PRECIP","TEMPERAT","WS","WD","RH"]
[null,"ppb","ppb","ppb","ppb","ug/m3(L)","mm","C°","m/s","Deg","%RH"]
["  2019/03/01 00:00:00",0.189,2.1240000000000001,2.3149999999999999,32.298999999999999,1.698,0,-14.407999999999999,0.221,117.807,65.894000000000005]
["  2019/03/01 01:00:00",0.21099999999999999,4.0289999999999999,4.2409999999999997,30.288,1.907,0,-16.189,0.81599999999999995,357.34899999999999,68.572999999999993]
["  2019/03/01 02:00:00",0.114,4.992,5.1079999999999997,28.375,5.2359999999999998,0,-18.524999999999999,0.83399999999999996,329.63400000000001,69.266999999999996]
["  2019/03/01 03:00:00",0.318,6.4710000000000001,6.7910000000000004,28.963000000000001,24.295999999999999,0,-21.096,1.6819999999999999,1.0720000000000001,71.340999999999994]
["  2019/03/01 04:00:00",0.86399999999999999,4.6840000000000002,5.5490000000000004,27.417999999999999,15.186,0,-19.545000000000002,2.835,10.29,73.781999999999996]
["  2019/03/01 05:00:00",0.84599999999999997,2.2610000000000001,3.1080000000000001,24.488,7.8719999999999999,0,-18.655000000000001,3.61,16.239999999999998,72.55]
["  2019/03/01 06:00:00",0.80100000000000005,1.7310000000000001,2.5329999999999999,23.902999999999999,3.6629999999999998,0,-19.542999999999999,3.3050000000000002,18.635000000000002,71.956000000000003]
["  2019/03/01 07:00:00",0.41,1.7989999999999999,2.2109999999999999,20.013999999999999,6.9509999999999996,0,-20.146999999999998,2.9590000000000001,357.84199999999998,70.989999999999995]
["  2019/03/01 08:00:00",2.669,3.1930000000000001,5.8620000000000001,11.347,8.4629999999999992,0,-21.055,2.8650000000000002,341.197,69.947000000000003]
["  2019/03/01 09:00:00",4.7949999999999999,2.4169999999999998,7.2130000000000001,6.851,10.129,0,-20.981999999999999,2.746,333.36099999999999,67.847999999999999]
["  2019/03/01 10:00:00",2.2250000000000001,1.37,3.597,9.2080000000000002,8.4890000000000008,0,-20.311,3.3690000000000002,8.1059999999999999,67.027000000000001]
["  2019/03/01 11:00:00",1.8759999999999999,1.169,3.0449999999999999,10.428000000000001,8.6159999999999997,0,-20.417000000000002,3.75,10.052,65.021000000000001]
["  2019/03/01 12:00:00",0.96299999999999997,0.78300000000000003,1.7470000000000001,11.744,7.415,0,-19.716999999999999,3.7240000000000002,350.67399999999998,62.35]
["  2019/03/01 13:00:00",2.6549999999999998,1.379,4.0339999999999998,14.295999999999999,5.9749999999999996,0,-19.567,4.7130000000000001,330.45100000000002,61.591999999999999]
["  2019/03/01 14:00:00",2.3769999999999998,1.538,3.9159999999999999,18.032,6.056,0,-19.498999999999999,4.7960000000000003,332.04199999999997,60.896999999999998]
["  2019/03/01 15:00:00",2.762,1.708,4.47,19.956,6.431,0,-19.652999999999999,4.4020000000000001,333.815,60.652999999999999]
["  2019/03/01 16:00:00",0.90100000000000002,1.357,2.2589999999999999,22.222999999999999,4.3920000000000003,0,-19.600999999999999,3.9990000000000001,342.65899999999999,61.197000000000003]
["  2019/03/01 17:00:00",1.5089999999999999,2.08,3.589,23.207000000000001,4,0,-20.285,3.4540000000000002,348.27600000000001,62.13]
["  2019/03/01 18:00:00",0.63200000000000001,1.9450000000000001,2.5760000000000001,23.847999999999999,3.911,0,-21.619,2.6419999999999999,346.197,63.488999999999997]
["  2019/03/01 19:00:00",0.15,5.3559999999999999,5.5049999999999999,21.951000000000001,3.9510000000000001,0,-22.731000000000002,2.8410000000000002,318.62099999999998,63.131]
["  2019/03/01 20:00:00",0.501,8.2140000000000004,8.7149999999999999,19.309000000000001,4.3879999999999999,0,-23.766999999999999,2.2269999999999999,302.51,63.481000000000002]
["  2019/03/01 21:00:00",0.74399999999999999,13.143000000000001,13.888,16.247,4.8479999999999999,0,-25.273,1.63,288.21100000000001,63.965000000000003]
["  2019/03/01 22:00:00","        Z","        Z","        Z","        Z",3.99,0,-26.175000000000001,1.5489999999999999,279.90899999999999,60.564999999999998]
["  2019/03/01 23:00:00",0.191,10.384,10.576000000000001,19.568000000000001,4.4720000000000004,0,-27.03,1.88,301.68799999999999,61.631999999999998]
["  2019/03/02 00:00:00",0.44800000000000001,12.622999999999999,13.073,18.556999999999999,3.8260000000000001,0,-27.065999999999999,2.423,310.63400000000001,63.122]
["  2019/03/02 01:00:00",0.36599999999999999,10.541,10.907999999999999,20.398,3.319,0,-28.059000000000001,1.579,289.30900000000003,64.290999999999997]
["  2019/03/02 02:00:00",0.93100000000000005,9.8970000000000002,10.829000000000001,20.646000000000001,2.9140000000000001,0,-28.375,1.5269999999999999,272.15100000000001,64.013000000000005]
["  2019/03/02 03:00:00",2.0640000000000001,8.5259999999999998,10.592000000000001,22.341999999999999,2.694,0,-28.972000000000001,1.7230000000000001,276.20400000000001,64.872]
["  2019/03/02 04:00:00",3.085,11.523999999999999,14.609,21.262,3.0830000000000002,0,-29.933,1.482,263.99900000000002,66.722999999999999]
["  2019/03/02 05:00:00",1.931,6.6070000000000002,8.5389999999999997,22.562000000000001,2.9710000000000001,0,-30.698,1.26,247.315,66.411000000000001]
["  2019/03/02 06:00:00",1.4670000000000001,5.8849999999999998,7.3520000000000003,23.257000000000001,3.2959999999999998,0,-31.093,0.872,257.49099999999999,66.078000000000003]
["  2019/03/02 07:00:00",2.8740000000000001,8.9480000000000004,11.824,21.271999999999998,3.3650000000000002,0,-31.108000000000001,1.107,251.529,66.155000000000001]
["  2019/03/02 08:00:00",2.2970000000000002,4.95,7.2480000000000002,23.780999999999999,3.01,0,-30.821000000000002,2.173,250.434,65.555000000000007]
["  2019/03/02 09:00:00",4.88,4.4569999999999999,9.3390000000000004,24.312000000000001,2.4830000000000001,0,-29.584,2.2530000000000001,264.48399999999998,64.62]
["  2019/03/02 10:00:00",5.0880000000000001,4.01,9.1010000000000009,25.204000000000001,1.7889999999999999,0,-27.408999999999999,2.5169999999999999,271.97399999999999,61.74]
["  2019/03/02 11:00:00",4.7960000000000003,3.476,8.2739999999999991,26.271000000000001,1.669,0,-25.613,3.0529999999999999,272.315,58.579000000000001]
["  2019/03/02 12:00:00",4.3460000000000001,2.8460000000000001,7.1950000000000003,26.585999999999999,1.679,0,-24.35,3.1920000000000002,266.83699999999999,56.686]
["  2019/03/02 13:00:00",4.0750000000000002,2.5499999999999998,6.6280000000000001,26.701000000000001,1.6910000000000001,0,-23.032,3.649,266.38900000000001,56.466000000000001]
["  2019/03/02 14:00:00",3.859,2.7930000000000001,6.6529999999999996,26.997,1.893,0,-21.939,3.4620000000000002,264.48,56.389000000000003]
["  2019/03/02 15:00:00",3.7,2.6379999999999999,6.34,28.51,1.766,0,-21.282,3.875,263.80200000000002,56.807000000000002]
["  2019/03/02 16:00:00",2.1890000000000001,1.9330000000000001,4.1260000000000003,29.779,1.4630000000000001,0,-20.99,3.778,259.22399999999999,57.392000000000003]
["  2019/03/02 17:00:00",0.96399999999999997,2.1840000000000002,3.1520000000000001,30.114999999999998,1.4379999999999999,0,-20.741,4.423,295.54300000000001,57.466000000000001]
["  2019/03/02 18:00:00",0.61199999999999999,4.0810000000000004,4.6950000000000003,29.013000000000002,1.9570000000000001,0,-21.288,5.5819999999999999,308.34800000000001,58.670999999999999]
["  2019/03/02 19:00:00",0.51,6.798,7.3109999999999999,27.504000000000001,2.2040000000000002,0,-21.579000000000001,5.0490000000000004,306.68900000000002,60.106999999999999]
["  2019/03/02 20:00:00",0.65900000000000003,8.7430000000000003,9.4049999999999994,26.425000000000001,2.177,0,-21.655000000000001,3.9790000000000001,301.98399999999998,59.604999999999997]
["  2019/03/02 21:00:00","        Z","        Z","        Z","        Z",2.109,0,-22.032,2.637,278.18799999999999,60.841000000000001]
["  2019/03/02 22:00:00",1.2769999999999999,8.0960000000000001,9.3770000000000007,26.623999999999999,1.913,0,-22.288,2.7589999999999999,282.70100000000002,62.722999999999999]
["  2019/03/02 23:00:00",0.30199999999999999,7.4039999999999999,7.7080000000000002,26.314,2.218,0,-22.085999999999999,2.7669999999999999,297.87099999999998,62.368000000000002]
["  2019/03/03 00:00:00",1.9770000000000001,8.2449999999999992,10.225,25.876999999999999,2.5880000000000001,0,-21.561,3.048,299.19600000000003,61.203000000000003]
["  2019/03/03 01:00:00",1.5529999999999999,7.0010000000000003,8.5559999999999992,26.571000000000002,2.3980000000000001,0,-21.59,2.3220000000000001,283.44499999999999,61.156999999999996]
["  2019/03/03 02:00:00",0.57699999999999996,7.7460000000000004,8.3260000000000005,26.631,2.1320000000000001,0,-21.916,2.194,297.17,60.765999999999998]
["  2019/03/03 03:00:00",1.694,6.4630000000000001,8.1579999999999995,28.163,1.7889999999999999,0,-22.248999999999999,2.806,302.42,60.276000000000003]
["  2019/03/03 04:00:00",1.4930000000000001,8.3040000000000003,9.7989999999999995,26.207000000000001,1.84,0,-22.375,2.609,305.17,59.569000000000003]
["  2019/03/03 05:00:00",5.1999999999999998E-2,4.6360000000000001,4.6900000000000004,28.657,2.016,0,-22.515000000000001,2.9449999999999998,301.16800000000001,59.546999999999997]
["  2019/03/03 06:00:00",0.41099999999999998,4.1470000000000002,4.5590000000000002,29.11,1.7649999999999999,0,-22.507000000000001,3.294,304.16399999999999,58.908999999999999]
["  2019/03/03 07:00:00",1.1819999999999999,5.5730000000000004,6.7569999999999997,28.356999999999999,1.595,0,-21.748000000000001,2.7160000000000002,298.68,59.393000000000001]
["  2019/03/03 08:00:00",0.873,5.6079999999999997,6.4829999999999997,27.655999999999999,1.758,0,-20.712,4.4859999999999998,303.47199999999998,59.274000000000001]
["  2019/03/03 09:00:00",2.3849999999999998,4.7480000000000002,7.1349999999999998,28.285,1.8660000000000001,0,-19.901,4.1929999999999996,299.63600000000002,57.994999999999997]
["  2019/03/03 10:00:00",1.9770000000000001,2.8639999999999999,4.843,29.527000000000001,1.702,0,-19.145,5.79,311.22300000000001,56.293999999999997]
["  2019/03/03 11:00:00",2.4710000000000001,2.383,4.8540000000000001,30.405000000000001,2.1589999999999998,0,-18.594000000000001,5.984,313.14600000000002,54.953000000000003]
["  2019/03/03 12:00:00",2.6190000000000002,2.5510000000000002,5.1710000000000003,30.677,1.9159999999999999,0,-17.827000000000002,4.3099999999999996,306.20999999999998,53.966999999999999]
["  2019/03/03 13:00:00",2.456,2.6709999999999998,5.1289999999999996,31.207999999999998,2.004,0,-16.806000000000001,4.0339999999999998,296.21699999999998,52.624000000000002]
["  2019/03/03 14:00:00",2.6539999999999999,2.9740000000000002,5.6269999999999998,31.355,2.173,0,-16.28,4.1500000000000004,282.30799999999999,54.851999999999997]
["  2019/03/03 15:00:00",1.9139999999999999,2.5099999999999998,4.4240000000000004,32.246000000000002,2.0449999999999999,0,-15.432,5.3259999999999996,304.30099999999999,54.612000000000002]
["  2019/03/03 16:00:00",2.2559999999999998,3.343,5.5970000000000004,32.42,2.3639999999999999,0,-14.96,4.0949999999999998,296.28199999999998,53.756]
["  2019/03/03 17:00:00",1.1859999999999999,3.3570000000000002,4.5419999999999998,31.818000000000001,2.8809999999999998,0,-15.285,5.085,305.52,55.131999999999998]
["  2019/03/03 18:00:00",1.9790000000000001,5.0190000000000001,6.9960000000000004,30.501000000000001,3.6320000000000001,0,-15.944000000000001,4.9880000000000004,307.17099999999999,55.555999999999997]
["  2019/03/03 19:00:00",0.499,6.4509999999999996,6.9489999999999998,28.94,4.1749999999999998,0,-16.466000000000001,4.5289999999999999,306.83100000000002,55.588999999999999]
["  2019/03/03 20:00:00","        Z","        Z","        Z","        Z",4.0679999999999996,0,-16.698,4.3680000000000003,303.74200000000002,56.798999999999999]
["  2019/03/03 21:00:00",0.315,5.508,5.8220000000000001,28.968,3.95,0,-16.931000000000001,5.3330000000000002,307.27699999999999,57.713000000000001]
["  2019/03/03 22:00:00",0.19500000000000001,4.0609999999999999,4.2539999999999996,30.77,3.4649999999999999,0,-17.024000000000001,5.59,312.27,57.923999999999999]
["  2019/03/03 23:00:00",0.20100000000000001,6.6779999999999999,6.8769999999999998,29.321000000000002,3.3879999999999999,0,-16.832000000000001,4.742,307.93700000000001,57.284999999999997]
["  2019/03/04 00:00:00",-3.9E-2,4.7750000000000004,4.7350000000000003,30.024999999999999,3.6880000000000002,0,-17.207000000000001,3.3380000000000001,299.642,57.914000000000001]
["  2019/03/04 01:00:00",1.272,8.3810000000000002,9.6509999999999998,27.856999999999999,3.3679999999999999,0,-17.311,2.14,265.19499999999999,59.156999999999996]
["  2019/03/04 02:00:00",0.20499999999999999,6.508,6.7110000000000003,28.457999999999998,2.9430000000000001,0,-16.896999999999998,2.3140000000000001,275.36399999999998,58.863999999999997]
["  2019/03/04 03:00:00",1.2789999999999999,5.5339999999999998,6.8140000000000001,28.777999999999999,2.7869999999999999,0,-16.457000000000001,3.024,282.65199999999999,59.389000000000003]
["  2019/03/04 04:00:00",0.78600000000000003,4.6120000000000001,5.3970000000000002,28.88,2.5110000000000001,0,-16.055,3.4670000000000001,285.10399999999998,57.673999999999999]
["  2019/03/04 05:00:00",4.4999999999999998E-2,5.7380000000000004,5.7839999999999998,28.9,2.202,0,-15.688000000000001,3.5459999999999998,266.80399999999997,56.933]
["  2019/03/04 06:00:00",1.573,4.5170000000000003,6.09,29.274999999999999,2.1389999999999998,0,-15.691000000000001,3.2450000000000001,258.75200000000001,57.213999999999999]
["  2019/03/04 07:00:00",1.3640000000000001,3.3860000000000001,4.7489999999999997,29.798999999999999,2.6920000000000002,0,-16.672999999999998,2.83,259.834,60.045999999999999]
["  2019/03/04 08:00:00",1.369,5.1340000000000003,6.5030000000000001,29.814,2.04,0,-15.587,3.6859999999999999,280.44400000000002,56.393000000000001]
["  2019/03/04 09:00:00",2.1920000000000002,4.2919999999999998,6.4850000000000003,30.706,2.036,0,-14.88,3.7749999999999999,280.93200000000002,55.325000000000003]
["  2019/03/04 10:00:00",5.5449999999999999,5.2629999999999999,10.808,30.484999999999999,2.1869999999999998,0,-14.057,4.9960000000000004,299.88600000000002,55.701999999999998]
["  2019/03/04 11:00:00",2.4860000000000002,3.7970000000000002,6.2839999999999998,31.452999999999999,2.484,0,-13.234,5.516,306.52100000000002,57.344000000000001]
["  2019/03/04 12:00:00",2.6789999999999998,3.1469999999999998,5.8250000000000002,32.508000000000003,2.2360000000000002,0,-12.398999999999999,5.8070000000000004,306.75299999999999,53.884999999999998]
["  2019/03/04 13:00:00",1.764,2.5419999999999998,4.3070000000000004,33.259,2.2970000000000002,0,-11.73,5.9210000000000003,309.34199999999998,53.484000000000002]
["  2019/03/04 14:00:00",1.8380000000000001,2.7250000000000001,4.5629999999999997,33.412999999999997,2.4039999999999999,0,-11.08,5.9390000000000001,305.88799999999998,54.377000000000002]
["  2019/03/04 15:00:00",2.1669999999999998,3.5049999999999999,5.673,33.473999999999997,2.516,0,-10.76,5.9729999999999999,307.05500000000001,55.640999999999998]
["  2019/03/04 16:00:00",1.7450000000000001,3.254,5.0010000000000003,34.026000000000003,2.4790000000000001,0,-10.077999999999999,5.4740000000000002,307.52699999999999,53.73]
["  2019/03/04 17:00:00",1.609,3.9740000000000002,5.5839999999999996,33.743000000000002,3.1549999999999998,0,-10.144,4.649,308.351,54.152000000000001]
["  2019/03/04 18:00:00",0.99,5.952,6.944,31.962,4.4180000000000001,0,-10.954000000000001,3.819,301.32499999999999,55.976999999999997]
["  2019/03/04 19:00:00","        Z","        Z","        Z","        Z",4.9359999999999999,0,-11.741,3.69,301.863,57.951000000000001]
["  2019/03/04 20:00:00",0.91900000000000004,7.89,8.81,29.542000000000002,5.0049999999999999,0,-12.159000000000001,3.2839999999999998,299.78699999999998,58.972000000000001]
["  2019/03/04 21:00:00",0.71699999999999997,7.0990000000000002,7.8179999999999996,31.527000000000001,4.4720000000000004,0,-12.483000000000001,2.9889999999999999,299.892,59.872999999999998]
["  2019/03/04 22:00:00",1.6619999999999999,8.0969999999999995,9.76,30.596,4.2480000000000002,0,-13.083,2.86,304.75200000000001,61.142000000000003]
["  2019/03/04 23:00:00",-3.5000000000000003E-2,6.3810000000000002,6.3470000000000004,31.427,3.7370000000000001,0,-12.647,3.5059999999999998,307.41399999999999,61.024999999999999]
["  2019/03/05 00:00:00",0.183,6.2060000000000004,6.39,31.154,3.665,0,-12.04,2.6589999999999998,306.43,59.8]
["  2019/03/05 01:00:00",0.20899999999999999,5.798,6.0090000000000003,31.038,3.5790000000000002,0,-11.888999999999999,1.786,285.27100000000002,59.868000000000002]
["  2019/03/05 02:00:00",2.46,10.029,12.491,28.991,3.4950000000000001,0,-11.708,2.3180000000000001,250.63300000000001,60.475000000000001]
["  2019/03/05 03:00:00",0.61799999999999999,7.07,7.6890000000000001,29.978000000000002,3.4889999999999999,0,-11.917,1.3720000000000001,237.77600000000001,60.811]
["  2019/03/05 04:00:00",0.21,3.6560000000000001,3.8650000000000002,31.481999999999999,3.22,0,-13.07,1.855,209.62700000000001,63.993000000000002]
["  2019/03/05 05:00:00",1.2569999999999999,6.1180000000000003,7.375,31.062999999999999,3.133,0,-13.313000000000001,2.2149999999999999,211.703,65.572999999999993]
["  2019/03/05 06:00:00",1.004,5.0220000000000002,6.0259999999999998,30.242000000000001,2.7370000000000001,0,-11.451000000000001,1.706,225.13300000000001,65.284000000000006]
["  2019/03/05 07:00:00",2.222,5.5670000000000002,7.79,31.457000000000001,2.4860000000000002,0,-9.4469999999999992,2.1920000000000002,251.089,61.146999999999998]
["  2019/03/05 08:00:00",3.2959999999999998,6.4669999999999996,9.7639999999999993,31.068999999999999,3.1619999999999999,0,-9.3829999999999991,2.3849999999999998,270.83499999999998,57.881]
["  2019/03/05 09:00:00",3.6930000000000001,7.7770000000000001,11.468999999999999,31.712,2.395,0,-8.9760000000000009,2.8959999999999999,285.25599999999997,51.566000000000003]
["  2019/03/05 10:00:00",4.7450000000000001,5.6280000000000001,10.371,32.838999999999999,2.4470000000000001,0,-9.0589999999999993,2.8140000000000001,288.37700000000001,51.39]
["  2019/03/05 11:00:00",4.93,5.2549999999999999,10.186,32.935000000000002,2.94,0,-9.1270000000000007,3.9830000000000001,300.37400000000002,53.005000000000003]
["  2019/03/05 12:00:00",2.5489999999999999,3.24,5.7889999999999997,34.253999999999998,3.2120000000000002,0,-8.8190000000000008,5.1120000000000001,310.77300000000002,52.371000000000002]
["  2019/03/05 13:00:00",2.8279999999999998,3.597,6.4240000000000004,34.557000000000002,4.1310000000000002,0,-7.7990000000000004,3.67,298.11399999999998,51.609000000000002]
["  2019/03/05 14:00:00",2.919,3.8620000000000001,6.7789999999999999,35.372999999999998,4.3810000000000002,0,-8.2789999999999999,4.2869999999999999,316.30799999999999,53.795000000000002]
["  2019/03/05 15:00:00",3.58,4.5919999999999996,8.1709999999999994,35.363999999999997,5.3390000000000004,0,-8.7309999999999999,4.1529999999999996,314.83499999999998,55.055999999999997]
["  2019/03/05 16:00:00",4.1829999999999998,5.2759999999999998,9.4580000000000002,34.776000000000003,7.8849999999999998,0,-8.7829999999999995,3.2290000000000001,310.27,55.923999999999999]
["  2019/03/05 17:00:00",1.6639999999999999,4.3440000000000003,6.0069999999999997,35.506,7.9610000000000003,0,-9.4649999999999999,3.6160000000000001,319.10899999999998,56.567999999999998]
["  2019/03/05 18:00:00","        Z","        Z","        Z","        Z",7.798,0,-11.234,2.6669999999999998,342.74,59.969000000000001]
["  2019/03/05 19:00:00",0.45500000000000002,3.1920000000000002,3.645,34.186,11.545999999999999,0,-13.922000000000001,1.843,2.13,64.058000000000007]
["  2019/03/05 20:00:00",0.498,3.7010000000000001,4.1970000000000001,34.326999999999998,4.6539999999999999,0,-14.961,1.266,333.714,63.363]
["  2019/03/05 21:00:00",0.40100000000000002,4.6820000000000004,5.0810000000000004,33.033000000000001,4.7789999999999999,0,-15.724,1.2090000000000001,294.70100000000002,63.985999999999997]
["  2019/03/05 22:00:00",1.18,6.1379999999999999,7.3159999999999998,31.946999999999999,4.6180000000000003,0,-15.827999999999999,1.9370000000000001,345.29700000000003,65.022000000000006]
["  2019/03/05 23:00:00",0.69699999999999995,3.7280000000000002,4.423,34.155999999999999,7.3719999999999999,0,-17.221,1.925,18.972999999999999,66.555000000000007]
["  2019/03/06 00:00:00",0.70799999999999996,3.214,3.92,34.441000000000003,2.996,0,-17.757999999999999,1.7709999999999999,21.222999999999999,66.397999999999996]
["  2019/03/06 01:00:00",0.34599999999999997,5.0190000000000001,5.3630000000000004,32.774999999999999,29.814,0,-18.962,0.89300000000000002,346.46699999999998,66.495999999999995]
["  2019/03/06 02:00:00",0.46,7.86,8.3179999999999996,29.634,14.401999999999999,0,-20.279,0.58199999999999996,239.756,64.343000000000004]
["  2019/03/06 03:00:00",0.246,8.9459999999999997,9.1920000000000002,28.594000000000001,3.1709999999999998,0,-20.495000000000001,1.829,312.00099999999998,68.652000000000001]
["  2019/03/06 04:00:00",0.41899999999999998,15.68,16.097999999999999,22.65,7.2770000000000001,0,-21.614000000000001,0.84599999999999997,338.58100000000002,68.495999999999995]
["  2019/03/06 05:00:00",0.53300000000000003,5.0229999999999997,5.5529999999999999,30.876000000000001,4.6859999999999999,0,-22.448,1.278,13.303000000000001,69.671999999999997]
["  2019/03/06 06:00:00",0.49299999999999999,3.8290000000000002,4.32,30.847999999999999,2.8769999999999998,0,-22.670999999999999,0.83399999999999996,322.38400000000001,67.716999999999999]
["  2019/03/06 07:00:00",0.75700000000000001,13.311999999999999,14.067,23.896999999999998,4.5640000000000001,0,-21.68,0.42599999999999999,278.43400000000003,67.135000000000005]
["  2019/03/06 08:00:00",3.6190000000000002,13.349,16.966999999999999,22.806000000000001,7.5759999999999996,0,-21.181999999999999,0.84099999999999997,199.67599999999999,66.855999999999995]
["  2019/03/06 09:00:00",6.2,10.48,16.678999999999998,26.190999999999999,5.9470000000000001,0,-19.661999999999999,0.77300000000000002,239.79900000000001,68.495000000000005]
["  2019/03/06 10:00:00",9.4169999999999998,10.205,19.62,26.187000000000001,5.6020000000000003,0,-15.739000000000001,0.46400000000000002,279.35700000000003,62.29]
["  2019/03/06 11:00:00",3.8849999999999998,4.62,8.5050000000000008,31.065000000000001,2.1720000000000002,0,-13.012,0.99099999999999999,305.47500000000002,55.433999999999997]
["  2019/03/06 12:00:00",4.0940000000000003,4.1779999999999999,8.2710000000000008,32.332000000000001,2.4220000000000002,0,-11.506,0.82799999999999996,275.91800000000001,53.061]
["  2019/03/06 13:00:00",2.6389999999999998,3.3340000000000001,5.9710000000000001,33.009,2.4889999999999999,0,-10.362,0.76200000000000001,257.75299999999999,50.405999999999999]
["  2019/03/06 14:00:00",2.6120000000000001,3.4670000000000001,6.0759999999999996,34.412999999999997,3.0779999999999998,0,-11.173999999999999,1.2549999999999999,202.29300000000001,53.427]
["  2019/03/06 15:00:00",1.1990000000000001,1.911,3.1080000000000001,35.284999999999997,2.9849999999999999,0,-9.8699999999999992,0.41399999999999998,211.36099999999999,48.774000000000001]
["  2019/03/06 16:00:00",0.97199999999999998,2.3780000000000001,3.3490000000000002,35.951999999999998,4.0149999999999997,0,-10.234999999999999,0.38,106.08799999999999,48.97]
["  2019/03/06 17:00:00","        Z","        Z","        Z","        Z",5.4450000000000003,0,-11.888,0.74299999999999999,156.024,53.999000000000002]
["  2019/03/06 18:00:00",0.94799999999999995,6.7960000000000003,7.7430000000000003,32.637,7.6390000000000002,0,-13.952,0.82499999999999996,182.88499999999999,58.284999999999997]
["  2019/03/06 19:00:00",0.47499999999999998,4.32,4.7949999999999999,33.353999999999999,7.3609999999999998,0,-16.542999999999999,0.65300000000000002,187.39599999999999,62.271000000000001]
["  2019/03/06 20:00:00",0.52600000000000002,6.8570000000000002,7.3810000000000002,29.959,5.8979999999999997,0,-17.978000000000002,0.55500000000000005,183.77199999999999,64.915000000000006]
["  2019/03/06 21:00:00",0.622,6.6779999999999999,7.3,29.545000000000002,4.7039999999999997,0,-20.077999999999999,0.85199999999999998,183.80099999999999,67.575000000000003]
["  2019/03/06 22:00:00",0.97399999999999998,7.2229999999999999,8.1950000000000003,28.67,4.5890000000000004,0,-20.802,0.61099999999999999,182.857,67.400000000000006]
["  2019/03/06 23:00:00",1.4079999999999999,14.987,16.395,22.285,4.9169999999999998,0,-20.710999999999999,0.316,165.11600000000001,63.045999999999999]
["  2019/03/07 00:00:00",2.4900000000000002,10.835000000000001,13.324,25.495000000000001,3.343,0,-21.777000000000001,0.47399999999999998,164.143,65.634]
["  2019/03/07 01:00:00",1.4259999999999999,6.3890000000000002,7.8150000000000004,27.844000000000001,3.1640000000000001,0,-22.399000000000001,0.42299999999999999,167.12100000000001,63.738999999999997]
["  2019/03/07 02:00:00",1.5209999999999999,5.2910000000000004,6.8120000000000003,29.283999999999999,3.367,0,-23.731000000000002,0.84599999999999997,96.254999999999995,66.302000000000007]
["  2019/03/07 03:00:00",1.3140000000000001,7.1239999999999997,8.4380000000000006,27.645,2.9830000000000001,0,-24.071000000000002,0.95399999999999996,98.734999999999999,71.593000000000004]
["  2019/03/07 04:00:00",1.5880000000000001,7.8319999999999999,9.4190000000000005,26.077999999999999,3.113,0,-25.452999999999999,1.242,111.622,70.47]
["  2019/03/07 05:00:00",1.218,7.593,8.8109999999999999,26.059000000000001,2.81,0,-25.259,1.2589999999999999,107.199,71.599999999999994]
["  2019/03/07 06:00:00",0.98599999999999999,5.8,6.7839999999999998,27.236999999999998,4.6210000000000004,0,-24.364000000000001,1.5660000000000001,100.41200000000001,70.686000000000007]
["  2019/03/07 07:00:00",0.94599999999999995,4.976,5.923,27.783000000000001,4.5229999999999997,0,-24.687000000000001,1.3620000000000001,102.08,69.930000000000007]
["  2019/03/07 08:00:00",1.64,5.0179999999999998,6.6580000000000004,27.18,4.9450000000000003,0,-23.882999999999999,1.5069999999999999,91.944999999999993,69.944000000000003]
["  2019/03/07 09:00:00",2.5619999999999998,4.0640000000000001,6.6260000000000003,28.021999999999998,4.5990000000000002,0,-21.324000000000002,2.4009999999999998,102.497,70.498000000000005]
["  2019/03/07 10:00:00",3.4279999999999999,4.1580000000000004,7.5860000000000003,28.193000000000001,3.4540000000000002,0,-19.103999999999999,1.9339999999999999,103.589,68.808000000000007]
["  2019/03/07 11:00:00",3.2869999999999999,3.5590000000000002,6.8470000000000004,29.925999999999998,2.4239999999999999,0,-17.16,2.4809999999999999,104.64700000000001,65.412999999999997]
["  2019/03/07 12:00:00",2.7250000000000001,3.2360000000000002,5.9619999999999997,30.917000000000002,1.859,0,-15.122,2.3820000000000001,106.28400000000001,63.222000000000001]
["  2019/03/07 13:00:00",3.04,3.3620000000000001,6.4039999999999999,31.555,2.9569999999999999,0,-14.198,2.153,114.095,62.054000000000002]
["  2019/03/07 14:00:00",2.8980000000000001,3.794,6.6929999999999996,32.298000000000002,3.96,0,-13.215999999999999,2.097,112.703,62.933]
["  2019/03/07 15:00:00",2.4620000000000002,4.681,7.1440000000000001,33.115000000000002,5.4539999999999997,0,-12.519,1.9750000000000001,123.745,63.823999999999998]
["  2019/03/07 16:00:00","        Z","        Z","        Z","        Z",9.4760000000000009,0,-11.679,1.716,123.405,64.48]
["  2019/03/07 17:00:00",1.57,7.1719999999999997,8.7449999999999992,32.792000000000002,10.343999999999999,0,-11.101000000000001,1.8939999999999999,139.58000000000001,63.854999999999997]
["  2019/03/07 18:00:00",0.97,7.9240000000000004,8.8949999999999996,32.409999999999997,11.914999999999999,0,-10.920999999999999,1.196,134.71299999999999,65.352999999999994]
["  2019/03/07 19:00:00",0.57599999999999996,7.375,7.952,32.694000000000003,11.997999999999999,0,-11.254,0.92600000000000005,135.36600000000001,67.171999999999997]
["  2019/03/07 20:00:00",0.88400000000000001,8.2739999999999991,9.1590000000000007,32.078000000000003,11.162000000000001,0,-12.497,0.90900000000000003,112.785,69.474000000000004]
["  2019/03/07 21:00:00",0.78100000000000003,9.2889999999999997,10.071,31.31,9.3539999999999992,0,-11.705,1.002,119.973,70.378]
["  2019/03/07 22:00:00",0.25600000000000001,5.86,6.117,34.1,6.6470000000000002,0,-11.734,1.4410000000000001,104.56,71.960999999999999]
["  2019/03/07 23:00:00",0.246,5.8780000000000001,6.125,33.749000000000002,7.0019999999999998,0,-11.441000000000001,1.641,104.58799999999999,72.400999999999996]
["  2019/03/08 00:00:00",0.35799999999999998,4.798,5.1550000000000002,34.344000000000001,8.6989999999999998,0,-10.996,1.51,103.38500000000001,72.787000000000006]
["  2019/03/08 01:00:00",0.746,7.35,8.0960000000000001,32.658999999999999,9.1219999999999999,0,-10.412000000000001,1.1950000000000001,105.511,73.144000000000005]
["  2019/03/08 02:00:00",0.437,6.3780000000000001,6.8159999999999998,33.545000000000002,9.33,0,-9.9570000000000007,1.097,102.492,73.052999999999997]
["  2019/03/08 03:00:00",0.73199999999999998,6.0049999999999999,6.7380000000000004,33.564,9.4060000000000006,0,-11.343999999999999,0.81699999999999995,108.22199999999999,73.433000000000007]
["  2019/03/08 04:00:00",0.96099999999999997,7.2240000000000002,8.1850000000000005,33.292000000000002,10.012,0,-12.387,0.99399999999999999,128.096,75.623000000000005]
["  2019/03/08 05:00:00",3.1619999999999999,18.771000000000001,21.934000000000001,27.791,10.176,0,-12.653,0.99299999999999999,143.62100000000001,75.525999999999996]
["  2019/03/08 06:00:00",2.3210000000000002,12.419,14.739000000000001,32.499000000000002,9.0109999999999992,0,-13.928000000000001,0.91,171.078,72.528999999999996]
["  2019/03/08 07:00:00",2.0409999999999999,6.859,8.9,35.347999999999999,6.774,0,-13,2.5819999999999999,208.64500000000001,70.863]
["  2019/03/08 08:00:00",1.333,5.2190000000000003,6.5510000000000002,36.304000000000002,12.939,0,-13.022,2.4009999999999998,210.14,72.488]
["  2019/03/08 09:00:00",1.706,4.625,6.3319999999999999,37.491,13.458,0,-12.09,3.4950000000000001,208.792,68.932000000000002]
["  2019/03/08 10:00:00",1.286,3.4390000000000001,4.7240000000000002,38.338999999999999,9.26,0,-11.162000000000001,4.306,214.97800000000001,64.605999999999995]
["  2019/03/08 11:00:00",1.9970000000000001,3.1680000000000001,5.1630000000000003,39.03,6.5069999999999997,0,-10.635,4.3029999999999999,214.86799999999999,61.927999999999997]
["  2019/03/08 12:00:00",1.64,3.6520000000000001,5.2919999999999998,39.722000000000001,6.2640000000000002,0,-9.8450000000000006,3.7360000000000002,215.74700000000001,60.195]
["  2019/03/08 13:00:00",2.6930000000000001,3.6989999999999998,6.3890000000000002,39.447000000000003,7.59,0,-9.2289999999999992,3.9460000000000002,215.03100000000001,59.311]
["  2019/03/08 14:00:00",2.0249999999999999,4.6440000000000001,6.6669999999999998,40.345999999999997,12.287000000000001,0,-8.5220000000000002,3.915,213.476,58.494999999999997]
["  2019/03/08 15:00:00","        Z","        Z","        Z","        Z",14.678000000000001,0,-7.7949999999999999,3.8090000000000002,216.65,59.634]
["  2019/03/08 16:00:00",0.93799999999999994,4.6100000000000003,5.5469999999999997,42.875999999999998,23.007000000000001,0,-7.7939999999999996,3.4729999999999999,216.15,60.481000000000002]
["  2019/03/08 17:00:00",1.619,6.89,8.5069999999999997,42.161000000000001,25.614000000000001,0,-8.1029999999999998,2.5019999999999998,218.59800000000001,61.447000000000003]
["  2019/03/08 18:00:00",1.1919999999999999,8.1120000000000001,9.3040000000000003,39.350999999999999,26.388000000000002,0,-9.2149999999999999,1.3959999999999999,214.15199999999999,61.426000000000002]
["  2019/03/08 19:00:00",0.42599999999999999,10.071,10.496,36.780999999999999,27.43,0,-10.151999999999999,1.2729999999999999,213.97,64.789000000000001]
["  2019/03/08 20:00:00",0.502,8.6300000000000008,9.1310000000000002,37.594999999999999,24.736999999999998,0,-10.483000000000001,1.617,215.065,68.111999999999995]
["  2019/03/08 21:00:00",0.84199999999999997,10.311999999999999,11.153,35.905999999999999,20.655999999999999,0,-11.513999999999999,1.6739999999999999,213.68700000000001,69.521000000000001]
["  2019/03/08 22:00:00",1.1419999999999999,7.774,8.9149999999999991,35.950000000000003,14.468999999999999,0,-10.760999999999999,2.0640000000000001,235.19399999999999,68.385999999999996]
["  2019/03/08 23:00:00",0.44800000000000001,5.8259999999999996,6.2720000000000002,36.375999999999998,13.026999999999999,0,-10.754,2.3919999999999999,240.10599999999999,68.533000000000001]
["  2019/03/09 00:00:00",0.92800000000000005,6.335,7.2619999999999996,36.356000000000002,12.103999999999999,0,-10.504,2.161,239.71299999999999,70.509]
["  2019/03/09 01:00:00",2.1779999999999999,7.7450000000000001,9.9220000000000006,34.328000000000003,10.593999999999999,0,-10.106999999999999,2.4929999999999999,238.399,70.915000000000006]
["  2019/03/09 02:00:00",0.997,6.6159999999999997,7.6130000000000004,35.841000000000001,9.6329999999999991,0,-9.9049999999999994,2.6429999999999998,247.62200000000001,71.325999999999993]
["  2019/03/09 03:00:00",2.0619999999999998,6.3449999999999998,8.4060000000000006,34.359000000000002,9.0129999999999999,0,-10.112,2.5649999999999999,254.56200000000001,72.343999999999994]
["  2019/03/09 04:00:00",1.619,5.827,7.444,34.421999999999997,7.8159999999999998,0,-10.041,2.3679999999999999,247.59800000000001,71.075999999999993]
["  2019/03/09 05:00:00",1.571,3.923,5.4909999999999997,35.579000000000001,4.2960000000000003,0,-11.206,2.258,252.726,71.25]
["  2019/03/09 06:00:00",0.65100000000000002,4.2590000000000003,4.9080000000000004,34.99,5.22,0,-11.664999999999999,1.972,236.11600000000001,74.673000000000002]
["  2019/03/09 07:00:00",0.19400000000000001,3.407,3.6,35.854999999999997,5.5869999999999997,0,-13.728,2.3660000000000001,211.32400000000001,74.867999999999995]
["  2019/03/09 08:00:00",1.1240000000000001,4.6509999999999998,5.7729999999999997,35.481999999999999,7.609,0,-13.282999999999999,2.7839999999999998,216.35599999999999,73.489000000000004]
["  2019/03/09 09:00:00",2.1920000000000002,6.5170000000000003,8.7070000000000007,35.134,7.8120000000000003,0,-11.686999999999999,2.1160000000000001,239.41800000000001,69.355000000000004]
["  2019/03/09 10:00:00",2.3260000000000001,4.8179999999999996,7.141,36.253999999999998,7.0750000000000002,0,-10.266,1.857,276.029,64.334999999999994]
["  2019/03/09 11:00:00",4.4269999999999996,7.1260000000000003,11.552,35.929000000000002,5.7439999999999998,0,-8.5299999999999994,3.1379999999999999,306.61500000000001,60.981999999999999]
["  2019/03/09 12:00:00",4.8319999999999999,6.3760000000000003,11.206,36.901000000000003,5.484,0,-6.2039999999999997,2.4510000000000001,287.97500000000002,56.377000000000002]
["  2019/03/09 13:00:00",4.3710000000000004,6.91,11.279,38.591000000000001,6.1050000000000004,0,-5.4779999999999998,2.8650000000000002,305.94900000000001,53.692999999999998]
["  2019/03/09 14:00:00","        Z","        Z","        Z","        Z",6.758,0,-5.0439999999999996,2.7709999999999999,322.34100000000001,52.125999999999998]
["  2019/03/09 15:00:00",2.2069999999999999,5.4089999999999998,7.6139999999999999,40.734000000000002,6.8979999999999997,0,-4.9589999999999996,3.2320000000000002,334.02800000000002,55.668999999999997]
["  2019/03/09 16:00:00",1.4770000000000001,5.016,6.4909999999999997,42.76,7.3550000000000004,0,-5.1849999999999996,2.883,322.90199999999999,54.064999999999998]
["  2019/03/09 17:00:00",0.93300000000000005,4.7270000000000003,5.6580000000000004,42.773000000000003,7.6849999999999996,0,-5.7990000000000004,2.7290000000000001,310.76499999999999,54.527000000000001]
["  2019/03/09 18:00:00",0.71299999999999997,5.9909999999999997,6.7030000000000003,40.789000000000001,10.128,0,-7.2320000000000002,1.7729999999999999,329.21100000000001,57.42]
["  2019/03/09 19:00:00",4.798,11,15.797000000000001,37.392000000000003,10.831,0,-8.8219999999999992,0.65500000000000003,277.82400000000001,59.792999999999999]
["  2019/03/09 20:00:00",1.431,15.590999999999999,17.021000000000001,29.646000000000001,15.731,0,-11.856999999999999,0.70099999999999996,186.059,64.171000000000006]
["  2019/03/09 21:00:00",1.139,10.721,11.859,32.378,13.372999999999999,0,-13.430999999999999,0.78100000000000003,193.43299999999999,68.042000000000002]
["  2019/03/09 22:00:00",0.34599999999999997,7.5270000000000001,7.8730000000000002,35.252000000000002,7.6689999999999996,0,-13.154999999999999,0.54900000000000004,213.29300000000001,67.662999999999997]
["  2019/03/09 23:00:00",0.97,10.055999999999999,11.025,34.399000000000001,7.266,0,-13.27,0.79600000000000004,270.49299999999999,68.319999999999993]
["  2019/03/10 00:00:00",0.29299999999999998,3.653,3.9460000000000002,38.475999999999999,6.8029999999999999,0,-13.757,0.92200000000000004,286.52800000000002,69.891000000000005]
["  2019/03/10 01:00:00",0.2,8.4269999999999996,8.6270000000000007,33.716000000000001,7.9160000000000004,0,-14.913,0.82399999999999995,291.71600000000001,70.019000000000005]
["  2019/03/10 02:00:00",1.1619999999999999,16.594000000000001,17.756,27.05,8.2149999999999999,0,-15.718999999999999,0.63600000000000001,291.56700000000001,68.504999999999995]
["  2019/03/10 03:00:00",0.74099999999999999,20.933,21.675000000000001,19.998999999999999,8.2669999999999995,0,-17.373999999999999,0.23899999999999999,229.01400000000001,63.304000000000002]
["  2019/03/10 04:00:00",1.107,18.649999999999999,19.757000000000001,20.501999999999999,8.8330000000000002,0,-19.167000000000002,0.57699999999999996,199.54599999999999,63.497]
["  2019/03/10 05:00:00",3.496,15.717000000000001,19.213999999999999,23.026,9.0809999999999995,0,-21.4,0.88900000000000001,189.42599999999999,65.186000000000007]
["  2019/03/10 06:00:00",4.3040000000000003,19.38,23.686,22.986999999999998,9.2840000000000007,0,-21.521999999999998,0.64500000000000002,201.28800000000001,68.286000000000001]
["  2019/03/10 07:00:00",2.4889999999999999,9.0500000000000007,11.54,31.111999999999998,9.7140000000000004,0,-21.856000000000002,0.64400000000000002,189.38900000000001,68.765000000000001]
["  2019/03/10 08:00:00",4.0960000000000001,10.28,14.375999999999999,30.779,8.8249999999999993,0,-19.960999999999999,0.68200000000000005,198.81299999999999,70.968999999999994]
["  2019/03/10 09:00:00",4.3689999999999998,8.1739999999999995,12.544,32.598999999999997,6.6559999999999997,0,-16.373999999999999,0.56499999999999995,262.58499999999998,69.025999999999996]
["  2019/03/10 10:00:00",5.9740000000000002,7.1349999999999998,13.11,33.228000000000002,4.1529999999999996,0,-13.712,0.66300000000000003,176.035,58.81]
["  2019/03/10 11:00:00",3.1930000000000001,5.22,8.4139999999999997,35.917000000000002,5.218,0,-13.507999999999999,1.0369999999999999,173.41800000000001,60.253999999999998]
["  2019/03/10 12:00:00",4.3159999999999998,6.6639999999999997,10.981999999999999,36.543999999999997,5.5810000000000004,0,-10.587999999999999,1.2629999999999999,188.45099999999999,59.177999999999997]
["  2019/03/10 13:00:00","        Z","        Z","        Z","        Z",6.4109999999999996,0,-9.2460000000000004,1.875,204.38499999999999,58.697000000000003]
["  2019/03/10 14:00:00",1.3089999999999999,3.6320000000000001,4.9429999999999996,42.843000000000004,6.9820000000000002,0,-8.0229999999999997,1.9950000000000001,201.95099999999999,58.146999999999998]
["  2019/03/10 15:00:00",1.34,4.46,5.8,45.908999999999999,8.6630000000000003,0,-7.9560000000000004,1.859,191.893,59.118000000000002]
["  2019/03/10 16:00:00",1.5229999999999999,5.1630000000000003,6.6879999999999997,46.973999999999997,7.8369999999999997,0,-8.1739999999999995,1.8160000000000001,184.739,61.198999999999998]
["  2019/03/10 17:00:00",0.754,3.9870000000000001,4.742,47.204999999999998,8.9220000000000006,0,-8.5239999999999991,1.744,189.285,62.652999999999999]
["  2019/03/10 18:00:00",0.58599999999999997,3.879,4.4660000000000002,47.389000000000003,10.522,0,-10.55,1.3520000000000001,187.28299999999999,65.997]
["  2019/03/10 19:00:00",0.55300000000000005,5.1859999999999999,5.7409999999999997,45.179000000000002,12.353999999999999,0,-12.726000000000001,1.077,185.44499999999999,69.790999999999997]
["  2019/03/10 20:00:00",1.0469999999999999,6.907,7.9550000000000001,42.404000000000003,12.068,0,-14.242000000000001,0.72399999999999998,183.13,70.063999999999993]
["  2019/03/10 21:00:00",1.6819999999999999,11.782,13.464,38.895000000000003,8.7569999999999997,0,-15.396000000000001,0.89400000000000002,177.32,71.182000000000002]
["  2019/03/10 22:00:00",1.4890000000000001,5.9539999999999997,7.444,42.006,9.2859999999999996,0,-15.92,1.01,176.56100000000001,72.614999999999995]
["  2019/03/10 23:00:00",2.363,8.0589999999999993,10.423,43.697000000000003,10.459,0,-14.755000000000001,0.91400000000000003,173.35,71.846999999999994]
["  2019/03/11 00:00:00",1.393,6.7709999999999999,8.1649999999999991,44.57,9.8160000000000007,0,-13.44,1.0489999999999999,174.07499999999999,70.38]
["  2019/03/11 01:00:00",0.84299999999999997,6.3780000000000001,7.2210000000000001,42.935000000000002,9.5779999999999994,0,-13.97,0.64100000000000001,181.46799999999999,68.796999999999997]
["  2019/03/11 02:00:00",1.9510000000000001,7.8159999999999998,9.7669999999999995,42.847999999999999,11.156000000000001,0,-13.821999999999999,0.748,168.36600000000001,70.97]
["  2019/03/11 03:00:00",2.2469999999999999,7.1260000000000003,9.3729999999999993,43.911999999999999,11.363,0,-13.468999999999999,0.97799999999999998,171.023,68.933000000000007]
["  2019/03/11 04:00:00",2.278,10.819000000000001,13.098000000000001,40.448999999999998,10.856,0,-13.38,0.63600000000000001,170.626,67.332999999999998]
["  2019/03/11 05:00:00",1.577,5.944,7.5220000000000002,42.658999999999999,8.9890000000000008,0,-13.606999999999999,0.73699999999999999,175.41,66.403999999999996]
["  2019/03/11 06:00:00",2.105,9.5760000000000005,11.682,40.045000000000002,7.7919999999999998,0,-12.59,0.57599999999999996,146.40299999999999,63.368000000000002]
["  2019/03/11 07:00:00",1.2450000000000001,7.3869999999999996,8.6319999999999997,40.353000000000002,6.0220000000000002,0,-11.87,0.95299999999999996,174.86500000000001,63.207999999999998]
["  2019/03/11 08:00:00",1.639,3.9990000000000001,5.6379999999999999,42.965000000000003,4.9829999999999997,0,-11.026,1.349,176.941,63.813000000000002]
["  2019/03/11 09:00:00",2.2250000000000001,5.9489999999999998,8.1760000000000002,42.076000000000001,4.0629999999999997,0,-9.0039999999999996,2.93,201.94499999999999,60.777999999999999]
["  2019/03/11 10:00:00",0.82599999999999996,3.2869999999999999,4.1139999999999999,42.933999999999997,3.68,0,-7.8579999999999997,3.2320000000000002,201.54,59.89]
["  2019/03/11 11:00:00",2.5499999999999998,4.9050000000000002,7.4550000000000001,42.094000000000001,3.3759999999999999,0,-6.2130000000000001,2.8719999999999999,208.26400000000001,59.091999999999999]
["  2019/03/11 12:00:00","        Z","        Z","        Z","        Z",3.2410000000000001,0,-4.5759999999999996,2.64,204.13399999999999,58.268999999999998]
["  2019/03/11 13:00:00",0.94599999999999995,3.927,4.8719999999999999,45.002000000000002,3.5459999999999998,0,-3.65,2.226,198.82,59.088000000000001]
["  2019/03/11 14:00:00",1.5009999999999999,4.532,6.032,46.639000000000003,4.1029999999999998,0,-1.98,1.962,185.94300000000001,58.938000000000002]
["  2019/03/11 15:00:00",1.4359999999999999,5.0890000000000004,6.5259999999999998,46.814999999999998,4.335,0,-1.03,2.5870000000000002,204.63499999999999,59.058]
["  2019/03/11 16:00:00",0.97799999999999998,4.4340000000000002,5.4130000000000003,47.279000000000003,3.8639999999999999,0,-0.38900000000000001,1.778,184.154,59.601999999999997]
["  2019/03/11 17:00:00",0.61899999999999999,3.7589999999999999,4.3760000000000003,47.735999999999997,4.4119999999999999,0,-1.1040000000000001,2.0790000000000002,196.071,62.070999999999998]
["  2019/03/11 18:00:00",0.61299999999999999,6.3179999999999996,6.9320000000000004,45.814,5.2869999999999999,0,-2.2149999999999999,1.728,191.82400000000001,64.284000000000006]
["  2019/03/11 19:00:00",0.68200000000000005,11.483000000000001,12.164,40.218000000000004,6.274,0,-3.4809999999999999,0.55400000000000005,152.09700000000001,67.78]
["  2019/03/11 20:00:00",0.45700000000000002,9.641,10.098000000000001,39.183999999999997,6.3460000000000001,0,-4.34,0.63300000000000001,110.729,69.03]
["  2019/03/11 21:00:00",0.35199999999999998,6.899,7.2510000000000003,41.244,5.8659999999999997,0,-4.3019999999999996,0.55700000000000005,122.672,70.039000000000001]
["  2019/03/11 22:00:00",8.2000000000000003E-2,7.0730000000000004,7.1539999999999999,40.909999999999997,5.1580000000000004,0,-3.5529999999999999,0.81100000000000005,141.506,70.036000000000001]
["  2019/03/11 23:00:00",0.13,4.2060000000000004,4.3380000000000001,42.076000000000001,4.335,0,-3.5960000000000001,0.54500000000000004,125.733,70.400000000000006]
["  2019/03/12 00:00:00",0.73299999999999998,10.82,11.552,35.036000000000001,3.3759999999999999,0,-2.923,0.57099999999999995,155.12100000000001,68.424000000000007]
["  2019/03/12 01:00:00",0.58799999999999997,6.0970000000000004,6.6849999999999996,39.033999999999999,2.3540000000000001,0,-2.0830000000000002,1.3149999999999999,189.863,66.688000000000002]
["  2019/03/12 02:00:00",0.52700000000000002,3.26,3.7869999999999999,41.189,2.262,0,-0.70899999999999996,2.702,200.749,64.680999999999997]
["  2019/03/12 03:00:00",-2E-3,2.2989999999999999,2.2970000000000002,41.265999999999998,2.2639999999999998,0,-0.872,2.8639999999999999,203.108,65.596999999999994]
["  2019/03/12 04:00:00",0.129,2.8290000000000002,2.956,40.203000000000003,2.266,0,-0.9,2.2250000000000001,208.15199999999999,66.444999999999993]
["  2019/03/12 05:00:00",0.02,3.133,3.153,39.311,2.31,0,-1.4159999999999999,1.8759999999999999,210.64099999999999,67.454999999999998]
["  2019/03/12 06:00:00",2.8050000000000002,7.3440000000000003,10.15,36.628999999999998,2.456,0,-1.5029999999999999,1.9059999999999999,232.31100000000001,69.262]
["  2019/03/12 07:00:00",0.78200000000000003,5.915,6.6980000000000004,36.606000000000002,2.63,0,-2.0750000000000002,1.466,270.68,70.936999999999998]
["  2019/03/12 08:00:00",6.1150000000000002,15.409000000000001,21.524000000000001,30.018999999999998,3.3069999999999999,0,-2.6840000000000002,0.96299999999999997,246.71100000000001,72.033000000000001]
["  2019/03/12 09:00:00",3.141,12.858000000000001,16,33.878,5.0019999999999998,0,-2.67,1.9670000000000001,251.48599999999999,71.373000000000005]
["  2019/03/12 10:00:00",6.0739999999999998,11.522,17.596,37.277000000000001,7.1710000000000003,0,-1.901,1.869,244.208,68.652000000000001]
["  2019/03/12 11:00:00","        Z","        Z","        Z","        Z",9.1440000000000001,0,-0.871,2.5779999999999998,265.37599999999998,65.518000000000001]
["  2019/03/12 12:00:00",4.1710000000000003,8.1839999999999993,12.353999999999999,42.6,10.602,0,0.53700000000000003,2.5489999999999999,262.238,60.084000000000003]
["  2019/03/12 13:00:00",3.0550000000000002,7.149,10.205,44.962000000000003,9.2620000000000005,0,1.6859999999999999,2.9620000000000002,262.786,57.470999999999997]
["  2019/03/12 14:00:00",3.7959999999999998,7.55,11.346,45.256,7.9059999999999997,0,2.9529999999999998,2.665,276.01400000000001,55.773000000000003]
["  2019/03/12 15:00:00",2.83,7.5949999999999998,10.425000000000001,47.533999999999999,6.6360000000000001,0,3.6840000000000002,2.327,258.19600000000003,55.226999999999997]
["  2019/03/12 16:00:00",2.661,6.6230000000000002,9.2829999999999995,47.503,3.919,0,3.762,2.3769999999999998,254.797,56.902999999999999]
["  2019/03/12 17:00:00",2.194,7.3,9.4949999999999992,46.68,4.6189999999999998,0,2.84,1.9790000000000001,255.911,62.341999999999999]
["  2019/03/12 18:00:00",3.6819999999999999,8.5890000000000004,12.272,45.2,5.9779999999999998,0,2.5230000000000001,1.2190000000000001,247.416,63.915999999999997]
["  2019/03/12 19:00:00",0.98399999999999999,7.3209999999999997,8.3049999999999997,45.856000000000002,4.9909999999999997,0,1.976,2.1930000000000001,299.85300000000001,64.433999999999997]
["  2019/03/12 20:00:00",2.5390000000000001,10.516999999999999,13.054,45.225000000000001,4.1029999999999998,0,1.7609999999999999,2.234,248.739,64.596999999999994]
["  2019/03/12 21:00:00",0.94,10.255000000000001,11.195,44.600999999999999,4.4160000000000004,0,1.33,2.0169999999999999,235.684,67.061999999999998]
["  2019/03/12 22:00:00",2.1579999999999999,6.56,8.7159999999999993,45.722999999999999,4.9329999999999998,0,0.95699999999999996,1.891,239.48599999999999,69.049000000000007]
["  2019/03/12 23:00:00",0.85699999999999998,5.1159999999999997,5.9720000000000004,46.027000000000001,4.4640000000000004,0,0.69199999999999995,1.7929999999999999,253.39500000000001,70.099999999999994]
["  2019/03/13 00:00:00",2.2010000000000001,7.8150000000000004,10.013999999999999,42.582000000000001,4.1719999999999997,0,5.3999999999999999E-2,1.43,285.529,71.930999999999997]
["  2019/03/13 01:00:00",0.14699999999999999,8.4700000000000006,8.6159999999999997,39.982999999999997,4.6440000000000001,0,-0.59099999999999997,1.522,295.08699999999999,73.637]
["  2019/03/13 02:00:00",0.12,8.3209999999999997,8.44,38.308999999999997,4.907,0,-0.90600000000000003,1.903,304.82799999999997,74.478999999999999]
["  2019/03/13 03:00:00",0.14199999999999999,7.2670000000000003,7.4080000000000004,38.055999999999997,6.35,0,-1.2769999999999999,2.1579999999999999,311.59899999999999,74.92]
["  2019/03/13 04:00:00",2.5999999999999999E-2,7.0659999999999998,7.0919999999999996,37.104999999999997,6.1310000000000002,0,-1.474,1.9,311.12200000000001,74.846999999999994]
["  2019/03/13 05:00:00",0.48099999999999998,7.258,7.7380000000000004,36.947000000000003,6.6040000000000001,0,-1.544,1.8819999999999999,313.69499999999999,74.988]
["  2019/03/13 06:00:00",0.21299999999999999,5.09,5.3019999999999996,39.807000000000002,5.468,0,-0.54500000000000004,1.5249999999999999,315.77699999999999,73.474999999999994]
["  2019/03/13 07:00:00",0.73,6.8860000000000001,7.6139999999999999,36.970999999999997,4.8239999999999998,0,-0.96099999999999997,2.16,307.86500000000001,74.811000000000007]
["  2019/03/13 08:00:00",3.0049999999999999,11.343,14.346,32.826999999999998,4.0970000000000004,0,-0.96599999999999997,1.581,333.90199999999999,73.843000000000004]
["  2019/03/13 09:00:00",2.9359999999999999,8.7870000000000008,11.722,35.573,2.8860000000000001,0,0.39600000000000002,1.389,349.63299999999998,68.320999999999998]
["  2019/03/13 10:00:00","        Z","        Z","        Z","        Z",3.4780000000000002,0,1.034,2.3620000000000001,7.2270000000000003,65.873000000000005]
["  2019/03/13 11:00:00","        C","        C","        C","        C","        C",0,1.798,3.3439999999999999,8.8290000000000006,63.055]
["  2019/03/13 12:00:00","        C","        C","        C","        C","        C",0,1.9330000000000001,3.2440000000000002,5.7270000000000003,62.247999999999998]
["  2019/03/13 13:00:00","        C","        C","        C","        C","        C",0,2.5990000000000002,2.39,345.565,62.401000000000003]
["  2019/03/13 14:00:00","        C","        C","        C","        C","        C",0,2.7010000000000001,2.8370000000000002,316.97899999999998,61.085999999999999]
["  2019/03/13 15:00:00","        C","        C","        C","        C","        C",0,3.3380000000000001,2.371,341.68700000000001,58.234999999999999]
["  2019/03/13 16:00:00","        C","        C","        C","        C","        C",0,3.3639999999999999,2.2349999999999999,334.88400000000001,56.747]
["  2019/03/13 17:00:00","        C","        C","        C","        C","        C",0,3.2919999999999998,1.5840000000000001,330.21600000000001,56.042999999999999]
["  2019/03/13 18:00:00",0.89400000000000002,5.5890000000000004,6.4809999999999999,43.811999999999998,1.8779999999999999,0,2.161,2.2930000000000001,311.02300000000002,58.94]
["  2019/03/13 19:00:00",0.996,9.0009999999999994,9.9949999999999992,40.704999999999998,1.635,0,0.30499999999999999,1.6559999999999999,301.68099999999998,64.367999999999995]
["  2019/03/13 20:00:00",0.749,10.23,10.977,39.198,1.5660000000000001,0,-0.82,1.425,294.18900000000002,64.287000000000006]
["  2019/03/13 21:00:00",1.8089999999999999,9.6620000000000008,11.471,38.945999999999998,1.2809999999999999,0,-1.696,1.028,271.48700000000002,66.037000000000006]
["  2019/03/13 22:00:00",2.31,12.353,14.661,37.680999999999997,1.2290000000000001,0,-2.3370000000000002,1.335,263.40699999999998,68.483000000000004]
["  2019/03/13 23:00:00",1.4059999999999999,10.042,11.448,40.731999999999999,1.381,0,-3.0750000000000002,1.369,269.62700000000001,69.861999999999995]
["  2019/03/14 00:00:00",0.64500000000000002,8.89,9.5350000000000001,42.247,1.633,0,-4.4509999999999996,1.9339999999999999,299.11599999999999,72.066999999999993]
["  2019/03/14 01:00:00",0.28000000000000003,6.9640000000000004,7.2439999999999998,44.747,2.0699999999999998,0,-5.1559999999999997,2.0979999999999999,303.49,73.572000000000003]
["  2019/03/14 02:00:00",1.1399999999999999,11.73,12.869,39.973999999999997,2.4740000000000002,0,-5.5380000000000003,1.07,284.37900000000002,73.048000000000002]
["  2019/03/14 03:00:00",1.2949999999999999,7.4550000000000001,8.7490000000000006,45.944000000000003,2.6739999999999999,0,-5.67,1.371,268.68900000000002,72.656000000000006]
["  2019/03/14 04:00:00",1.2170000000000001,8.0760000000000005,9.2929999999999993,44.463999999999999,2.734,0,-6.4969999999999999,1.234,266.84199999999998,72.608999999999995]
["  2019/03/14 05:00:00",2.113,12.37,14.481999999999999,38.159999999999997,2.7930000000000001,0,-7.8570000000000002,1.3049999999999999,232.89599999999999,73.239000000000004]
["  2019/03/14 06:00:00",1.363,6.6130000000000004,7.976,40.585999999999999,2.5230000000000001,0,-10.282999999999999,1.85,214.874,75.021000000000001]
["  2019/03/14 07:00:00",1.2769999999999999,5.3090000000000002,6.5860000000000003,43.033000000000001,2.3740000000000001,0,-10.597,2.5609999999999999,211.43700000000001,73.138000000000005]
["  2019/03/14 08:00:00",1.1930000000000001,5.0209999999999999,6.2140000000000004,43.082000000000001,2.4180000000000001,0,-9.6259999999999994,2.2389999999999999,207.72,70.25]
["  2019/03/14 09:00:00","        Z","        Z","        Z","        Z",2.4009999999999998,0,-7.1849999999999996,1.97,215.50700000000001,66.566000000000003]
["  2019/03/14 10:00:00",2.6589999999999998,6.0830000000000002,8.7420000000000009,44.478000000000002,3.4470000000000001,0,-4.601,1.7490000000000001,237.047,62.185000000000002]
["  2019/03/14 11:00:00",3.0750000000000002,5.8070000000000004,8.8810000000000002,48.908999999999999,3.956,0,-2.157,2.1150000000000002,278.03699999999998,58.401000000000003]
["  2019/03/14 12:00:00",4.2050000000000001,7.6130000000000004,11.818,50.052999999999997,3.5910000000000002,0,0.44,1.97,270.88499999999999,56.232999999999997]
["  2019/03/14 13:00:00",6.2489999999999997,9.9969999999999999,16.245000000000001,51.573999999999998,3.1709999999999998,0,1.2410000000000001,2.3479999999999999,254.28200000000001,55.825000000000003]
["  2019/03/14 14:00:00",5.54,9.6419999999999995,15.182,51.851999999999997,3.3919999999999999,0,2.085,2.202,254.934,56.356000000000002]
["  2019/03/14 15:00:00",3.903,6.4009999999999998,10.304,52.783999999999999,3.093,0,2.6779999999999999,2.9929999999999999,303.64,56.64]
["  2019/03/14 16:00:00",1.6839999999999999,4.6920000000000002,6.375,55.237000000000002,2.448,0,2.2949999999999999,3.5489999999999999,311.52300000000002,57.267000000000003]
["  2019/03/14 17:00:00",1.319,5.1929999999999996,6.5119999999999996,53.972000000000001,2.1840000000000002,0,2.1080000000000001,2.9950000000000001,313.452,58.005000000000003]
["  2019/03/14 18:00:00",3.0070000000000001,8.1210000000000004,11.125,49.47,2.4670000000000001,0,1.095,2.0859999999999999,307.67599999999999,61.182000000000002]
["  2019/03/14 19:00:00",0.81100000000000005,8.5039999999999996,9.3119999999999994,45.377000000000002,1.506,0,-0.69099999999999995,1.127,293.077,65.111000000000004]
["  2019/03/14 20:00:00",1.3740000000000001,8.109,9.48,43.207000000000001,1.196,0,-1.921,0.96399999999999997,268.19,67.981999999999999]
["  2019/03/14 21:00:00",1.07,8.0410000000000004,9.1059999999999999,42.825000000000003,1.8620000000000001,0,-2.9279999999999999,0.61799999999999999,235.14400000000001,70.387]
["  2019/03/14 22:00:00",1.2,7.0960000000000001,8.2940000000000005,51.012,2.6819999999999999,0,-3.3290000000000002,1.4790000000000001,234.03,72.355999999999995]
["  2019/03/14 23:00:00",0.83699999999999997,5.4690000000000003,6.3029999999999999,50.430999999999997,2.9740000000000002,0,-4.952,1.236,222.38900000000001,74.203000000000003]
["  2019/03/15 00:00:00",0.60699999999999998,6.1130000000000004,6.718,45.968000000000004,3.798,0,-7.319,0.80800000000000005,193.31899999999999,76.302999999999997]
["  2019/03/15 01:00:00",0.70499999999999996,5.7690000000000001,6.47,44.884,3.81,0,-8.9770000000000003,0.93899999999999995,178.69900000000001,77.233000000000004]
["  2019/03/15 02:00:00",1.2529999999999999,6.89,8.1389999999999993,44.261000000000003,3.0059999999999998,0,-10.208,1.5640000000000001,190.27500000000001,78.25]
["  2019/03/15 03:00:00",0.17100000000000001,3.387,3.556,48.070999999999998,2.7349999999999999,0,-9.3930000000000007,2.016,205.898,78.317999999999998]
["  2019/03/15 04:00:00",0.71599999999999997,5.85,6.5620000000000003,44.786999999999999,2.6030000000000002,0,-9.6980000000000004,1.819,213.017,77.744]
["  2019/03/15 05:00:00",0.61699999999999999,5.117,5.7309999999999999,44.307000000000002,2.5910000000000002,0,-10.1,1.7450000000000001,205.595,76.852999999999994]
["  2019/03/15 06:00:00",2.722,8.2430000000000003,10.961,40.01,2.657,0,-10.257,1.3520000000000001,193.21600000000001,77.463999999999999]
["  2019/03/15 07:00:00",1.0660000000000001,6.8209999999999997,7.883,39.536999999999999,2.8620000000000001,0,-10.377000000000001,1.097,189.411,77.241]
["  2019/03/15 08:00:00","        Z","        Z","        Z","        Z",3.1659999999999999,0,-9.5890000000000004,1.0369999999999999,176.999,77.727999999999994]
["  2019/03/15 09:00:00",3.2349999999999999,6.9320000000000004,10.161,40.244999999999997,3.8279999999999998,0,-7.5259999999999998,1.2789999999999999,203.81,77.161000000000001]
["  2019/03/15 10:00:00",0.99399999999999999,5.1870000000000003,6.1769999999999996,45.65,4.0110000000000001,0,-5.6020000000000003,1.2849999999999999,185.63399999999999,74.631]
["  2019/03/15 11:00:00",1.8080000000000001,5.7889999999999997,7.593,47.991999999999997,4.1340000000000003,0,-3.6280000000000001,1.137,177.22800000000001,71.435000000000002]
["  2019/03/15 12:00:00",1.3440000000000001,5.9429999999999996,7.2830000000000004,51.781999999999996,4.1509999999999998,0,-1.6859999999999999,1.33,179.05600000000001,67.703000000000003]
["  2019/03/15 13:00:00",0.96299999999999997,4.8239999999999998,5.7839999999999998,55.152000000000001,3.7930000000000001,0,0.19800000000000001,1.637,200.2,63.143999999999998]
["  2019/03/15 14:00:00",0.44700000000000001,3.7530000000000001,4.1959999999999997,58.972999999999999,3.02,0,1.377,1.419,193.58,60.37]
["  2019/03/15 15:00:00",0.78200000000000003,4.4560000000000004,5.2370000000000001,56.609000000000002,3.1219999999999999,0,1.663,1.371,174.71799999999999,62.308999999999997]
["  2019/03/15 16:00:00",0.33100000000000002,3.5790000000000002,3.907,55.402000000000001,3.6760000000000002,0,2.0830000000000002,1.5760000000000001,183.90799999999999,62.612000000000002]
["  2019/03/15 17:00:00",0.57099999999999995,3.726,4.2930000000000001,53.759,4.21,0,1.7729999999999999,1.647,197.64400000000001,64.558999999999997]
["  2019/03/15 18:00:00",0.71,5.0209999999999999,5.73,52.744999999999997,3.867,0,1.226,1.74,205.09299999999999,60.59]
["  2019/03/15 19:00:00",0.66800000000000004,6.9790000000000001,7.6449999999999996,48.487000000000002,3.3220000000000001,0,-0.45500000000000002,1.671,207.40899999999999,64.597999999999999]
["  2019/03/15 20:00:00",0.623,4.532,5.1529999999999996,48.866999999999997,4.1779999999999999,0,-2.1379999999999999,1.649,212.14099999999999,71.694000000000003]
["  2019/03/15 21:00:00",0.55600000000000005,7.13,7.6849999999999996,51.11,6.56,0,-3.3210000000000002,1.67,208.113,75.94]
["  2019/03/15 22:00:00",0.379,5.3159999999999998,5.6950000000000003,50.905999999999999,7.4569999999999999,0,-4.1360000000000001,1.59,212.74,77.727000000000004]
["  2019/03/15 23:00:00",0.64300000000000002,7.11,7.7530000000000001,48.698,6.83,0,-4.6769999999999996,1.772,216.83799999999999,77.25]
["  2019/03/16 00:00:00",0.41699999999999998,6.367,6.7850000000000001,49.868000000000002,4.3689999999999998,0,-4.7839999999999998,1.274,220.626,73.638000000000005]
["  2019/03/16 01:00:00",1.147,6.0279999999999996,7.1760000000000002,51.639000000000003,3.3210000000000002,0,-4.5590000000000002,1.903,241.59700000000001,72.123999999999995]
["  2019/03/16 02:00:00",1.054,7.0789999999999997,8.1340000000000003,49.369,2.9249999999999998,0,-5.3929999999999998,1.7909999999999999,230.36699999999999,72.525999999999996]
["  2019/03/16 03:00:00",0.29099999999999998,4.1749999999999998,4.4669999999999996,49.256999999999998,2.5230000000000001,0,-6.6340000000000003,1.893,213.393,73.472999999999999]
["  2019/03/16 04:00:00",0.502,4.0869999999999997,4.59,47.033999999999999,2.617,0,-7.95,1.9159999999999999,205.988,74.671999999999997]
["  2019/03/16 05:00:00",0.98,4.9109999999999996,5.891,45.121000000000002,2.5409999999999999,0,-8.8160000000000007,1.756,208.15199999999999,74.286000000000001]
["  2019/03/16 06:00:00",0.67900000000000005,4.3120000000000003,4.992,45.866999999999997,2.2629999999999999,0,-9.3160000000000007,2.0379999999999998,210.17599999999999,73.725999999999999]
["  2019/03/16 07:00:00","        Z","        Z","        Z","        Z",2.016,0,-9.9450000000000003,2.4510000000000001,209.50899999999999,73.53]
["  2019/03/16 08:00:00",0.95499999999999996,4.1310000000000002,5.0869999999999997,45.414000000000001,1.776,0,-9.0229999999999997,2.5150000000000001,208.99299999999999,70.284000000000006]
["  2019/03/16 09:00:00",1.484,4.3479999999999999,5.8330000000000002,47.488999999999997,1.956,0,-6.891,2.734,212.11099999999999,66.495000000000005]
["  2019/03/16 10:00:00",0.999,3.0750000000000002,4.0759999999999996,50.784999999999997,2.1749999999999998,0,-3.9239999999999999,2.3769999999999998,220.34800000000001,60.183999999999997]
["  2019/03/16 11:00:00",2.6779999999999999,5.226,7.907,51.588999999999999,2.0950000000000002,0,-1.3280000000000001,2.2970000000000002,234.899,53.698]
["  2019/03/16 12:00:00",2.0779999999999998,4.4989999999999997,6.5780000000000003,54.643999999999998,2.62,0,0.255,2.5790000000000002,233.11600000000001,50.869]
["  2019/03/16 13:00:00",1.768,3.7410000000000001,5.51,56.65,2.6949999999999998,0,1.6679999999999999,2.484,241.33,49.701000000000001]
["  2019/03/16 14:00:00",1,3.391,4.391,58.316000000000003,2.774,0,3.016,2.5619999999999998,255.625,48.500999999999998]
["  2019/03/16 15:00:00",1.3080000000000001,3.718,5.0279999999999996,58.933999999999997,2.8820000000000001,0,3.5630000000000002,2.3929999999999998,256.47800000000001,48.46]
["  2019/03/16 16:00:00",1.1359999999999999,3.5019999999999998,4.6399999999999997,60.283999999999999,2.9649999999999999,0,3.125,2.7269999999999999,254.536,51.518999999999998]
["  2019/03/16 17:00:00",2.1880000000000002,6.0380000000000003,8.2279999999999998,57.628999999999998,3.2770000000000001,0,2.8690000000000002,2.3109999999999999,253.01900000000001,54.091999999999999]
["  2019/03/16 18:00:00",1.49,5.1230000000000002,6.6130000000000004,58.322000000000003,3.4620000000000002,0,1.911,1.9770000000000001,251.02199999999999,56.588000000000001]
["  2019/03/16 19:00:00",1.508,5.6849999999999996,7.1929999999999996,56.85,5.0170000000000003,0,-7.2999999999999995E-2,1.5780000000000001,252.571,62.460999999999999]
["  2019/03/16 20:00:00",0.629,6.1109999999999998,6.7409999999999997,52.277000000000001,4.1609999999999996,0,-1.847,0.75800000000000001,206.55699999999999,66.463999999999999]
["  2019/03/16 21:00:00",0.50700000000000001,5.81,6.3179999999999996,51.063000000000002,3.7450000000000001,0,-3.367,1.2909999999999999,209.92,69.540000000000006]
["  2019/03/16 22:00:00",0.90300000000000002,7.1970000000000001,8.1,51.72,5.9790000000000001,0,-3.3159999999999998,1.3779999999999999,244.398,68.45]
["  2019/03/16 23:00:00",1.804,8.7319999999999993,10.536,49.609000000000002,7.9320000000000004,0,-3.6339999999999999,1.161,258.73099999999999,67.733999999999995]
["  2019/03/17 00:00:00",1.609,10.423999999999999,12.032999999999999,42.594000000000001,6.1449999999999996,0,-6.0659999999999998,0.621,199.46299999999999,69.688000000000002]
["  2019/03/17 01:00:00",0.42699999999999999,5.907,6.3339999999999996,42.192999999999998,3.8650000000000002,0,-7.9130000000000003,0.97799999999999998,203.98699999999999,75.81]
["  2019/03/17 02:00:00",0.36899999999999999,4.702,5.0720000000000001,45.545000000000002,3.6190000000000002,0,-8.1750000000000007,0.99099999999999999,201.72800000000001,75.123000000000005]
["  2019/03/17 03:00:00",0.34899999999999998,6.6109999999999998,6.9610000000000003,43.557000000000002,3.375,0,-8.9009999999999998,1.232,205.19,75.343000000000004]
["  2019/03/17 04:00:00",1.38,7.1740000000000004,8.5540000000000003,44.136000000000003,3.4089999999999998,0,-9.7690000000000001,1.9350000000000001,207.72399999999999,75.741]
["  2019/03/17 05:00:00",0.50800000000000001,4.4710000000000001,4.9779999999999998,45.866999999999997,3.34,0,-10.535,1.569,197.364,74.745000000000005]
["  2019/03/17 06:00:00","        Z","        Z","        Z","        Z",3.0910000000000002,0,-11.973000000000001,1.48,188.26499999999999,75.626000000000005]
["  2019/03/17 07:00:00",1.171,6.6239999999999997,7.7949999999999999,41.44,2.9020000000000001,0,-11.641999999999999,1.754,196.751,75.697999999999993]
["  2019/03/17 08:00:00",1.7629999999999999,5.2240000000000002,6.9870000000000001,47.241,3.532,0,-9.4860000000000007,2.278,208.13399999999999,72.251999999999995]
["  2019/03/17 09:00:00",0.85799999999999998,4.6120000000000001,5.4690000000000003,48.216999999999999,3.7890000000000001,0,-7.2869999999999999,1.956,211.637,68.302999999999997]
["  2019/03/17 10:00:00",0.80700000000000005,4.4139999999999997,5.22,49.707000000000001,4.2809999999999997,0,-4.5739999999999998,2.1150000000000002,208.958,64.346999999999994]
["  2019/03/17 11:00:00",0.88400000000000001,4.4530000000000003,5.335,51.796999999999997,4.274,0,-1.93,2.0760000000000001,206.77799999999999,60.759]
["  2019/03/17 12:00:00",1.2849999999999999,4.8550000000000004,6.1379999999999999,54.173999999999999,4.5369999999999999,0,0.74299999999999999,2.3180000000000001,211.97900000000001,57.683]
["  2019/03/17 13:00:00",0.73899999999999999,5.3230000000000004,6.0609999999999999,61.287999999999997,4.3150000000000004,0,2.1659999999999999,2.58,214.21199999999999,53.848999999999997]
["  2019/03/17 14:00:00",0.625,3.7589999999999999,4.3840000000000003,64.659000000000006,3.214,0,3.3130000000000002,2.74,212.90199999999999,51.59]
["  2019/03/17 15:00:00",0.27900000000000003,3.2370000000000001,3.5150000000000001,67.144999999999996,4.2359999999999998,0,3.8180000000000001,2.7669999999999999,213.339,51.411000000000001]
["  2019/03/17 16:00:00",0.60799999999999998,3.956,4.5620000000000003,66.046000000000006,5.8330000000000002,0,3.9249999999999998,2.7240000000000002,210.124,52.19]
["  2019/03/17 17:00:00",0.96299999999999997,5.5960000000000001,6.556,58.872,4.0090000000000003,0,3.218,2.5209999999999999,210.92599999999999,55.93]
["  2019/03/17 18:00:00",1.5449999999999999,5.4870000000000001,7.03,53.033999999999999,3.7589999999999999,0,2.855,2.516,212.005,60.454999999999998]
["  2019/03/17 19:00:00",0.50800000000000001,4.3220000000000001,4.827,48.576000000000001,3.5470000000000002,0,1.736,2.278,204.411,67.593999999999994]
["  2019/03/17 20:00:00",0.313,3.0129999999999999,3.3220000000000001,45.96,2.5179999999999998,0,0.62,2.407,203.2,71.430999999999997]
["  2019/03/17 21:00:00",0.39,3.387,3.774,46.298000000000002,2.137,0,0.13900000000000001,2.4380000000000002,207.654,73.052999999999997]
["  2019/03/17 22:00:00",0.48299999999999998,2.8980000000000001,3.38,45.182000000000002,2.2650000000000001,0,-0.193,2.331,211.02,72.328000000000003]
["  2019/03/17 23:00:00",0.23300000000000001,2.2120000000000002,2.4409999999999998,45.896999999999998,2.85,0,-0.49199999999999999,2.37,210.27699999999999,72.796000000000006]
["  2019/03/18 00:00:00",0.123,3.012,3.1309999999999998,44.777000000000001,4.4189999999999996,0,-0.97099999999999997,2.5670000000000002,211.56899999999999,74.805000000000007]
["  2019/03/18 01:00:00",0.17499999999999999,3.222,3.3919999999999999,43.091000000000001,5.8310000000000004,0,-1.677,1.86,212.99100000000001,76.644000000000005]
["  2019/03/18 02:00:00",1.3009999999999999,5.5380000000000003,6.835,40.031999999999996,7.149,0,-2.464,1.613,211.511,78.108999999999995]
["  2019/03/18 03:00:00",0.14399999999999999,3.3250000000000002,3.4649999999999999,43.121000000000002,8.5239999999999991,0,-2.2919999999999998,2.242,208.9,78.075999999999993]
["  2019/03/18 04:00:00",0.47299999999999998,4.452,4.92,41.679000000000002,9.4510000000000005,0,-2.5649999999999999,1.889,211.87700000000001,77.747]
["  2019/03/18 05:00:00","        Z","        Z","        Z","        Z",9.9049999999999994,0,-2.77,2.206,219.43,77.429000000000002]
["  2019/03/18 06:00:00",1.5009999999999999,7.0380000000000003,8.5340000000000007,43.319000000000003,9.2919999999999998,0,-2.6240000000000001,2.1779999999999999,240.572,75.650000000000006]
["  2019/03/18 07:00:00",1.4990000000000001,6.0519999999999996,7.5460000000000003,47.164999999999999,8.4689999999999994,0,-2.4340000000000002,2.3199999999999998,247.92599999999999,73.956999999999994]
["  2019/03/18 08:00:00",5.4580000000000002,12.669,18.122,43.137999999999998,6.9050000000000002,0,-1.3,2.6070000000000002,295.13200000000001,71.004999999999995]
["  2019/03/18 09:00:00",3.3029999999999999,8.218,11.516,48.473999999999997,4.7089999999999996,0,0.192,3.8319999999999999,310.63200000000001,67.575999999999993]
["  2019/03/18 10:00:00",2.516,7.4,9.9109999999999996,51.088000000000001,4.0259999999999998,0,1.925,3.8140000000000001,318.70400000000001,63.128999999999998]
["  2019/03/18 11:00:00",2.359,6.4989999999999997,8.8539999999999992,52.695,3.6120000000000001,0,2.952,3.41,322.56599999999997,60.856000000000002]
["  2019/03/18 12:00:00",1.5229999999999999,4.1029999999999998,5.6219999999999999,54.006,2.278,0,4.4809999999999999,3.6859999999999999,330.56099999999998,56.764000000000003]
["  2019/03/18 13:00:00",1.091,3.6419999999999999,4.7300000000000004,53.360999999999997,2.0179999999999998,0,5.7279999999999998,2.4129999999999998,350.01100000000002,53.988999999999997]
["  2019/03/18 14:00:00",1.853,4.5670000000000002,6.4160000000000004,53.956000000000003,2.4849999999999999,0,6.2190000000000003,2.8530000000000002,327.19,52.238999999999997]
["  2019/03/18 15:00:00",2.859,5.9180000000000001,8.7720000000000002,53.52,3.2829999999999999,0,6.3940000000000001,2.988,315.36799999999999,51.951999999999998]
["  2019/03/18 16:00:00",1.425,4.8869999999999996,6.3079999999999998,54.305999999999997,2.9350000000000001,0,6.3049999999999997,2.9209999999999998,314.17700000000002,52.134999999999998]
["  2019/03/18 17:00:00",1.431,5.8620000000000001,7.2889999999999997,52.957000000000001,2.9820000000000002,0,5.8090000000000002,2.5350000000000001,316.40899999999999,54.566000000000003]
["  2019/03/18 18:00:00",1.21,8.4589999999999996,9.6649999999999991,49.35,2.855,0,4.2389999999999999,1.79,303.31799999999998,60.557000000000002]
["  2019/03/18 19:00:00",0.64900000000000002,9.609,10.255000000000001,46.334000000000003,2.5489999999999999,0,2.5870000000000002,1.393,301.428,64.418000000000006]
["  2019/03/18 20:00:00",1.798,11.352,13.148,43.21,2.9510000000000001,0,1.552,0.99199999999999999,276.88099999999997,66.561000000000007]
["  2019/03/18 21:00:00",1.161,7.2160000000000002,8.3729999999999993,46.505000000000003,3.1139999999999999,0,0.77900000000000003,0.81499999999999995,234.80699999999999,68.227999999999994]
["  2019/03/18 22:00:00",0.54,6.569,7.1059999999999999,45.622,2.738,0,-0.28599999999999998,1.048,217.77600000000001,70.375]
["  2019/03/18 23:00:00",0.19900000000000001,4.218,4.4130000000000003,45.752000000000002,3.056,0,-1.6519999999999999,1.8959999999999999,210.553,75.236000000000004]
["  2019/03/19 00:00:00",0.67,5.41,6.0780000000000003,42.984000000000002,3.72,0,-2.5529999999999999,1.9039999999999999,208.73099999999999,77.888000000000005]
["  2019/03/19 01:00:00",0.10100000000000001,3.3380000000000001,3.4350000000000001,45.912999999999997,4.4409999999999998,0,-2.903,2.254,210.51,78.082999999999998]
["  2019/03/19 02:00:00",0.83299999999999996,4.3959999999999999,5.2240000000000002,44.259,4.1639999999999997,0,-3.3010000000000002,2.4089999999999998,202.898,77.863]
["  2019/03/19 03:00:00",0.77500000000000002,3.6019999999999999,4.3719999999999999,45.405999999999999,3.7029999999999998,0,-3.42,2.6739999999999999,208.874,77.866]
["  2019/03/19 04:00:00","        Z","        Z","        Z","        Z",3.8610000000000002,0,-3.5030000000000001,2.331,207.57900000000001,77.001000000000005]
["  2019/03/19 05:00:00",0.86699999999999999,3.4159999999999999,4.28,44.274000000000001,4.1840000000000002,0,-3.2879999999999998,2.4079999999999999,208.21199999999999,76.584999999999994]
["  2019/03/19 06:00:00",0.63400000000000001,3.7229999999999999,4.3540000000000001,42.826000000000001,4.6520000000000001,0,-3.12,2.661,209.83199999999999,77.406999999999996]
["  2019/03/19 07:00:00",0.67,4.4660000000000002,5.133,41.258000000000003,4.8570000000000002,0,-2.6909999999999998,2.9020000000000001,211.154,76.921000000000006]
["  2019/03/19 08:00:00",0.875,3.7210000000000001,4.593,41.959000000000003,4.6929999999999996,0,-1.42,2.9409999999999998,211.33099999999999,73.677999999999997]
["  2019/03/19 09:00:00",1.014,3.9910000000000001,5.0019999999999998,44.686,4.8380000000000001,0,1.111,2.968,224.32400000000001,68.284999999999997]
["  2019/03/19 10:00:00",1.881,5.3979999999999997,7.2779999999999996,49.107999999999997,5.04,0,3.7410000000000001,3.0310000000000001,234.13800000000001,60.109000000000002]
["  2019/03/19 11:00:00",1.2609999999999999,4.4790000000000001,5.7359999999999998,53.924999999999997,5.4240000000000004,0,5.665,2.9079999999999999,235.09200000000001,55.220999999999997]
["  2019/03/19 12:00:00",1.171,4.1989999999999998,5.367,57.847000000000001,5.4370000000000003,0,7.1349999999999998,2.3180000000000001,260.02699999999999,51.633000000000003]
["  2019/03/19 13:00:00",1.929,6.6909999999999998,8.6180000000000003,60.417999999999999,5.5140000000000002,0,7.9939999999999998,2.2320000000000002,257.69299999999998,49.747]
["  2019/03/19 14:00:00",1.048,4.931,5.976,63.536000000000001,5.3259999999999996,0,8.4339999999999993,2.9220000000000002,248.18299999999999,50.174999999999997]
["  2019/03/19 15:00:00",2.2679999999999998,6.54,8.8070000000000004,63.859000000000002,4.9980000000000002,0,8.8989999999999991,2.9329999999999998,249.69300000000001,49.548999999999999]
["  2019/03/19 16:00:00",2.3809999999999998,8.9860000000000007,11.364000000000001,65.745000000000005,3.5880000000000001,0,9.15,2.8210000000000002,257.69400000000002,47.65]
["  2019/03/19 17:00:00",2.137,10.686999999999999,12.823,63.155999999999999,4.1239999999999997,0,8.5329999999999995,1.85,260.791,50.847999999999999]
["  2019/03/19 18:00:00",1.66,14.015000000000001,15.672000000000001,57.503,4.49,0,7.0220000000000002,1.38,261.036,55.186]
["  2019/03/19 19:00:00",0.90800000000000003,12.102,13.007,56.106000000000002,3.8490000000000002,0,4.577,0.97599999999999998,267.471,62.241999999999997]
["  2019/03/19 20:00:00",0.84299999999999997,6.8680000000000003,7.7089999999999996,56.015999999999998,4.0640000000000001,0,3.2730000000000001,0.82299999999999995,230.45699999999999,66.427000000000007]
["  2019/03/19 21:00:00",1.034,7.726,8.7579999999999991,47.183,3.6920000000000002,0,1.5189999999999999,0.84799999999999998,202.01,73.227000000000004]
["  2019/03/19 22:00:00",0.71899999999999997,10.532999999999999,11.249000000000001,43.372,3.5379999999999998,0,0.68200000000000005,0.62,190.333,74.188999999999993]
["  2019/03/19 23:00:00",0.16300000000000001,5.6289999999999996,5.7910000000000004,51.034999999999997,3.637,0,0.45900000000000002,1.0780000000000001,225.363,75.099999999999994]
["  2019/03/20 00:00:00",1.181,8.98,10.16,51.033000000000001,4.5149999999999997,0,1.087,0.86299999999999999,236.55699999999999,72.075999999999993]
["  2019/03/20 01:00:00",0.57199999999999995,8.1539999999999999,8.7249999999999996,43.956000000000003,4.1929999999999996,0,-0.40500000000000003,0.63800000000000001,193.00399999999999,75.263000000000005]
["  2019/03/20 02:00:00",0.28399999999999997,6.0890000000000004,6.3710000000000004,42.84,4.633,0,-1.157,0.90600000000000003,205.83799999999999,76.706999999999994]
["  2019/03/20 03:00:00","        Z","        Z","        Z","        Z",5.1219999999999999,0,-1.921,1.206,202.01499999999999,78.173000000000002]
["  2019/03/20 04:00:00",0.55000000000000004,5.29,5.8390000000000004,39.340000000000003,4.851,0,-2.5499999999999998,1.7050000000000001,197.66499999999999,79.531999999999996]
["  2019/03/20 05:00:00",2.5590000000000002,7.8090000000000002,10.367000000000001,38.356999999999999,4.8810000000000002,0,-2.5409999999999999,1.613,202.39,79.316000000000003]
["  2019/03/20 06:00:00",0.86199999999999999,7.0220000000000002,7.8849999999999998,38.244999999999997,5.39,0,-2.601,1.0369999999999999,197.971,77.994]
["  2019/03/20 07:00:00",0.58899999999999997,4.9480000000000004,5.5369999999999999,39.106000000000002,5.5659999999999998,0,-2.8330000000000002,1.52,194.03299999999999,78.488]
["  2019/03/20 08:00:00",1.4379999999999999,6.5229999999999997,7.96,41.503,5.407,0,-0.76800000000000002,2.0009999999999999,211.90799999999999,75.088999999999999]
["  2019/03/20 09:00:00",1.181,4.96,6.141,43.024999999999999,5.5250000000000004,0,1.425,2.069,212.125,71.186000000000007]
["  2019/03/20 10:00:00",1.7150000000000001,5.2279999999999998,6.9429999999999996,45.862000000000002,10.911,0,3.7919999999999998,1.883,207.91200000000001,64.194000000000003]
["  2019/03/20 11:00:00",0.73599999999999999,4.9619999999999997,5.6980000000000004,49.468000000000004,17.768000000000001,0,6.2480000000000002,1.9410000000000001,211.983,60.101999999999997]
["  2019/03/20 12:00:00",0.93600000000000005,4.9790000000000001,5.9160000000000004,48.883000000000003,18.57,0,8.6159999999999997,2.1040000000000001,199.233,55.548000000000002]
["  2019/03/20 13:00:00",1.33,6.2569999999999997,7.5880000000000001,52.45,19.099,0,9.4710000000000001,2.4980000000000002,209.31899999999999,55.866999999999997]
["  2019/03/20 14:00:00",0.83399999999999996,5.2889999999999997,6.1230000000000002,65.048000000000002,20.053000000000001,0,10.737,2.3839999999999999,220.773,49.567999999999998]
["  2019/03/20 15:00:00",10.218999999999999,9.0839999999999996,19.303000000000001,64.620999999999995,22.957999999999998,0,11.381,2.0950000000000002,208.99,49.691000000000003]
["  2019/03/20 16:00:00",13.175000000000001,12.288,25.465,64.573999999999998,21.074000000000002,0,11.849,2.0739999999999998,211.82499999999999,47.898000000000003]
["  2019/03/20 17:00:00",0.81799999999999995,6.0410000000000004,6.8609999999999998,68.491,23.228999999999999,0,11.007999999999999,1.601,216.46,50.167000000000002]
["  2019/03/20 18:00:00",2.0430000000000001,7.0659999999999998,9.11,66.412999999999997,30.722999999999999,0,9.1010000000000009,1.5049999999999999,216.69300000000001,54.942]
["  2019/03/20 19:00:00",0.158,6.1230000000000002,6.282,60.484999999999999,33.633000000000003,0,5.73,1.17,214.13200000000001,65.134]
["  2019/03/20 20:00:00",0.88,9.8640000000000008,10.746,52.029000000000003,34.56,0,3.661,1.1339999999999999,193.035,71.713999999999999]
["  2019/03/20 21:00:00",1.036,8.032,9.07,49.701000000000001,34.101999999999997,0,3.298,1.4850000000000001,201.94900000000001,76.188000000000002]
["  2019/03/20 22:00:00",0.26700000000000002,6.9859999999999998,7.2560000000000002,40.792999999999999,31.867000000000001,0,0.97499999999999998,0.36599999999999999,172.00200000000001,78.933999999999997]
["  2019/03/20 23:00:00",0.53200000000000003,7.0279999999999996,7.5629999999999997,32.042000000000002,31.524999999999999,0,6.4000000000000001E-2,0.72699999999999998,215.56800000000001,81.019000000000005]
["  2019/03/21 00:00:00",1.1779999999999999,9.2769999999999992,10.458,37.265000000000001,32.052999999999997,0,0.52,1.0409999999999999,194.15799999999999,82.608999999999995]
["  2019/03/21 01:00:00",0.27500000000000002,6.0830000000000002,6.3609999999999998,33.478999999999999,28.103000000000002,0,-0.84,0.38700000000000001,162.755,81.995999999999995]
["  2019/03/21 02:00:00","        Z","        Z","        Z","        Z",26.887,0,-1.3,0.63400000000000001,192.16499999999999,82.17]
["  2019/03/21 03:00:00",-0.11,5.57,5.4630000000000001,30.832000000000001,26.899000000000001,0,-1.0609999999999999,0.20599999999999999,291.44099999999997,82.046000000000006]
["  2019/03/21 04:00:00",5.3999999999999999E-2,6.2190000000000003,6.2750000000000004,33.840000000000003,27.837,0,-1.181,0.21299999999999999,314.505,82.31]
["  2019/03/21 05:00:00",1.1890000000000001,14.436999999999999,15.628,19.945,28.475999999999999,0,-2.2160000000000002,0.27300000000000002,65.353999999999999,81.653999999999996]
["  2019/03/21 06:00:00",1.8129999999999999,10.425000000000001,12.241,39.174999999999997,31.463000000000001,0,-1.76,0.76700000000000002,52.073999999999998,79.198999999999998]
["  2019/03/21 07:00:00",5.0000000000000001E-3,5.5979999999999999,5.6070000000000002,56.042999999999999,21.847000000000001,0,-0.59399999999999997,0.65600000000000003,78.227000000000004,74.067999999999998]
["  2019/03/21 08:00:00",0.67,5.8789999999999996,6.5519999999999996,52.878999999999998,12.234,0,1.34,0.86399999999999999,106.488,67.668000000000006]
["  2019/03/21 09:00:00",0.11,4.2750000000000004,4.3869999999999996,53.956000000000003,26.683,0,3.0859999999999999,1.7230000000000001,95.215000000000003,64.143000000000001]
["  2019/03/21 10:00:00",0.313,4.234,4.5469999999999997,53.406999999999996,9.3680000000000003,0,4.55,1.86,97.754999999999995,61.146999999999998]
["  2019/03/21 11:00:00",0.127,3.42,3.55,56.356000000000002,9.2309999999999999,0,6.3959999999999999,1.7689999999999999,90.563999999999993,59.957999999999998]
["  2019/03/21 12:00:00",9.6000000000000002E-2,2.504,2.6030000000000002,51.680999999999997,5.0739999999999998,0,8.0280000000000005,1.8129999999999999,95.043999999999997,56.070999999999998]
["  2019/03/21 13:00:00",-7.5999999999999998E-2,2.21,2.1360000000000001,57.579000000000001,3.3050000000000002,0,9.3160000000000007,1.9950000000000001,93.590999999999994,52.072000000000003]
["  2019/03/21 14:00:00",0.13500000000000001,2.3079999999999998,2.444,56.405999999999999,2.661,0,10.771000000000001,1.883,99.043999999999997,47.38]
["  2019/03/21 15:00:00",0.16300000000000001,2.6259999999999999,2.7909999999999999,55.881999999999998,2.8109999999999999,0,11.097,1.9730000000000001,91.525000000000006,47.619]
["  2019/03/21 16:00:00",0.249,2.7029999999999998,2.9540000000000002,52.860999999999997,2.734,0,10.458,1.738,92.941999999999993,52.359000000000002]
["  2019/03/21 17:00:00",3.5999999999999997E-2,2.851,2.8879999999999999,51.243000000000002,3.399,0,9.5779999999999994,1.81,82.677999999999997,55.716000000000001]
["  2019/03/21 18:00:00",-6.2E-2,3.367,3.3050000000000002,46.795000000000002,3.371,0,7.6349999999999998,2.0550000000000002,93.537000000000006,59.567]
["  2019/03/21 19:00:00",0.06,2.3559999999999999,2.4169999999999998,40.200000000000003,3.43,0,4.93,1.8120000000000001,93.462999999999994,66.83]
["  2019/03/21 20:00:00",0.32400000000000001,2.4849999999999999,2.8090000000000002,36.982999999999997,6.74,0,3.1880000000000002,1.335,102.358,71.638999999999996]
["  2019/03/21 21:00:00",1.2999999999999999E-2,1.8120000000000001,1.825,38.371000000000002,3.7050000000000001,0,2.1800000000000002,2.149,103.91500000000001,73.433999999999997]
["  2019/03/21 22:00:00",-0.104,3.4249999999999998,3.3210000000000002,34.957999999999998,5.3959999999999999,0,1.3440000000000001,1.8580000000000001,103.786,76.468000000000004]
["  2019/03/21 23:00:00",-2.7E-2,3.4790000000000001,3.452,26.684000000000001,5.952,0,0.45100000000000001,1.2390000000000001,106.51900000000001,77.994]
["  2019/03/22 00:00:00",0.08,3.5939999999999999,3.673,27.439,4.1360000000000001,0,0.02,1.4359999999999999,104.15900000000001,78.358999999999995]
["  2019/03/22 01:00:00","        Z","        Z","        Z","        Z",2.681,0,8.7999999999999995E-2,1.202,102.88200000000001,76.582999999999998]
["  2019/03/22 02:00:00",0.51,3.5350000000000001,4.0460000000000003,31.765999999999998,3.3010000000000002,0,-0.308,1.256,107.261,77.388000000000005]
["  2019/03/22 03:00:00",0.27,4.0759999999999996,4.3449999999999998,25.238,3.7080000000000002,0,-0.89800000000000002,0.874,112.116,78.927000000000007]
["  2019/03/22 04:00:00",0.436,5.8780000000000001,6.3140000000000001,24.759,4.2320000000000002,0,-0.86799999999999999,0.93799999999999994,108.721,80.322000000000003]
["  2019/03/22 05:00:00",0.70099999999999996,5.859,6.5609999999999999,26.834,4.5869999999999997,0,-1.238,0.90700000000000003,105.971,80.548000000000002]
["  2019/03/22 06:00:00",0.98199999999999998,6.9089999999999998,7.8929999999999998,27.71,5.016,0,-1.4019999999999999,0.90200000000000002,116.85899999999999,80.117000000000004]
["  2019/03/22 07:00:00",1.1879999999999999,6.5359999999999996,7.7229999999999999,25.649000000000001,5.2069999999999999,0,-1.002,0.77,126.155,78.95]
["  2019/03/22 08:00:00",2.13,5.3719999999999999,7.5019999999999998,29.707999999999998,5.9379999999999997,0,1.736,0.72499999999999998,125.54600000000001,73.177999999999997]
["  2019/03/22 09:00:00",1.008,3.5209999999999999,4.5309999999999997,38.956000000000003,6.2619999999999996,0,4.96,0.83799999999999997,140.68799999999999,67.132999999999996]
["  2019/03/22 10:00:00",1.0089999999999999,3.2149999999999999,4.2249999999999996,49.817999999999998,8.5649999999999995,0,7.4,1.7609999999999999,170.03200000000001,62.106999999999999]
["  2019/03/22 11:00:00",8.923,4.0389999999999997,12.964,52.768000000000001,8.4030000000000005,0,9.1750000000000007,2.1739999999999999,173.56,57.46]
["  2019/03/22 12:00:00",0.54700000000000004,2.956,3.504,52.273000000000003,6.2729999999999997,0,11.47,2.3039999999999998,180.148,50.686]
["  2019/03/22 13:00:00",1.669,3.339,5.0090000000000003,55.884,4.617,0,13.013999999999999,2.8069999999999999,183.839,47.387]
["  2019/03/22 14:00:00",0.30099999999999999,3.819,4.1219999999999999,64.319999999999993,4.0090000000000003,0,13.638,2.7570000000000001,174.80699999999999,45.451999999999998]
["  2019/03/22 15:00:00",0.67500000000000004,3.4089999999999998,4.0880000000000001,66.816000000000003,5.4420000000000002,0,13.957000000000001,2.5680000000000001,174.40299999999999,43.146000000000001]
["  2019/03/22 16:00:00",0.78,4.0259999999999998,4.8090000000000002,66.97,9.0359999999999996,0,13.949,2.1059999999999999,172.76900000000001,45.524000000000001]
["  2019/03/22 17:00:00",0.22500000000000001,3.839,4.0659999999999998,61.63,13.657999999999999,0,13.163,2.1269999999999998,172.97499999999999,51.451000000000001]
["  2019/03/22 18:00:00",-0.53300000000000003,3.3109999999999999,2.78,63.646999999999998,19.408000000000001,0,11.362,1.4159999999999999,173.886,59.634999999999998]
["  2019/03/22 19:00:00",0.52400000000000002,9.9960000000000004,10.522,57.534999999999997,23.431000000000001,0,7.9569999999999999,0.73599999999999999,166.98,68.061999999999998]
["  2019/03/22 20:00:00",8.6999999999999994E-2,4.5529999999999999,4.6429999999999998,47.356000000000002,18.407,0,5.2709999999999999,0.747,167.441,73.028999999999996]
["  2019/03/22 21:00:00",2.1999999999999999E-2,3.9830000000000001,4.0090000000000003,43.802,20.068999999999999,0,3.9689999999999999,0.59,170.35300000000001,74.793000000000006]
["  2019/03/22 22:00:00",0.58499999999999996,4.01,4.5999999999999996,52.121000000000002,17.838999999999999,0,2.9369999999999998,0.75700000000000001,181.589,76.378]
["  2019/03/22 23:00:00",0.59899999999999998,4.3369999999999997,4.9379999999999997,38.796999999999997,14.271000000000001,0,2.5139999999999998,0.39700000000000002,129.91800000000001,78.988]
["  2019/03/23 00:00:00","        Z","        Z","        Z","        Z",13.787000000000001,0,1.454,0.33600000000000002,77.974999999999994,80.406999999999996]
["  2019/03/23 01:00:00",1.026,4.5960000000000001,5.625,17.488,13.363,0,-0.26100000000000001,0.17199999999999999,22.22,80.724000000000004]
["  2019/03/23 02:00:00",2.9660000000000002,5.67,8.6379999999999999,29.513000000000002,13.731,0,-0.64,0.23400000000000001,111.96599999999999,81.090999999999994]
["  2019/03/23 03:00:00",0.187,4.4980000000000002,4.6879999999999997,23.992000000000001,12.465,0,-1.7070000000000001,0.433,63.34,81.537000000000006]
["  2019/03/23 04:00:00",0.45900000000000002,4.8760000000000003,5.3380000000000001,20.225000000000001,12.535,0,-2.0099999999999998,0.124,75.831999999999994,81.322000000000003]
["  2019/03/23 05:00:00",0.77800000000000002,6.5819999999999999,7.3620000000000001,16.651,12.94,0,-2.0579999999999998,0.17899999999999999,151.40799999999999,80.587999999999994]
["  2019/03/23 06:00:00",1.5269999999999999,7.5069999999999997,9.0350000000000001,18.416,12.752000000000001,0,-2.4169999999999998,0.28799999999999998,165.34800000000001,80.216999999999999]
["  2019/03/23 07:00:00",1.278,5.43,6.7089999999999996,17.347999999999999,11.634,0,-2.214,0.16600000000000001,34.515000000000001,79.751000000000005]
["  2019/03/23 08:00:00",2.56,4.7229999999999999,7.2850000000000001,23.954000000000001,9.1549999999999994,0,1.3380000000000001,0.27200000000000002,39.476999999999997,74.808999999999997]
["  2019/03/23 09:00:00",3.9809999999999999,6.3040000000000003,10.285,29.779,6.6520000000000001,0,4.4480000000000004,0.48799999999999999,332.375,70.786000000000001]
["  2019/03/23 10:00:00",2.1139999999999999,4.9359999999999999,7.0510000000000002,33.18,6.3979999999999997,0,7.04,0.54100000000000004,12.887,65.054000000000002]
["  2019/03/23 11:00:00",0.63900000000000001,3.927,4.5670000000000002,39.338999999999999,6.9980000000000002,0,8.5090000000000003,1.3660000000000001,38.206000000000003,62.338000000000001]
["  2019/03/23 12:00:00",0.58299999999999996,3.55,4.133,52.335999999999999,7.9640000000000004,0,9.5069999999999997,1.766,57.735999999999997,62.110999999999997]
["  2019/03/23 13:00:00",0.46800000000000003,3.4249999999999998,3.8929999999999998,51.399000000000001,9.1300000000000008,0,10.926,2.2330000000000001,53.305999999999997,58.66]
["  2019/03/23 14:00:00",0.112,3.2320000000000002,3.3450000000000002,63.664000000000001,8.7590000000000003,0,10.243,3.7789999999999999,44.548000000000002,59.100999999999999]
["  2019/03/23 15:00:00",8.8999999999999996E-2,2.2770000000000001,2.3650000000000002,60.222000000000001,4.766,0,9.1180000000000003,3.6459999999999999,51.140999999999998,56.377000000000002]
["  2019/03/23 16:00:00",-0.02,1.546,1.5249999999999999,59.37,4.0620000000000003,0,8.2420000000000009,3.8149999999999999,54.686999999999998,54.908999999999999]
["  2019/03/23 17:00:00",-0.106,1.1850000000000001,1.079,57.003999999999998,3.97,0,6.4790000000000001,3.7360000000000002,60.627000000000002,59.991]
["  2019/03/23 18:00:00",-4.0000000000000001E-3,0.92100000000000004,0.91700000000000004,55.100999999999999,2.7879999999999998,0,4.8540000000000001,3.4990000000000001,58.902999999999999,63.531999999999996]
["  2019/03/23 19:00:00",-3.0000000000000001E-3,0.75800000000000001,0.755,51.920999999999999,2.23,0,2.2869999999999999,3.371,54.5,70.653000000000006]
["  2019/03/23 20:00:00",0.13600000000000001,0.64800000000000002,0.78300000000000003,54.255000000000003,1.833,0,0.40600000000000003,3.532,54.712000000000003,74.994]
["  2019/03/23 21:00:00",-5.2999999999999999E-2,0.89,0.83499999999999996,49.335999999999999,1.591,0,-0.23499999999999999,2.88,57.518999999999998,75.587999999999994]
["  2019/03/23 22:00:00",0.13400000000000001,0.64,0.77200000000000002,53.500999999999998,1.36,0,-0.30499999999999999,2.7759999999999998,66.984999999999999,75.108999999999995]
["  2019/03/23 23:00:00","        Z","        Z","        Z","        Z",1.536,0,-0.186,3.4940000000000002,80.918999999999997,74.007999999999996]
["  2019/03/24 00:00:00",2.1999999999999999E-2,0.53100000000000003,0.55100000000000005,53.994,1.6160000000000001,0,-0.69599999999999995,3.3079999999999998,80.137,74.171000000000006]
["  2019/03/24 01:00:00",-3.2000000000000001E-2,0.66100000000000003,0.627,54.865000000000002,2.3290000000000002,0,-1.1379999999999999,3.07,79.706999999999994,72.210999999999999]
["  2019/03/24 02:00:00",-1.2E-2,0.56699999999999995,0.55300000000000005,54.23,2.4249999999999998,0,-1.333,2.3140000000000001,65.573999999999998,71.203000000000003]
["  2019/03/24 03:00:00",0.02,0.90400000000000003,0.92200000000000004,53.27,2.4790000000000001,0,-1.5960000000000001,1.9410000000000001,67.328000000000003,72.061999999999998]
["  2019/03/24 04:00:00",-2.9000000000000001E-2,0.54500000000000004,0.51400000000000001,52.56,2.3719999999999999,0,-1.627,1.893,84.039000000000001,72.316999999999993]
["  2019/03/24 05:00:00",7.9000000000000001E-2,0.64800000000000002,0.72499999999999998,54.609000000000002,2.641,0,-1.786,2.0030000000000001,91.606999999999999,71.48]
["  2019/03/24 06:00:00",3.0000000000000001E-3,0.64,0.64100000000000001,48.018999999999998,2.5489999999999999,0,-2.673,1.7,69.495999999999995,72.206999999999994]
["  2019/03/24 07:00:00",0.13500000000000001,1.486,1.62,48.661999999999999,4.556,0,-3.1059999999999999,1.4710000000000001,104.813,71.12]
["  2019/03/24 08:00:00",0.222,0.745,0.96499999999999997,52.097000000000001,5.4710000000000001,0,-3.911,2.4180000000000001,100.762,66.292000000000002]
["  2019/03/24 09:00:00",0.156,0.72799999999999998,0.88100000000000001,51.91,2.5590000000000002,0,-3.484,2.4009999999999998,95.123999999999995,58.893000000000001]
["  2019/03/24 10:00:00",6.9000000000000006E-2,0.56499999999999995,0.63100000000000001,53.811999999999998,2.2480000000000002,0,-2.794,2.206,82.715000000000003,55.296999999999997]
["  2019/03/24 11:00:00",-3.0000000000000001E-3,0.52400000000000002,0.51900000000000002,52.478000000000002,1.7569999999999999,0,-1.9890000000000001,2.0819999999999999,77.08,50.930999999999997]
["  2019/03/24 12:00:00",5.2999999999999999E-2,0.57299999999999995,0.623,50.228000000000002,1.833,0,-1.0049999999999999,2.113,66.936000000000007,50.377000000000002]
["  2019/03/24 13:00:00",-1.7000000000000001E-2,0.53300000000000003,0.51200000000000001,50.726999999999997,1.881,0,-0.379,1.94,71.878,50.009]
["  2019/03/24 14:00:00",-4.2000000000000003E-2,0.64500000000000002,0.59899999999999998,50.779000000000003,1.718,0,0.20899999999999999,1.8360000000000001,71.63,49.648000000000003]
["  2019/03/24 15:00:00",6.6000000000000003E-2,0.73199999999999998,0.79500000000000004,52.125,1.9430000000000001,0,0.71,1.667,68.387,49.137]
["  2019/03/24 16:00:00",-0.191,0.7,0.505,54.558999999999997,2.4279999999999999,0,0.74299999999999999,1.879,64.603999999999999,50.027999999999999]
["  2019/03/24 17:00:00",0.107,0.82699999999999996,0.93100000000000005,53.494999999999997,2.9649999999999999,0,2.8000000000000001E-2,1.859,63.732999999999997,52.805]
["  2019/03/24 18:00:00",-1.4999999999999999E-2,0.67300000000000004,0.65500000000000003,52.743000000000002,3.24,0,-1.052,1.829,75.686999999999998,55.692999999999998]
["  2019/03/24 19:00:00",6.3E-2,0.88700000000000001,0.94699999999999995,49.28,4.3250000000000002,0,-2.7080000000000002,1.5369999999999999,85.049000000000007,60.908999999999999]
["  2019/03/24 20:00:00",-5.0000000000000001E-3,1.117,1.109,44.448999999999998,5.3739999999999997,0,-3.9510000000000001,1.2869999999999999,87.757000000000005,66.703000000000003]
["  2019/03/24 21:00:00",4.3999999999999997E-2,1.194,1.234,40.685000000000002,5.3440000000000003,0,-4.8789999999999996,1.292,85.384,69.733000000000004]
["  2019/03/24 22:00:00","        Z","        Z","        Z","        Z",4.3680000000000003,0,-5.0720000000000001,0.74,105.36499999999999,67.186000000000007]
["  2019/03/24 23:00:00",0.38400000000000001,2.2450000000000001,2.6259999999999999,37.783000000000001,8.25,0,-5.7229999999999999,0.57599999999999996,121.273,67.664000000000001]
["  2019/03/25 00:00:00",8.6999999999999994E-2,3.9529999999999998,4.0369999999999999,36.316000000000003,6.0229999999999997,0,-6.25,0.41499999999999998,114.88,68.313000000000002]
["  2019/03/25 01:00:00",-8.8999999999999996E-2,4.1239999999999997,4.032,34.667999999999999,8.0120000000000005,0,-7.1680000000000001,0.84699999999999998,84.872,70.015000000000001]
["  2019/03/25 02:00:00",-0.02,1.1739999999999999,1.153,35.701999999999998,4.673,0,-7.6050000000000004,0.88400000000000001,80.608000000000004,72.117999999999995]
["  2019/03/25 03:00:00",-0.17599999999999999,1.446,1.2669999999999999,34.478999999999999,3.74,0,-7.7889999999999997,0.70099999999999996,86.027000000000001,72.094999999999999]
["  2019/03/25 04:00:00",0.23400000000000001,1.8380000000000001,2.0680000000000001,33.637999999999998,6.0949999999999998,0,-7.7679999999999998,0.622,100.37,73.004999999999995]
["  2019/03/25 05:00:00",0.52100000000000002,4.7119999999999997,5.23,29.870999999999999,4.1890000000000001,0,-7.6360000000000001,0.58499999999999996,105.49,73.524000000000001]
["  2019/03/25 06:00:00",1.5069999999999999,5.1719999999999997,6.6760000000000002,25.946000000000002,3.8769999999999998,0,-7.8620000000000001,0.56699999999999995,113.431,74.781999999999996]
["  2019/03/25 07:00:00",2.5329999999999999,6.7119999999999997,9.2430000000000003,24.812000000000001,3.1179999999999999,0,-6.9370000000000003,0.47799999999999998,118.872,73.141999999999996]
["  2019/03/25 08:00:00",2.6760000000000002,6.3070000000000004,8.98,25.78,2.5369999999999999,0,-4.0030000000000001,0.60899999999999999,113.414,65.36]
["  2019/03/25 09:00:00",3.113,5.3280000000000003,8.4390000000000001,32.822000000000003,2.3849999999999998,0,-1.468,0.66500000000000004,124.319,59.469000000000001]
["  2019/03/25 10:00:00",1.087,2.0499999999999998,3.1360000000000001,41.048999999999999,2.2290000000000001,0,0.74,0.89,145.32900000000001,55.588000000000001]
["  2019/03/25 11:00:00",0.63800000000000001,2.14,2.7749999999999999,49.813000000000002,1.9259999999999999,0,2.2480000000000002,1.5,159.33000000000001,46.872999999999998]
["  2019/03/25 12:00:00",0.56200000000000006,1.462,2.0219999999999998,55.732999999999997,2.3279999999999998,0,3.121,1.782,165.256,41.052999999999997]
["  2019/03/25 13:00:00",0.73399999999999999,1.478,2.21,57.124000000000002,2.4260000000000002,0,4.2539999999999996,1.736,161.774,37.488999999999997]
["  2019/03/25 14:00:00",0.70799999999999996,1.456,2.161,59.612000000000002,2.7930000000000001,0,4.7619999999999996,1.873,161.91800000000001,35.643999999999998]
["  2019/03/25 15:00:00",0.75600000000000001,1.4259999999999999,2.1800000000000002,53.668999999999997,3.5470000000000002,0,5.5309999999999997,2.19,170.23500000000001,40.442999999999998]
["  2019/03/25 16:00:00",0.34499999999999997,1.4359999999999999,1.7789999999999999,52.747,4.2530000000000001,0,4.875,2.298,172.91300000000001,50.362000000000002]
["  2019/03/25 17:00:00",1.125,3.22,4.3419999999999996,46.539000000000001,9.3209999999999997,0,4.0190000000000001,2.0590000000000002,171.29400000000001,56.481000000000002]
["  2019/03/25 18:00:00",0.42299999999999999,2.2069999999999999,2.629,42.548999999999999,17.164999999999999,0,2.9390000000000001,1.9,169.88,66.320999999999998]
["  2019/03/25 19:00:00",0.629,2.6219999999999999,3.25,32.503999999999998,17.468,0,2.4340000000000002,1.173,162.749,69.741]
["  2019/03/25 20:00:00",0.78400000000000003,3.294,4.077,27.893000000000001,14.432,0,2.3340000000000001,1.08,157.75800000000001,72.548000000000002]
["  2019/03/25 21:00:00","        Z","        Z","        Z","        Z",16.846,0,1.919,1.296,141.4,75.808000000000007]
["  2019/03/25 22:00:00",1.107,4.4000000000000004,5.5039999999999996,21.021000000000001,16.329000000000001,0,1.712,1.0780000000000001,140.11600000000001,77.600999999999999]
["  2019/03/25 23:00:00",0.91900000000000004,3.4409999999999998,4.3579999999999997,22.802,12.971,0,1.6950000000000001,1.145,142.501,77.882000000000005]
["  2019/03/26 00:00:00",1.089,4.6319999999999997,5.7190000000000003,19.126000000000001,11.75,0,1.4179999999999999,0.72099999999999997,139.82,77.986999999999995]
["  2019/03/26 01:00:00",1.6779999999999999,4.9770000000000003,6.6529999999999996,18.321999999999999,12.833,0,0.39600000000000002,0.42499999999999999,122.64,79.533000000000001]
["  2019/03/26 02:00:00",2.4809999999999999,6.0759999999999996,8.5559999999999992,18.32,8.5739999999999998,0,-0.13900000000000001,0.67100000000000004,140.9,80.914000000000001]
["  2019/03/26 03:00:00",0.74199999999999999,3.1120000000000001,3.851,21.332000000000001,6.4660000000000002,0,9.8000000000000004E-2,0.76,132.03899999999999,81.283000000000001]
["  2019/03/26 04:00:00",4.0469999999999997,6.173,10.218999999999999,19.619,6.7930000000000001,0,6.2E-2,1.091,139.904,82.305000000000007]
["  2019/03/26 05:00:00",1.2010000000000001,2.3660000000000001,3.5649999999999999,26.457000000000001,3.774,0,0.879,1.7150000000000001,166.392,85.234999999999999]
["  2019/03/26 06:00:00",1.5720000000000001,3.2360000000000002,4.806,23.018999999999998,2.601,0,0.81499999999999995,1.1910000000000001,155.227,85.757000000000005]
["  2019/03/26 07:00:00",1.742,2.9990000000000001,4.7380000000000004,25.553000000000001,1.7989999999999999,0,0.75,1.3240000000000001,142.702,85.960999999999999]
["  2019/03/26 08:00:00",0.745,1.958,2.7010000000000001,25.315000000000001,1.4,0,0.97399999999999998,1.256,142.506,86.355000000000004]
["  2019/03/26 09:00:00",1.0640000000000001,1.9770000000000001,3.0390000000000001,24.428000000000001,1.6140000000000001,0,1.6579999999999999,1.306,143.62,86.611999999999995]
["  2019/03/26 10:00:00",1.375,1.9810000000000001,3.355,24.324000000000002,1.46,0,3.242,1.3260000000000001,161.99600000000001,84.436000000000007]
["  2019/03/26 11:00:00",4.157,2.5920000000000001,6.7450000000000001,27.486999999999998,1.117,0,6.88,1.0429999999999999,164.285,70.093000000000004]
["  2019/03/26 12:00:00",0.68200000000000005,1.508,2.1880000000000002,29.645,1.1100000000000001,0,9.5350000000000001,1.61,187.00299999999999,61.052]
["  2019/03/26 13:00:00",0.54900000000000004,1.64,2.1859999999999999,32.317999999999998,1.2729999999999999,0,10.776,1.542,175.738,56.387999999999998]
["  2019/03/26 14:00:00",0.95599999999999996,2.1859999999999999,3.1389999999999998,30.129000000000001,1.4350000000000001,0,12.098000000000001,1.8440000000000001,189.41200000000001,53.834000000000003]
["  2019/03/26 15:00:00",0.76,2.2309999999999999,2.988,29.766999999999999,1.9470000000000001,0,13.109,1.141,191.52500000000001,49.997999999999998]
["  2019/03/26 16:00:00",1.06,2.512,3.57,39.359000000000002,3.2229999999999999,0,14.41,1.2869999999999999,229.33199999999999,44.284999999999997]
["  2019/03/26 17:00:00",1.405,3.835,5.2359999999999998,46.091000000000001,8.0090000000000003,0,14.135999999999999,1.238,255.126,42.55]
["  2019/03/26 18:00:00",1.242,4.5060000000000002,5.7450000000000001,41.085999999999999,10.039,0,12.422000000000001,1.33,309.24900000000002,47.584000000000003]
["  2019/03/26 19:00:00",7.4999999999999997E-2,2.9180000000000001,2.9889999999999999,25.443999999999999,18.350000000000001,0,6.3419999999999996,2.3140000000000001,25.867999999999999,73.59]
["  2019/03/26 20:00:00","        Z","        Z","        Z","        Z",16.66,0,3.5150000000000001,2.552,27.654,82.807000000000002]
["  2019/03/26 21:00:00",0.378,1.2969999999999999,1.671,19.738,16.353999999999999,0,2.677,2.738,34.537999999999997,85.712000000000003]
["  2019/03/26 22:00:00",0.25800000000000001,1.39,1.6459999999999999,22.155000000000001,13.641,0,2.25,2.5539999999999998,30.9,86.451999999999998]
["  2019/03/26 23:00:00",0.86299999999999999,1.907,2.7679999999999998,21.216000000000001,9.7430000000000003,0,2.2690000000000001,2.7839999999999998,20.582000000000001,86.444999999999993]
["  2019/03/27 00:00:00",0.29299999999999998,1.32,1.609,20.437000000000001,4.1929999999999996,0,1.796,2.6,27.358000000000001,85.817999999999998]
["  2019/03/27 01:00:00",0.30399999999999999,1.647,1.9490000000000001,22.640999999999998,5.1769999999999996,0,1.5109999999999999,2.5680000000000001,354.08800000000002,84.682000000000002]
["  2019/03/27 02:00:00",0.33600000000000002,1.7170000000000001,2.0499999999999998,26.184999999999999,7.3029999999999999,0.06,1.1559999999999999,3.46,332.26400000000001,84.808999999999997]
["  2019/03/27 03:00:00",0.314,2.3029999999999999,2.6160000000000001,22.917999999999999,6.944,0,0.499,3.9590000000000001,332.40699999999998,85.798000000000002]
["  2019/03/27 04:00:00",0.378,1.296,1.6719999999999999,29.245000000000001,2.1120000000000001,0,0.60299999999999998,3.415,337.72899999999998,85.966999999999999]
["  2019/03/27 05:00:00",0.28699999999999998,1.421,1.706,34.037999999999997,4.3869999999999996,0,0.83,3.2250000000000001,349.51900000000001,85.504999999999995]
["  2019/03/27 06:00:00",0.43099999999999999,1.9139999999999999,2.3450000000000002,34.887,6.5350000000000001,0,0.77100000000000002,2.476,338.19200000000001,84.141999999999996]
["  2019/03/27 07:00:00",1.0629999999999999,3.3690000000000002,4.4320000000000004,31.408000000000001,7.1559999999999997,0,0.52500000000000002,2.7810000000000001,309.85300000000001,83.706999999999994]
["  2019/03/27 08:00:00",2.2309999999999999,6.0629999999999997,8.2929999999999993,26.933,8.2590000000000003,0,0.89800000000000002,1.3859999999999999,288.214,82.796000000000006]
["  2019/03/27 09:00:00",2.4239999999999999,5.3680000000000003,7.79,27.010999999999999,8.0709999999999997,0,1.292,2.3439999999999999,305.29300000000001,82.224000000000004]
["  2019/03/27 10:00:00",1.9950000000000001,4.4690000000000003,6.4630000000000001,31.713000000000001,5.3140000000000001,0,1.853,3.5659999999999998,315.96699999999998,80.010000000000005]
["  2019/03/27 11:00:00",1.331,2.5379999999999998,3.871,37.372999999999998,2,0,2.4870000000000001,4.0999999999999996,324.44,75.8]
["  2019/03/27 12:00:00",1.1599999999999999,1.464,2.6240000000000001,39.084000000000003,1.038,0,2.9670000000000001,3.7509999999999999,334.899,72.376000000000005]
["  2019/03/27 13:00:00",0.621,1.395,2.0169999999999999,42.515999999999998,0.79700000000000004,0,2.9329999999999998,3.3239999999999998,337.75299999999999,69.457999999999998]
["  2019/03/27 14:00:00",0.86299999999999999,2.0129999999999999,2.8769999999999998,46.384,0.85799999999999998,0,3.3639999999999999,4.0970000000000004,314.81700000000001,65.251000000000005]
["  2019/03/27 15:00:00",1.4119999999999999,2.2309999999999999,3.645,46.962000000000003,1.02,0,3.2949999999999999,4.4379999999999997,317.53300000000002,63.206000000000003]
["  2019/03/27 16:00:00",0.621,2.0270000000000001,2.649,48.292999999999999,0.89600000000000002,0,2.9329999999999998,4.117,331.09899999999999,59.463999999999999]
["  2019/03/27 17:00:00",0.51900000000000002,1.712,2.2320000000000002,50.808,0.83899999999999997,0,2.8450000000000002,3.7890000000000001,323.56400000000002,55.109000000000002]
["  2019/03/27 18:00:00",0.95499999999999996,1.91,2.8660000000000001,51.786999999999999,0.66500000000000004,0,2.6150000000000002,3.6920000000000002,317.89,55.826999999999998]
["  2019/03/27 19:00:00","        Z","        Z","        Z","        Z",0.58899999999999997,0,2.1219999999999999,2.4940000000000002,323.31900000000002,59.222000000000001]
["  2019/03/27 20:00:00",1.6060000000000001,6.9480000000000004,8.5549999999999997,40.628,0.69199999999999995,0,1.006,1.6919999999999999,306.76299999999998,62.411000000000001]
["  2019/03/27 21:00:00",0.93400000000000005,4.76,5.694,40.621000000000002,0.77800000000000002,0,-0.17899999999999999,1.2809999999999999,258.19200000000001,64.370999999999995]
["  2019/03/27 22:00:00",1.329,5.7249999999999996,7.056,36.933,1.538,0,-1.2989999999999999,1.514,259.39100000000002,69.775000000000006]
["  2019/03/27 23:00:00",0.63500000000000001,5.2670000000000003,5.9020000000000001,34.127000000000002,2.4809999999999999,0,-2.1230000000000002,1.171,298.209,72.641999999999996]
["  2019/03/28 00:00:00",0.99399999999999999,7.92,8.9149999999999991,29.116,4.1120000000000001,0,-2.6259999999999999,1.044,278.09699999999998,74.349000000000004]
["  2019/03/28 01:00:00",0.186,5.2629999999999999,5.45,31.919,3.8889999999999998,0,-2.9279999999999999,1.27,304.262,73.774000000000001]
["  2019/03/28 02:00:00",0.41399999999999998,7.7850000000000001,8.1989999999999998,26.099,3.298,0,-3.3839999999999999,0.52500000000000002,316.64999999999998,73.451999999999998]
["  2019/03/28 03:00:00",0.312,5.4320000000000004,5.7460000000000004,28.387,2.7530000000000001,0,-3.9039999999999999,0.46100000000000002,261.88499999999999,73.852999999999994]
["  2019/03/28 04:00:00",0.52600000000000002,4.2430000000000003,4.7709999999999999,30.616,2.093,0,-4.2320000000000002,0.47899999999999998,255.30699999999999,73.215000000000003]
["  2019/03/28 05:00:00",2.0470000000000002,8.0960000000000001,10.144,30.132999999999999,2.6019999999999999,0,-4.4889999999999999,0.95299999999999996,254.84399999999999,73.951999999999998]
["  2019/03/28 06:00:00",2.7269999999999999,7.5860000000000003,10.313000000000001,28.606000000000002,3.5870000000000002,0,-4.93,0.73399999999999999,265.42099999999999,74.311999999999998]
["  2019/03/28 07:00:00",5.0449999999999999,13.851000000000001,18.896999999999998,23.707000000000001,2.899,0,-4.4219999999999997,1.2629999999999999,300.22199999999998,73.268000000000001]
["  2019/03/28 08:00:00",4.3029999999999999,9.0419999999999998,13.347,33.164000000000001,1.974,0,-1.865,1.2310000000000001,308.66399999999999,66.566999999999993]
["  2019/03/28 09:00:00",1.881,4.2839999999999998,6.1669999999999998,47.878999999999998,1.04,0,0.54500000000000004,1.123,299.38,53.779000000000003]
["  2019/03/28 10:00:00",1.1759999999999999,2.5350000000000001,3.7120000000000002,54.118000000000002,1.0189999999999999,0,2.0299999999999998,1.734,305.87,45.942]
["  2019/03/28 11:00:00",1.329,2.1709999999999998,3.5030000000000001,55.545999999999999,1.4770000000000001,0,2.9249999999999998,1.633,263.62799999999999,42.969000000000001]
["  2019/03/28 12:00:00",0.71299999999999997,1.2490000000000001,1.964,57.578000000000003,1.887,0,3.83,2.2069999999999999,261.60500000000002,41.103999999999999]
["  2019/03/28 13:00:00",0.65400000000000003,0.82699999999999996,1.4830000000000001,57.192,2.1539999999999999,0,5.0229999999999997,2.6150000000000002,257.79399999999998,40.334000000000003]
["  2019/03/28 14:00:00",0.68799999999999994,1.631,2.3199999999999998,57.018999999999998,2.3759999999999999,0,5.5510000000000002,2.609,267.07799999999997,40.054000000000002]
["  2019/03/28 15:00:00",0.82,1.7350000000000001,2.5569999999999999,56.23,1.9770000000000001,0,6.3460000000000001,2.6360000000000001,260.94900000000001,39.694000000000003]
["  2019/03/28 16:00:00",0.873,1.67,2.544,57.075000000000003,2.1989999999999998,0,6.4630000000000001,2.4950000000000001,270.71800000000002,39.743000000000002]
["  2019/03/28 17:00:00",1.2749999999999999,1.597,2.8740000000000001,56.518000000000001,2.6419999999999999,0,6.3639999999999999,2.5590000000000002,258.71600000000001,40.74]
["  2019/03/28 18:00:00","        Z","        Z","        Z","        Z",4.2830000000000004,0,5.9020000000000001,2.5569999999999999,254.31299999999999,43.536000000000001]
["  2019/03/28 19:00:00",1.9379999999999999,6.5570000000000004,8.4960000000000004,51.656999999999996,4.2629999999999999,0,3.91,1.972,240.91399999999999,50.46]
["  2019/03/28 20:00:00",1.599,3.4540000000000002,5.056,48.524999999999999,8.4339999999999993,0,2.0979999999999999,1.6910000000000001,222.38800000000001,57.581000000000003]
["  2019/03/28 21:00:00",0.85899999999999999,4.2560000000000002,5.117,47.972999999999999,5.0759999999999996,0,1.8680000000000001,2.121,226.78100000000001,58.908999999999999]
["  2019/03/28 22:00:00",0.76700000000000002,2.919,3.6869999999999998,46.042999999999999,3.327,0,1.425,2.0449999999999999,221.34800000000001,61.140999999999998]
["  2019/03/28 23:00:00",0.49199999999999999,1.4330000000000001,1.9259999999999999,45.966999999999999,3.1019999999999999,0,1.6970000000000001,2.081,223.506,60.999000000000002]
["  2019/03/29 00:00:00",0.73399999999999999,1.5329999999999999,2.27,45.841999999999999,3.82,0,2.1709999999999998,2.403,239.84,60.276000000000003]
["  2019/03/29 01:00:00",1.085,2.2999999999999998,3.3879999999999999,45.412999999999997,4.9080000000000004,0,2.5649999999999999,2.3849999999999998,240.13399999999999,60.040999999999997]
["  2019/03/29 02:00:00",0.58399999999999996,2.5049999999999999,3.09,46.576999999999998,5.9260000000000002,0,2.77,2.1,265.94900000000001,60.25]
["  2019/03/29 03:00:00",0.28699999999999998,4.3449999999999998,4.633,43.798999999999999,7.056,0,2.5499999999999998,2.9769999999999999,312.822,62.670999999999999]
["  2019/03/29 04:00:00",4.8000000000000001E-2,3.24,3.29,42.473999999999997,9.6379999999999999,0,1.28,2.31,334.78300000000002,67.87]
["  2019/03/29 05:00:00",0.73299999999999998,2.5169999999999999,3.2530000000000001,43.264000000000003,5.2619999999999996,0,-4.9000000000000002E-2,2.2069999999999999,5.5140000000000002,70.429000000000002]
["  2019/03/29 06:00:00",0.19600000000000001,2.1640000000000001,2.3620000000000001,45.863,2.3650000000000002,0,-0.92800000000000005,2.0289999999999999,352.10500000000002,69.664000000000001]
["  2019/03/29 07:00:00",0.33400000000000002,2.157,2.4910000000000001,47.975999999999999,1.518,0,-0.92900000000000005,2.6840000000000002,4.3710000000000004,64.668999999999997]
["  2019/03/29 08:00:00",0.33200000000000002,1.28,1.6140000000000001,54.723999999999997,1.403,0,0.52200000000000002,3.8239999999999998,10.27,54.664000000000001]
["  2019/03/29 09:00:00",0.25,1.0189999999999999,1.27,56.057000000000002,1.9139999999999999,0,1.2889999999999999,3.952,10.724,50.884]
["  2019/03/29 10:00:00",0.32700000000000001,0.55900000000000005,0.88800000000000001,46.640999999999998,1.347,0,1.395,3.46,17.369,40.052]
["  2019/03/29 11:00:00",7.3639999999999999,4.1100000000000003,11.475,42.27,1.3720000000000001,0,1.3109999999999999,2.706,20.597999999999999,34.549999999999997]
["  2019/03/29 12:00:00",0.251,0.64,0.89400000000000002,56.948999999999998,1.462,0,2.0369999999999999,3.26,18.614999999999998,45.396000000000001]
["  2019/03/29 13:00:00",0.38200000000000001,0.88500000000000001,1.268,55.628999999999998,2.4750000000000001,0,2.3319999999999999,2.8079999999999998,3.778,46.072000000000003]
["  2019/03/29 14:00:00",0.26800000000000002,0.96399999999999997,1.2330000000000001,55.98,3.1240000000000001,0,2.544,3.024,352.46199999999999,44.712000000000003]
["  2019/03/29 15:00:00",0.20799999999999999,0.78900000000000003,1,55.863,3.0990000000000002,0,3.2770000000000001,3.1539999999999999,6.3540000000000001,41.776000000000003]
["  2019/03/29 16:00:00",0.17199999999999999,0.69599999999999995,0.87,57.817999999999998,2.839,0,3.7429999999999999,3.1669999999999998,12.066000000000001,39.906999999999996]
["  2019/03/29 17:00:00","        Z","        Z","        Z","        Z",3.0609999999999999,0,3.3679999999999999,2.8820000000000001,14.103,40.259]
["  2019/03/29 18:00:00",0.17,1.1140000000000001,1.286,58.237000000000002,4.0279999999999996,0,2.5289999999999999,2.12,15.336,43.04]
["  2019/03/29 19:00:00",0.40699999999999997,2.5590000000000002,2.968,50.002000000000002,3.7650000000000001,0,0.45800000000000002,1.012,23.123000000000001,50.548000000000002]
["  2019/03/29 20:00:00",4.2000000000000003E-2,2.9119999999999999,2.9550000000000001,45.96,16.593,0,-0.73599999999999999,0.184,19.268000000000001,55.054000000000002]
["  2019/03/29 21:00:00",0.57899999999999996,10.050000000000001,10.631,30.431999999999999,52.621000000000002,0,-1.8340000000000001,0.32900000000000001,196.41800000000001,62.691000000000003]
["  2019/03/29 22:00:00",3.274,15.000999999999999,18.274999999999999,23.448,5.2050000000000001,0,-2.919,0.24,204.714,66.483000000000004]
["  2019/03/29 23:00:00",4.7080000000000002,10.047000000000001,14.756,27.747,5.2009999999999996,0,-2.8410000000000002,0.90500000000000003,213.54900000000001,65.536000000000001]
["  2019/03/30 00:00:00",0.47799999999999998,3.3690000000000002,3.8479999999999999,37.305999999999997,2.9849999999999999,0,-3.3530000000000002,0.876,191.40600000000001,66.340999999999994]
["  2019/03/30 01:00:00",1.0229999999999999,3.6139999999999999,4.6379999999999999,33.826000000000001,1.8660000000000001,0,-3.3559999999999999,0.872,181.37700000000001,67.832999999999998]
["  2019/03/30 02:00:00",0.86599999999999999,3.2949999999999999,4.1609999999999996,36.323999999999998,4.024,0,-3.4249999999999998,1.7889999999999999,212.61600000000001,67.355000000000004]
["  2019/03/30 03:00:00",1.431,2.6070000000000002,4.04,35.475999999999999,2.948,0,-4.2359999999999998,2.0099999999999998,209.22499999999999,69.212999999999994]
["  2019/03/30 04:00:00",3.8079999999999998,6.6790000000000003,10.487,29.361999999999998,1.4610000000000001,0,-4.9569999999999999,1.165,192.69900000000001,70.938000000000002]
["  2019/03/30 05:00:00",0.69299999999999995,1.8660000000000001,2.5590000000000002,33.127000000000002,0.83799999999999997,0,-4.5270000000000001,1.1990000000000001,193.536,70.753]
["  2019/03/30 06:00:00",1.0069999999999999,3.8170000000000002,4.8250000000000002,33.145000000000003,0.89200000000000002,0,-3.6429999999999998,1.3580000000000001,202.203,69.573999999999998]
["  2019/03/30 07:00:00",2.1579999999999999,3.395,5.5510000000000002,33.889000000000003,0.95599999999999996,0,-2.5750000000000002,1.177,194.077,67.799000000000007]
["  2019/03/30 08:00:00",1.1399999999999999,2.1720000000000002,3.31,37.158000000000001,1.135,0,-1.3680000000000001,1.2450000000000001,182.369,65.944000000000003]
["  2019/03/30 09:00:00",1.9039999999999999,3.1749999999999998,5.08,41.366999999999997,1.571,0,0.57199999999999995,1.782,188.25200000000001,59.67]
["  2019/03/30 10:00:00",0.78,1.347,2.1269999999999998,46.970999999999997,2.468,0,2.5640000000000001,2.3260000000000001,196.352,52.970999999999997]
["  2019/03/30 11:00:00",0.36799999999999999,1.075,1.4419999999999999,53.127000000000002,2.3479999999999999,0,4.3010000000000002,2.64,178.87799999999999,45.993000000000002]
["  2019/03/30 12:00:00",0.65900000000000003,1.659,2.3180000000000001,54.043999999999997,3.32,0,5.3639999999999999,2.9129999999999998,181.34200000000001,42.7]
["  2019/03/30 13:00:00",0.69799999999999995,1.6020000000000001,2.2999999999999998,55.92,3.0289999999999999,0,6.6260000000000003,2.9540000000000002,181.23699999999999,39.866]
["  2019/03/30 14:00:00",0.45200000000000001,1.121,1.5720000000000001,54.927999999999997,3.4790000000000001,0,8.8249999999999993,2.9569999999999999,189.035,38.137]
["  2019/03/30 15:00:00",0.375,1.157,1.53,56.914999999999999,2.6019999999999999,0,11.646000000000001,1.9790000000000001,184.773,33.673000000000002]
["  2019/03/30 16:00:00","        Z","        Z","        Z","        Z",3.0390000000000001,0,12.72,1.8520000000000001,323.06799999999998,33.588000000000001]
["  2019/03/30 17:00:00",0.34699999999999998,1.762,2.1070000000000002,58.567999999999998,4.2359999999999998,0,11.46,3.3519999999999999,352.60599999999999,38.527000000000001]
["  2019/03/30 18:00:00",0.28100000000000003,1.4870000000000001,1.766,54.73,4.9009999999999998,0,9,3.6110000000000002,9.1129999999999995,45.701000000000001]
["  2019/03/30 19:00:00",0.34399999999999997,2.073,2.415,51.84,13.038,0,5.944,2.2650000000000001,8.9719999999999995,54.067]
["  2019/03/30 20:00:00",0.36299999999999999,2.581,2.9420000000000002,47.731000000000002,15.241,0,3.988,2.7210000000000001,16.265999999999998,59.465000000000003]
["  2019/03/30 21:00:00",0.151,1.5229999999999999,1.67,49.213999999999999,5.25,0,2.6059999999999999,3.3519999999999999,3.968,61.356999999999999]
["  2019/03/30 22:00:00",0.318,1.212,1.5289999999999999,43.844000000000001,6.431,0,0.80700000000000005,3.2010000000000001,17.332000000000001,72.313999999999993]
["  2019/03/30 23:00:00",0.23499999999999999,1.3149999999999999,1.548,38.057000000000002,14.522,0,-0.56499999999999995,2.7029999999999998,16.253,79.194999999999993]
["  2019/03/31 00:00:00",0.39400000000000002,1.734,2.125,38.985999999999997,20.847999999999999,0,-0.63900000000000001,2.077,19.739999999999998,76.977000000000004]
["  2019/03/31 01:00:00",0.373,2.0249999999999999,2.3940000000000001,38.948,23.558,0,-0.32300000000000001,1.857,15.336,75.790999999999997]
["  2019/03/31 02:00:00",0.36599999999999999,1.5329999999999999,1.895,40.201999999999998,15.97,0,0.23,2.024,15.016,72.372]
["  2019/03/31 03:00:00",0.223,0.92100000000000004,1.141,44.872,5.2949999999999999,0,0.16700000000000001,2.085,2.5289999999999999,65.712999999999994]
["  2019/03/31 04:00:00",0.20799999999999999,1.0089999999999999,1.2130000000000001,45.365000000000002,5.0890000000000004,0,-0.129,2.492,9.5210000000000008,69.253]
["  2019/03/31 05:00:00",0.32700000000000001,0.84299999999999997,1.1659999999999999,44.802999999999997,4.8259999999999996,0,-1.6779999999999999,2.0760000000000001,14.201000000000001,72.801000000000002]
["  2019/03/31 06:00:00",0.224,0.76300000000000001,0.98199999999999998,40.045999999999999,4.5250000000000004,0,-2.1509999999999998,1.2969999999999999,2.355,75.680000000000007]
["  2019/03/31 07:00:00",0.20300000000000001,1.0209999999999999,1.2210000000000001,36.706000000000003,3.556,0,-2.286,1.5289999999999999,355.21699999999998,75.497]
["  2019/03/31 08:00:00",0.25700000000000001,0.999,1.2509999999999999,43.171999999999997,3.0150000000000001,0,-0.43099999999999999,1.9259999999999999,15.861000000000001,66.141999999999996]
["  2019/03/31 09:00:00",0.39,0.85499999999999998,1.24,45.731999999999999,2.7610000000000001,0,0.53800000000000003,1.8839999999999999,6.83,60.225000000000001]
["  2019/03/31 10:00:00",0.17399999999999999,0.72099999999999997,0.89100000000000001,47.204000000000001,2.0649999999999999,0,0.92800000000000005,1.6819999999999999,341.85700000000003,56.893999999999998]
["  2019/03/31 11:00:00",0.28899999999999998,0.6,0.88300000000000001,50.804000000000002,1.734,0,2.2360000000000002,2.202,321.83499999999998,48.82]
["  2019/03/31 12:00:00",0.38900000000000001,0.68200000000000005,1.0680000000000001,51.39,1.9359999999999999,0,2.6829999999999998,2.5710000000000002,327.13799999999998,44.070999999999998]
["  2019/03/31 13:00:00",0.48899999999999999,0.86199999999999999,1.3460000000000001,52.695999999999998,1.774,0,3.5539999999999998,2.254,333.07900000000001,40.680999999999997]
["  2019/03/31 14:00:00",0.39600000000000002,0.72399999999999998,1.1140000000000001,53.61,1.919,0,4.1050000000000004,2.19,323.94799999999998,38.406999999999996]
["  2019/03/31 15:00:00","        Z","        Z","        Z","        Z",2.085,0,4.7930000000000001,1.919,340.95400000000001,37.22]
["  2019/03/31 16:00:00",0.35599999999999998,0.94499999999999995,1.296,56.561999999999998,3.927,0,4.7770000000000001,1.7969999999999999,313.7,34.039000000000001]
["  2019/03/31 17:00:00",0.33800000000000002,1.083,1.4159999999999999,55.448,3.7450000000000001,0,4.585,1.835,320.62099999999998,34.466000000000001]
["  2019/03/31 18:00:00",0.88800000000000001,1.6180000000000001,2.5019999999999998,53.374000000000002,4.8250000000000002,0,3.8580000000000001,2.008,315.44600000000003,37.515000000000001]
["  2019/03/31 19:00:00",0.35899999999999999,2.3170000000000002,2.6709999999999998,46.366,4.9050000000000002,0,2.5099999999999998,0.71699999999999997,351.50299999999999,43.872]
["  2019/03/31 20:00:00",0.48799999999999999,5.92,6.4039999999999999,36.481999999999999,12.973000000000001,0,1.099,0.29799999999999999,318.54700000000003,49.646000000000001]
["  2019/03/31 21:00:00",0.24399999999999999,3.0179999999999998,3.2589999999999999,37.267000000000003,5.1929999999999996,0,-0.52600000000000002,0.50700000000000001,55.88,58.569000000000003]
["  2019/03/31 22:00:00",1.462,8.2579999999999991,9.7149999999999999,31.047999999999998,6.6420000000000003,0,-1.093,0.47699999999999998,171.381,63.03]
["  2019/03/31 23:00:00",1.0780000000000001,9.5289999999999999,10.602,25.152999999999999,9.2370000000000001,0,-1.669,0.45100000000000001,176.292,64.864000000000004]
[]
["Minimum",{"$f":"MIN(B6:B749)","v":-0.53300000000000003},{"$f":"MIN(C6:C749)","v":0.52400000000000002},{"$f":"MIN(D6:D749)","v":0.505},6.851,0.58899999999999997,{"$f":"MIN(G6:G749)","v":0},-31.108000000000001,{"$f":"MIN(I6:I749)","v":0.124},1.0720000000000001,{"$f":"MIN(K6:K749)","v":33.588000000000001}]
["MinDate",{"$f":"INDEX($A6:$A749,MATCH(MIN(B6:B749),B6:B749,0))","v":"  2019/03/22 18:00:00"},{"$f":"INDEX($A6:$A749,MATCH(MIN(C6:C749),C6:C749,0))","v":"  2019/03/24 11:00:00"},{"$f":"INDEX($A6:$A749,MATCH(MIN(D6:D749),D6:D749,0))","v":"  2019/03/24 16:00:00"},"  2019/03/01 09:00:00","  2019/03/27 19:00:00",{"$f":"INDEX($A6:$A749,MATCH(MIN(G6:G749),G6:G749,0))","v":"  2019/03/01 00:00:00"},"  2019/03/02 07:00:00",{"$f":"INDEX($A6:$A749,MATCH(MIN(I6:I749),I6:I749,0))","v":"  2019/03/23 04:00:00"},"  2019/03/01 03:00:00",{"$f":"INDEX($A6:$A749,MATCH(MIN(K6:K749),K6:K749,0))","v":"  2019/03/30 16:00:00"}]
["Maximum",{"$f":"MAX(B6:B749)","v":13.175000000000001},{"$f":"MAX(C6:C749)","v":20.933},{"$f":"MAX(D6:D749)","v":25.465},68.491,52.621000000000002,{"$f":"MAX(G6:G749)","v":0.06},14.41,{"$f":"MAX(I6:I749)","v":5.984},357.84199999999998,{"$f":"MAX(K6:K749)","v":86.611999999999995}]
["MaxDate",{"$f":"INDEX($A6:$A749,MATCH(MAX(B6:B749),B6:B749,0))","v":"  2019/03/20 16:00:00"},{"$f":"INDEX($A6:$A749,MATCH(MAX(C6:C749),C6:C749,0))","v":"  2019/03/10 03:00:00"},{"$f":"INDEX($A6:$A749,MATCH(MAX(D6:D749),D6:D749,0))","v":"  2019/03/20 16:00:00"},"  2019/03/20 17:00:00","  2019/03/29 21:00:00",{"$f":"INDEX($A6:$A749,MATCH(MAX(G6:G749),G6:G749,0))","v":"  2019/03/27 02:00:00"},"  2019/03/26 16:00:00",{"$f":"INDEX($A6:$A749,MATCH(MAX(I6:I749),I6:I749,0))","v":"  2019/03/03 11:00:00"},"  2019/03/01 07:00:00",{"$f":"INDEX($A6:$A749,MATCH(MAX(K6:K749),K6:K749,0))","v":"  2019/03/26 09:00:00"}]
["Avg",{"$f":"AVERAGE(B6:B749)","v":1.3071560283687946},{"$f":"AVERAGE(C6:C749)","v":5.1615517730496485},{"$f":"AVERAGE(D6:D749)","v":6.4681886524822714},39.869123404255348,6.0245291723202143,{"$f":"AVERAGE(G6:G749)","v":8.0645161290322581E-5},-4.9253413978494551,{"$f":"AVERAGE(I6:I749)","v":2.0285228494623668},206.31127016129031,{"$f":"AVERAGE(K6:K749)","v":64.462205645161347}]
["Num",{"$f":"COUNT(B6:B749)","v":705},{"$f":"COUNT(C6:C749)","v":705},{"$f":"COUNT(D6:D749)","v":705},705,737,{"$f":"COUNT(G6:G749)","v":744},744,{"$f":"COUNT(I6:I749)","v":744},744,{"$f":"COUNT(K6:K749)","v":744}]
["Data[%]",{"$f":"(B756/(COUNTA(B6:B749)))*100","v":94.758064516129039},{"$f":"(C756/(COUNTA(C6:C749)))*100","v":94.758064516129039},{"$f":"(D756/(COUNTA(D6:D749)))*100","v":94.758064516129039},94.758064516129039,99.05913978494624,{"$f":"(G756/(COUNTA(G6:G749)))*100","v":100},100,{"$f":"(I756/(COUNTA(I6:I749)))*100","v":100},100,{"$f":"(K756/(COUNTA(K6:K749)))*100","v":100}]
["STD",{"$f":"_xlfn.STDEV.P(B6:B749)","v":1.3936305232125243},{"$f":"_xlfn.STDEV.P(C6:C749)","v":3.182080463644303},{"$f":"_xlfn.STDEV.P(D6:D749)","v":3.9021356043900441},{"$f":"_xlfn.STDEV.P(E6:E749)","v":11.504257909883187},{"$f":"_xlfn.STDEV.P(F6:F749)","v":5.8644318047851351},"No data",{"$f":"_xlfn.STDEV.P(H6:H749)","v":9.3386455402226645},"No data",{"$f":"_xlfn.STDEV.P(J6:J749)","v":90.787309440185737},{"$f":"_xlfn.STDEV.P(K6:K749)","v":10.49230313451603}]

{"sheet":"Kerrobert","index":1,"n_rows":758,"n_cols":9,"rows_kept":758,"cut":false,"hidden":false,"merged":[]}
["Group: Global WYAMZ - Monthly Monthly: 01/2019  Type: AVG 1 Hr."]
[]
["Date & Time","Kerrobert","Kerrobert","Kerrobert","Kerrobert","Kerrobert","Kerrobert","Kerrobert","Kerrobert"]
[null,"SO2","H2S","PM25","PRECIP","TEMPERAT","RH","WS","WD"]
[null,"ppb","ppb","ug/m3(L)","mm","C°","%RH","m/s","Deg"]
[{"$f":"Clavet!A6","v":"  2019/03/01 00:00:00"},0.35799999999999998,-5.8000000000000003E-2,3.5680000000000001,0,-17.399000000000001,64.403000000000006,1.369,318.11200000000002]
[{"$f":"Clavet!A7","v":"  2019/03/01 01:00:00"},0.34200000000000003,-0.127,3.7269999999999999,0,-18.988,68.784000000000006,1.1839999999999999,321.38299999999998]
[{"$f":"Clavet!A8","v":"  2019/03/01 02:00:00"},0.43,-0.107,3.91,0,-19.501999999999999,72.177000000000007,1.5169999999999999,338.82600000000002]
[{"$f":"Clavet!A9","v":"  2019/03/01 03:00:00"},0.68799999999999994,-0.125,3.7170000000000001,0,-19.544,72.626000000000005,1.7010000000000001,341.55500000000001]
[{"$f":"Clavet!A10","v":"  2019/03/01 04:00:00"},0.52300000000000002,-3.1E-2,3.9449999999999998,0,-18.936,72.863,1.631,351.786]
[{"$f":"Clavet!A11","v":"  2019/03/01 05:00:00"},0.155,-0.08,3.72,0,-18.795000000000002,72.695999999999998,1.978,1.5489999999999999]
[{"$f":"Clavet!A12","v":"  2019/03/01 06:00:00"},0.30099999999999999,-6.5000000000000002E-2,4.1959999999999997,0,-20.036999999999999,72.063000000000002,2.0619999999999998,358.11399999999998]
[{"$f":"Clavet!A13","v":"  2019/03/01 07:00:00"},0.434,-0.11600000000000001,4.8140000000000001,0,-21.606999999999999,72.370999999999995,2.327,346.32799999999997]
[{"$f":"Clavet!A14","v":"  2019/03/01 08:00:00"},0.193,-9.7000000000000003E-2,5.3129999999999997,0,-22.789000000000001,72.41,1.8440000000000001,355.34800000000001]
[{"$f":"Clavet!A15","v":"  2019/03/01 09:00:00"},0.11700000000000001,-7.9000000000000001E-2,4.694,0,-22.631,71.179000000000002,2.0840000000000001,352.35199999999998]
[{"$f":"Clavet!A16","v":"  2019/03/01 10:00:00"},6.3E-2,-0.122,4.2149999999999999,0,-22.625,68.015000000000001,2.3620000000000001,341.96899999999999]
[{"$f":"Clavet!A17","v":"  2019/03/01 11:00:00"},6.2E-2,-2.1999999999999999E-2,3.609,0,-22.181000000000001,62.698,2.3959999999999999,336.286]
[{"$f":"Clavet!A18","v":"  2019/03/01 12:00:00"},8.6999999999999994E-2,-0.155,3.6749999999999998,0,-21.82,61.326000000000001,2.6789999999999998,326.01299999999998]
[{"$f":"Clavet!A19","v":"  2019/03/01 13:00:00"},0.31,-5.0999999999999997E-2,3.6280000000000001,0,-21.96,59.48,3.1080000000000001,328.04300000000001]
[{"$f":"Clavet!A20","v":"  2019/03/01 14:00:00"},0.71299999999999997,-0.11799999999999999,2.9079999999999999,0,-22.19,58.369,3.508,324.86099999999999]
[{"$f":"Clavet!A21","v":"  2019/03/01 15:00:00"},0.377,1.2999999999999999E-2,2.722,0,-22.45,59.069000000000003,3.8879999999999999,323.39]
[{"$f":"Clavet!A22","v":"  2019/03/01 16:00:00"},0.39700000000000002,-2.5000000000000001E-2,2.6640000000000001,0,-22.686,57.963999999999999,3.6520000000000001,324.166]
[{"$f":"Clavet!A23","v":"  2019/03/01 17:00:00"},0.376,-1.6E-2,2.8660000000000001,0,-23.177,57.93,3.2320000000000002,326.08100000000002]
[{"$f":"Clavet!A24","v":"  2019/03/01 18:00:00"},0.55200000000000005,1.6E-2,3.3519999999999999,0,-24.475999999999999,60.107999999999997,2.4860000000000002,329.88499999999999]
[{"$f":"Clavet!A25","v":"  2019/03/01 19:00:00"},0.76600000000000001,7.0999999999999994E-2,4.63,0,-25.943000000000001,62.442,3.226,325.04500000000002]
[{"$f":"Clavet!A26","v":"  2019/03/01 20:00:00"},0.70599999999999996,2.5000000000000001E-2,4.923,0,-26.664000000000001,62.533999999999999,3.3730000000000002,324.94400000000002]
[{"$f":"Clavet!A27","v":"  2019/03/01 21:00:00"},0.60199999999999998,4.2000000000000003E-2,5.2329999999999997,0,-28.545000000000002,63.817999999999998,2.4740000000000002,327.65699999999998]
[{"$f":"Clavet!A28","v":"  2019/03/01 22:00:00"},"       Z","       Z",5.4130000000000003,0,-29.922999999999998,64.822999999999993,2.294,337.03]
[{"$f":"Clavet!A29","v":"  2019/03/01 23:00:00"},0.77600000000000002,-1E-3,5.7359999999999998,0,-30.033999999999999,64.896000000000001,2.3340000000000001,334.09300000000002]
[{"$f":"Clavet!A30","v":"  2019/03/02 00:00:00"},0.82599999999999996,-0.13100000000000001,5.577,0,-30.425999999999998,64.938000000000002,2.1280000000000001,330.11599999999999]
[{"$f":"Clavet!A31","v":"  2019/03/02 01:00:00"},0.59499999999999997,-0.17,5.0490000000000004,0,-31.08,64.879000000000005,1.895,329.93700000000001]
[{"$f":"Clavet!A32","v":"  2019/03/02 02:00:00"},0.629,-0.19600000000000001,4.8659999999999997,0,-31.231000000000002,65.049000000000007,1.8779999999999999,316.67899999999997]
[{"$f":"Clavet!A33","v":"  2019/03/02 03:00:00"},0.63,-0.23599999999999999,5.008,0,-31.282,64.656999999999996,1.857,316.03100000000001]
[{"$f":"Clavet!A34","v":"  2019/03/02 04:00:00"},0.61899999999999999,-0.29399999999999998,4.9550000000000001,0,-31.475999999999999,64.694000000000003,1.8879999999999999,306.82400000000001]
[{"$f":"Clavet!A35","v":"  2019/03/02 05:00:00"},0.76500000000000001,-0.185,4.8899999999999997,0,-28.558,59.113999999999997,1.734,306.09199999999998]
[{"$f":"Clavet!A36","v":"  2019/03/02 06:00:00"},1.1459999999999999,0.29699999999999999,9.282,0,-32.598999999999997,65.635000000000005,1.831,301.39400000000001]
[{"$f":"Clavet!A37","v":"  2019/03/02 07:00:00"},1.198,0.67300000000000004,13.757999999999999,0,-33.030999999999999,65.796000000000006,1.7609999999999999,302.53399999999999]
[{"$f":"Clavet!A38","v":"  2019/03/02 08:00:00"},1.2729999999999999,1.071,16.648,0,-32.521000000000001,64.950999999999993,2.137,305.25599999999997]
[{"$f":"Clavet!A39","v":"  2019/03/02 09:00:00"},1.5149999999999999,1.214,16.074999999999999,0,-30.853999999999999,62.31,2.149,317.536]
[{"$f":"Clavet!A40","v":"  2019/03/02 10:00:00"},1.4490000000000001,1.085,10.529,0,-28.623999999999999,60.212000000000003,2.4420000000000002,300.42099999999999]
[{"$f":"Clavet!A41","v":"  2019/03/02 11:00:00"},1.1140000000000001,0.81699999999999995,5.508,0,-25.756,58.814999999999998,1.9650000000000001,308.54500000000002]
[{"$f":"Clavet!A42","v":"  2019/03/02 12:00:00"},0.93200000000000005,0.59,2.97,0,-24.510999999999999,59.067,2.4870000000000001,306.83600000000001]
[{"$f":"Clavet!A43","v":"  2019/03/02 13:00:00"},0.84099999999999997,0.249,2.0590000000000002,0,-23.702000000000002,59.576000000000001,3.335,300.98899999999998]
[{"$f":"Clavet!A44","v":"  2019/03/02 14:00:00"},0.67300000000000004,5.6000000000000001E-2,2.1749999999999998,0,-22.888000000000002,59.99,3.2440000000000002,304.46199999999999]
[{"$f":"Clavet!A45","v":"  2019/03/02 15:00:00"},0.44600000000000001,-0.221,2.069,0,-22.367000000000001,60.076000000000001,3.1749999999999998,306.11200000000002]
[{"$f":"Clavet!A46","v":"  2019/03/02 16:00:00"},0.32800000000000001,-0.34499999999999997,1.91,0,-22.143999999999998,60.128,3.3769999999999998,299.928]
[{"$f":"Clavet!A47","v":"  2019/03/02 17:00:00"},0.28899999999999998,-0.33100000000000002,1.9790000000000001,0,-22.265999999999998,60.523000000000003,3.2989999999999999,302.73399999999998]
[{"$f":"Clavet!A48","v":"  2019/03/02 18:00:00"},0.59399999999999997,-0.35599999999999998,3.1030000000000002,0,-22.962,62.59,2.9060000000000001,315.16899999999998]
[{"$f":"Clavet!A49","v":"  2019/03/02 19:00:00"},0.60299999999999998,-0.224,4.22,0,-23.995999999999999,64.150999999999996,2.6680000000000001,322.351]
[{"$f":"Clavet!A50","v":"  2019/03/02 20:00:00"},0.69799999999999995,-7.3999999999999996E-2,5.141,0,-24.721,65.007999999999996,2.246,318.57299999999998]
[{"$f":"Clavet!A51","v":"  2019/03/02 21:00:00"},"       Z","       Z",5.4729999999999999,0,-24.952000000000002,65.12,2.6960000000000002,304.14400000000001]
[{"$f":"Clavet!A52","v":"  2019/03/02 22:00:00"},1.6220000000000001,0.16700000000000001,5.51,0,-24.593,64.641999999999996,2.4860000000000002,312.32100000000003]
[{"$f":"Clavet!A53","v":"  2019/03/02 23:00:00"},2.242,0.155,4.9450000000000003,0,-24.643999999999998,64.251999999999995,2.4860000000000002,314.60500000000002]
[{"$f":"Clavet!A54","v":"  2019/03/03 00:00:00"},1.919,0.316,5.6559999999999997,0,-25.309000000000001,64.52,1.9970000000000001,322.94299999999998]
[{"$f":"Clavet!A55","v":"  2019/03/03 01:00:00"},1.7050000000000001,0.33800000000000002,6.0579999999999998,0,-25.997,65.063000000000002,2.1440000000000001,316.05399999999997]
[{"$f":"Clavet!A56","v":"  2019/03/03 02:00:00"},1.486,0.501,6.1589999999999998,0,-25.885999999999999,64.947999999999993,1.845,316.548]
[{"$f":"Clavet!A57","v":"  2019/03/03 03:00:00"},1.391,0.51500000000000001,6.0039999999999996,0,-25.591999999999999,64.710999999999999,2.2589999999999999,323.30599999999998]
[{"$f":"Clavet!A58","v":"  2019/03/03 04:00:00"},1.1120000000000001,0.56200000000000006,5.6689999999999996,0,-25.536999999999999,64.665999999999997,2.157,322.91699999999997]
[{"$f":"Clavet!A59","v":"  2019/03/03 05:00:00"},1.0129999999999999,0.72499999999999998,5.3330000000000002,0,-25.777999999999999,64.792000000000002,2.5299999999999998,319.15100000000001]
[{"$f":"Clavet!A60","v":"  2019/03/03 06:00:00"},1.0489999999999999,0.91200000000000003,5.367,0,-26.134,65.108000000000004,2.3330000000000002,312.44]
[{"$f":"Clavet!A61","v":"  2019/03/03 07:00:00"},1.044,1.0409999999999999,5.4050000000000002,0,-26.3,65.445999999999998,2.97,303.39600000000002]
[{"$f":"Clavet!A62","v":"  2019/03/03 08:00:00"},0.88,0.97199999999999998,4.58,0,-25.14,64.021000000000001,2.427,313.209]
[{"$f":"Clavet!A63","v":"  2019/03/03 09:00:00"},0.98599999999999999,0.93400000000000005,3.3250000000000002,0,-24.318999999999999,62.649000000000001,2.6520000000000001,311.27600000000001]
[{"$f":"Clavet!A64","v":"  2019/03/03 10:00:00"},0.77,0.84599999999999997,1.9039999999999999,0,-23.247,61.68,3.0369999999999999,307.47399999999999]
[{"$f":"Clavet!A65","v":"  2019/03/03 11:00:00"},0.66900000000000004,0.751,1.6120000000000001,0,-21.658999999999999,60.951000000000001,3.121,308.65600000000001]
[{"$f":"Clavet!A66","v":"  2019/03/03 12:00:00"},0.76600000000000001,0.61599999999999999,1.581,0,-19.879000000000001,61.179000000000002,3.43,314.34699999999998]
[{"$f":"Clavet!A67","v":"  2019/03/03 13:00:00"},0.79600000000000004,0.29299999999999998,1.46,0,-18.332000000000001,60.143999999999998,3.867,316.88099999999997]
[{"$f":"Clavet!A68","v":"  2019/03/03 14:00:00"},0.92900000000000005,2.5000000000000001E-2,1.4710000000000001,0,-17.279,60.756999999999998,3.4239999999999999,310.47199999999998]
[{"$f":"Clavet!A69","v":"  2019/03/03 15:00:00"},0.66700000000000004,-0.13200000000000001,1.0509999999999999,0,-13.038,47.345999999999997,3.0030000000000001,312.78300000000002]
[{"$f":"Clavet!A70","v":"  2019/03/03 16:00:00"},0.41399999999999998,-0.30299999999999999,1.294,0,-16.52,59.77,3.3260000000000001,311.642]
[{"$f":"Clavet!A71","v":"  2019/03/03 17:00:00"},1.3360000000000001,-0.159,1.2130000000000001,0,-17.193000000000001,60.767000000000003,3.2250000000000001,304.95]
[{"$f":"Clavet!A72","v":"  2019/03/03 18:00:00"},1.008,-5.6000000000000001E-2,1.2090000000000001,0,-18.099,61.396999999999998,3.0539999999999998,303.31099999999998]
[{"$f":"Clavet!A73","v":"  2019/03/03 19:00:00"},1.389,-7.6999999999999999E-2,1.2170000000000001,0,-18.882999999999999,62.081000000000003,2.895,308.72699999999998]
[{"$f":"Clavet!A74","v":"  2019/03/03 20:00:00"},"       Z","       Z",1.63,0,-19.766999999999999,62.951999999999998,2.6059999999999999,308.10199999999998]
[{"$f":"Clavet!A75","v":"  2019/03/03 21:00:00"},1.1850000000000001,-1.4999999999999999E-2,2.4460000000000002,0,-20.710999999999999,63.597000000000001,2.3740000000000001,302.52499999999998]
[{"$f":"Clavet!A76","v":"  2019/03/03 22:00:00"},1.0529999999999999,-7.0000000000000001E-3,3.3170000000000002,0,-21.462,64.245999999999995,2.335,302.27100000000002]
[{"$f":"Clavet!A77","v":"  2019/03/03 23:00:00"},1.22,-1.9E-2,7.0659999999999998,0,-21.152999999999999,63.402000000000001,2.7509999999999999,312.16800000000001]
[{"$f":"Clavet!A78","v":"  2019/03/04 00:00:00"},1.3440000000000001,0.13800000000000001,4.0220000000000002,0,-20.89,61.902999999999999,3.3279999999999998,319.03800000000001]
[{"$f":"Clavet!A79","v":"  2019/03/04 01:00:00"},1.413,0.11899999999999999,4.3099999999999996,0,-21.315999999999999,61.88,2.4220000000000002,306.81099999999998]
[{"$f":"Clavet!A80","v":"  2019/03/04 02:00:00"},1.165,8.2000000000000003E-2,4.4180000000000001,0,-21.204999999999998,60.95,2.2799999999999998,306.017]
[{"$f":"Clavet!A81","v":"  2019/03/04 03:00:00"},0.96499999999999997,4.3999999999999997E-2,4.1109999999999998,0,-21.128,60.459000000000003,2.2010000000000001,303.971]
[{"$f":"Clavet!A82","v":"  2019/03/04 04:00:00"},1.089,0.129,4.1280000000000001,0,-21.651,61.386000000000003,2.556,298.94499999999999]
[{"$f":"Clavet!A83","v":"  2019/03/04 05:00:00"},1.6970000000000001,0.13100000000000001,4.1989999999999998,0,-21.34,61.029000000000003,2.9249999999999998,297.01100000000002]
[{"$f":"Clavet!A84","v":"  2019/03/04 06:00:00"},1.9870000000000001,7.6999999999999999E-2,4.2069999999999999,0,-21.029,60.765000000000001,2.5819999999999999,305.76900000000001]
[{"$f":"Clavet!A85","v":"  2019/03/04 07:00:00"},2.044,0.113,4.2510000000000003,0,-20.734999999999999,59.765000000000001,2.8359999999999999,298.34899999999999]
[{"$f":"Clavet!A86","v":"  2019/03/04 08:00:00"},2.0299999999999998,0.154,4.1840000000000002,0,-20.469000000000001,59.334000000000003,3.4249999999999998,292.97500000000002]
[{"$f":"Clavet!A87","v":"  2019/03/04 09:00:00"},1.7310000000000001,9.0999999999999998E-2,3.6829999999999998,0,-18.997,57.393999999999998,3.4359999999999999,295.55200000000002]
[{"$f":"Clavet!A88","v":"  2019/03/04 10:00:00"},1.59,0.104,2.6629999999999998,0,-17.57,56.085000000000001,3.2050000000000001,304.88200000000001]
[{"$f":"Clavet!A89","v":"  2019/03/04 11:00:00"},1.5129999999999999,0.157,2.5110000000000001,0,-16.623000000000001,57.697000000000003,3.5139999999999998,306.52]
[{"$f":"Clavet!A90","v":"  2019/03/04 12:00:00"},1.1890000000000001,0.10199999999999999,2.234,0,-15.052,56.334000000000003,3.516,299.52499999999998]
[{"$f":"Clavet!A91","v":"  2019/03/04 13:00:00"},0.93899999999999995,0.114,1.7729999999999999,0,-13.605,56.003,3.2749999999999999,308.327]
[{"$f":"Clavet!A92","v":"  2019/03/04 14:00:00"},1.1240000000000001,0.104,1.9930000000000001,0,-12.768000000000001,57.198999999999998,3.3620000000000001,306.97199999999998]
[{"$f":"Clavet!A93","v":"  2019/03/04 15:00:00"},1.2450000000000001,0.17799999999999999,2.57,0,-12.207000000000001,57.9,3.8140000000000001,311.35700000000003]
[{"$f":"Clavet!A94","v":"  2019/03/04 16:00:00"},1.052,6.2E-2,3.0920000000000001,0,-11.782,59.241999999999997,3.8180000000000001,306.76299999999998]
[{"$f":"Clavet!A95","v":"  2019/03/04 17:00:00"},1.19,0.191,4.0620000000000003,0,-11.98,59.954999999999998,3.8370000000000002,295.61399999999998]
[{"$f":"Clavet!A96","v":"  2019/03/04 18:00:00"},1.0469999999999999,5.8999999999999997E-2,4.9290000000000003,0,-12.776,61.508000000000003,3.4279999999999999,296.02999999999997]
[{"$f":"Clavet!A97","v":"  2019/03/04 19:00:00"},"       Z","       Z",5.8390000000000004,0,-13.56,62.796999999999997,3.0870000000000002,307.26]
[{"$f":"Clavet!A98","v":"  2019/03/04 20:00:00"},0.97199999999999998,0.11799999999999999,6.7210000000000001,0,-13.321,61.654000000000003,2.7959999999999998,299.93200000000002]
[{"$f":"Clavet!A99","v":"  2019/03/04 21:00:00"},1.117,0.13100000000000001,5.399,0,-12.557,61.292000000000002,3.0310000000000001,310.77]
[{"$f":"Clavet!A100","v":"  2019/03/04 22:00:00"},1.141,0.13600000000000001,5.069,0,-12.41,61.642000000000003,2.9740000000000002,310.79899999999998]
[{"$f":"Clavet!A101","v":"  2019/03/04 23:00:00"},1.089,0.104,4.6890000000000001,0,-12.058,61.024000000000001,2.6120000000000001,308.60199999999998]
[{"$f":"Clavet!A102","v":"  2019/03/05 00:00:00"},0.94199999999999995,0.13100000000000001,4.4020000000000001,0,-11.816000000000001,60.802999999999997,2.2879999999999998,298.32600000000002]
[{"$f":"Clavet!A103","v":"  2019/03/05 01:00:00"},1.6990000000000001,0.13700000000000001,3.8610000000000002,0,-12.313000000000001,61.222000000000001,2.8759999999999999,292.22199999999998]
[{"$f":"Clavet!A104","v":"  2019/03/05 02:00:00"},2.548,0.114,4.1559999999999997,0,-12.305999999999999,60.493000000000002,2.3370000000000002,301.28399999999999]
[{"$f":"Clavet!A105","v":"  2019/03/05 03:00:00"},2.3639999999999999,5.0999999999999997E-2,4.2869999999999999,0,-12.125,60.819000000000003,2.3919999999999999,302.06599999999997]
[{"$f":"Clavet!A106","v":"  2019/03/05 04:00:00"},1.954,0.106,4.3140000000000001,0,-12.162000000000001,61.048000000000002,2.4279999999999999,298.49099999999999]
[{"$f":"Clavet!A107","v":"  2019/03/05 05:00:00"},1.694,5.5E-2,4.4619999999999997,0,-12.884,61.085000000000001,2.488,294.166]
[{"$f":"Clavet!A108","v":"  2019/03/05 06:00:00"},1.7649999999999999,6.2E-2,5.0030000000000001,0,-15.023999999999999,60.597999999999999,2.9689999999999999,290.03199999999998]
[{"$f":"Clavet!A109","v":"  2019/03/05 07:00:00"},1.649,7.4999999999999997E-2,5.3289999999999997,0,-15.981,61.18,2.5880000000000001,292.56900000000002]
[{"$f":"Clavet!A110","v":"  2019/03/05 08:00:00"},1.419,0.11700000000000001,5.3789999999999996,0,-15.769,59.253999999999998,2.2869999999999999,303.04199999999997]
[{"$f":"Clavet!A111","v":"  2019/03/05 09:00:00"},1.2030000000000001,6.8000000000000005E-2,4.694,0,-15.603,57.933,2.4119999999999999,303.55]
[{"$f":"Clavet!A112","v":"  2019/03/05 10:00:00"},1.5589999999999999,9.0999999999999998E-2,4.1399999999999997,0,-14.489000000000001,56.655999999999999,2.4460000000000002,300.43700000000001]
[{"$f":"Clavet!A113","v":"  2019/03/05 11:00:00"},1.738,0.14299999999999999,3.391,0,-13.284000000000001,55.962000000000003,2.5579999999999998,301.11799999999999]
[{"$f":"Clavet!A114","v":"  2019/03/05 12:00:00"},1.4950000000000001,0.13,2.9950000000000001,0,-12.425000000000001,56.822000000000003,3.266,292.762]
[{"$f":"Clavet!A115","v":"  2019/03/05 13:00:00"},1.012,8.4000000000000005E-2,2.66,0,-11.573,57.89,3.0369999999999999,309.82100000000003]
[{"$f":"Clavet!A116","v":"  2019/03/05 14:00:00"},0.81200000000000006,0.13400000000000001,2.601,0,-11.678000000000001,59.164999999999999,4.37,321.572]
[{"$f":"Clavet!A117","v":"  2019/03/05 15:00:00"},0.64400000000000002,3.4000000000000002E-2,2.282,0,-10.946999999999999,60.006999999999998,4.1790000000000003,322.85700000000003]
[{"$f":"Clavet!A118","v":"  2019/03/05 16:00:00"},0.67200000000000004,0.19,2.343,0,-10.933,61.356000000000002,3.0529999999999999,319.512]
[{"$f":"Clavet!A119","v":"  2019/03/05 17:00:00"},0.38600000000000001,0.122,2.3519999999999999,0,-11.282999999999999,62.206000000000003,2.4300000000000002,322.495]
[{"$f":"Clavet!A120","v":"  2019/03/05 18:00:00"},"       Z","       Z",2.7909999999999999,0,-12.412000000000001,63.295999999999999,1.821,325.38400000000001]
[{"$f":"Clavet!A121","v":"  2019/03/05 19:00:00"},0.27900000000000003,0.156,3.8929999999999998,0,-14.425000000000001,66.105999999999995,1.599,322.58999999999997]
[{"$f":"Clavet!A122","v":"  2019/03/05 20:00:00"},0.104,9.9000000000000005E-2,4.6559999999999997,0,-16.021999999999998,68.215999999999994,1.8580000000000001,320.82]
[{"$f":"Clavet!A123","v":"  2019/03/05 21:00:00"},0.17899999999999999,5.8000000000000003E-2,4.6020000000000003,0,-17.594999999999999,67.849000000000004,1.528,310.19499999999999]
[{"$f":"Clavet!A124","v":"  2019/03/05 22:00:00"},0.39800000000000002,8.1000000000000003E-2,4.9550000000000001,0,-17.518999999999998,70.787999999999997,1.744,325.25299999999999]
[{"$f":"Clavet!A125","v":"  2019/03/05 23:00:00"},0.373,5.2999999999999999E-2,4.3140000000000001,0,-17.175999999999998,68.715999999999994,1.2829999999999999,325.99700000000001]
[{"$f":"Clavet!A126","v":"  2019/03/06 00:00:00"},0.439,7.2999999999999995E-2,5.2140000000000004,0,-18.768000000000001,70.968000000000004,1.2969999999999999,318.42399999999998]
[{"$f":"Clavet!A127","v":"  2019/03/06 01:00:00"},0.51500000000000001,6.8000000000000005E-2,5.4809999999999999,0,-19.076000000000001,71.793999999999997,1.31,316.83699999999999]
[{"$f":"Clavet!A128","v":"  2019/03/06 02:00:00"},0.52700000000000002,5.5E-2,5.77,0,-18.257999999999999,73.225999999999999,1.1519999999999999,353.96199999999999]
[{"$f":"Clavet!A129","v":"  2019/03/06 03:00:00"},0.47399999999999998,-2.8000000000000001E-2,5.6310000000000002,0,-19.007000000000001,74.161000000000001,1.7949999999999999,11.483000000000001]
[{"$f":"Clavet!A130","v":"  2019/03/06 04:00:00"},0.437,3.4000000000000002E-2,5.1529999999999996,0,-19.225999999999999,72.466999999999999,1.4950000000000001,25.274000000000001]
[{"$f":"Clavet!A131","v":"  2019/03/06 05:00:00"},0.311,8.2000000000000003E-2,5.1130000000000004,0,-19.864000000000001,72.361999999999995,1.206,31.783000000000001]
[{"$f":"Clavet!A132","v":"  2019/03/06 06:00:00"},0.252,8.9999999999999993E-3,6.0279999999999996,0,-21.198,74.373000000000005,0.90200000000000002,35.156999999999996]
[{"$f":"Clavet!A133","v":"  2019/03/06 07:00:00"},0.29399999999999998,0.105,6.0819999999999999,0,-21.98,75.009,1.494,39.713000000000001]
[{"$f":"Clavet!A134","v":"  2019/03/06 08:00:00"},0.38100000000000001,4.4999999999999998E-2,5.8769999999999998,0,-22.106999999999999,74.221000000000004,1.744,52.686999999999998]
[{"$f":"Clavet!A135","v":"  2019/03/06 09:00:00"},0.72299999999999998,0.03,2.9529999999999998,0,-21.387,73.335999999999999,0.996,97.352000000000004]
[{"$f":"Clavet!A136","v":"  2019/03/06 10:00:00"},0.311,-6.0000000000000001E-3,1.962,0,-20.085999999999999,72.653999999999996,2.1339999999999999,109.367]
[{"$f":"Clavet!A137","v":"  2019/03/06 11:00:00"},0.14499999999999999,0.112,1.5780000000000001,0,-18.791,71.655000000000001,3.339,169.79499999999999]
[{"$f":"Clavet!A138","v":"  2019/03/06 12:00:00"},0.14699999999999999,2.9000000000000001E-2,1.7030000000000001,0,-17.286999999999999,68.558999999999997,4.0460000000000003,136.935]
[{"$f":"Clavet!A139","v":"  2019/03/06 13:00:00"},0.161,-0.02,1.8029999999999999,0,-16.355,67.905000000000001,3.9140000000000001,134.922]
[{"$f":"Clavet!A140","v":"  2019/03/06 14:00:00"},0.11700000000000001,-0.03,1.6870000000000001,0,-16.013000000000002,68.438999999999993,3.9060000000000001,127.25]
[{"$f":"Clavet!A141","v":"  2019/03/06 15:00:00"},0.127,6.8000000000000005E-2,1.694,0,-15.541,68.677000000000007,4.1820000000000004,126.029]
[{"$f":"Clavet!A142","v":"  2019/03/06 16:00:00"},0.09,-3.7999999999999999E-2,1.6990000000000001,0,-15.657999999999999,69.126999999999995,4.4820000000000002,119.634]
[{"$f":"Clavet!A143","v":"  2019/03/06 17:00:00"},"       Z","       Z",1.923,0,-16.286000000000001,69.697999999999993,3.6970000000000001,118.042]
[{"$f":"Clavet!A144","v":"  2019/03/06 18:00:00"},0.115,-1.0999999999999999E-2,2.9220000000000002,0,-17.884,71.637,2.8620000000000001,123.083]
[{"$f":"Clavet!A145","v":"  2019/03/06 19:00:00"},8.7999999999999995E-2,-2E-3,4.165,0,-19.027999999999999,72.89,3.415,128.67699999999999]
[{"$f":"Clavet!A146","v":"  2019/03/06 20:00:00"},0.08,-1.0999999999999999E-2,4.7789999999999999,0,-19.695,74.7,4.1769999999999996,132.792]
[{"$f":"Clavet!A147","v":"  2019/03/06 21:00:00"},7.6999999999999999E-2,-2.1000000000000001E-2,5.1829999999999998,0,-20.760999999999999,74.59,3.71,124.422]
[{"$f":"Clavet!A148","v":"  2019/03/06 22:00:00"},6.4000000000000001E-2,-4.8000000000000001E-2,7.51,0,-21.358000000000001,74.388000000000005,3.5550000000000002,124.20099999999999]
[{"$f":"Clavet!A149","v":"  2019/03/06 23:00:00"},5.6000000000000001E-2,0.26700000000000002,8.8420000000000005,0,-21.587,73.525000000000006,3.8809999999999998,127.836]
[{"$f":"Clavet!A150","v":"  2019/03/07 00:00:00"},0,0.55200000000000005,10.122999999999999,0,-22.725000000000001,73.165999999999997,2.5169999999999999,114.73399999999999]
[{"$f":"Clavet!A151","v":"  2019/03/07 01:00:00"},5.8999999999999997E-2,0.61199999999999999,9.3070000000000004,0,-22.02,72.805999999999997,2.8079999999999998,124.292]
[{"$f":"Clavet!A152","v":"  2019/03/07 02:00:00"},5.8999999999999997E-2,0.57699999999999996,8.2159999999999993,0,-22.776,72.394000000000005,1.978,101.435]
[{"$f":"Clavet!A153","v":"  2019/03/07 03:00:00"},0.108,0.52700000000000002,7.0830000000000002,0,-22.754000000000001,72.527000000000001,4.1280000000000001,124.813]
[{"$f":"Clavet!A154","v":"  2019/03/07 04:00:00"},0.12,0.68600000000000005,6.6150000000000002,0,-23.074000000000002,72.384,4.1669999999999998,122.992]
[{"$f":"Clavet!A155","v":"  2019/03/07 05:00:00"},0.25,0.99399999999999999,6.5629999999999997,0,-22.414999999999999,72.888999999999996,4.4329999999999998,124.776]
[{"$f":"Clavet!A156","v":"  2019/03/07 06:00:00"},0.65800000000000003,1.0640000000000001,5.8979999999999997,0,-21.024999999999999,73.010999999999996,5.0570000000000004,133.66300000000001]
[{"$f":"Clavet!A157","v":"  2019/03/07 07:00:00"},0.499,1.181,4.6760000000000002,0,-21.300999999999998,72.771000000000001,4.68,118.901]
[{"$f":"Clavet!A158","v":"  2019/03/07 08:00:00"},0.622,1.155,4.0730000000000004,0,-21.683,72.66,4.3970000000000002,120.72]
[{"$f":"Clavet!A159","v":"  2019/03/07 09:00:00"},0.61799999999999999,1.0069999999999999,2.468,0,-20.646999999999998,72.988,4.5970000000000004,122.39100000000001]
[{"$f":"Clavet!A160","v":"  2019/03/07 10:00:00"},0.52200000000000002,0.65500000000000003,1.966,0,-18.986000000000001,73.180000000000007,4.2,122.828]
[{"$f":"Clavet!A161","v":"  2019/03/07 11:00:00"},0.39900000000000002,0.42399999999999999,1.8879999999999999,0,-17.439,72.87,3.8919999999999999,122.551]
[{"$f":"Clavet!A162","v":"  2019/03/07 12:00:00"},0.34200000000000003,0.122,1.7929999999999999,0,-16.263000000000002,71.799000000000007,3.601,117.122]
[{"$f":"Clavet!A163","v":"  2019/03/07 13:00:00"},0.495,2.1000000000000001E-2,1.7629999999999999,0,-15.141,70.799000000000007,3.5590000000000002,112.176]
[{"$f":"Clavet!A164","v":"  2019/03/07 14:00:00"},0.65200000000000002,0.13200000000000001,1.4790000000000001,0,-14.198,71.451999999999998,3.774,107.774]
[{"$f":"Clavet!A165","v":"  2019/03/07 15:00:00"},0.72099999999999997,6.9000000000000006E-2,1.48,0,-13.394,72.259,4.5579999999999998,106.45399999999999]
[{"$f":"Clavet!A166","v":"  2019/03/07 16:00:00"},"       Z","       Z",1.4930000000000001,0,-12.704000000000001,73.298000000000002,4.8810000000000002,110.45]
[{"$f":"Clavet!A167","v":"  2019/03/07 17:00:00"},0.76,9.6000000000000002E-2,1.51,0,-12.260999999999999,73.186000000000007,4.5279999999999996,111.816]
[{"$f":"Clavet!A168","v":"  2019/03/07 18:00:00"},0.76800000000000002,7.2999999999999995E-2,1.601,0,-12.615,74.260999999999996,3.319,115.002]
[{"$f":"Clavet!A169","v":"  2019/03/07 19:00:00"},0.54300000000000004,-8.0000000000000002E-3,2.8069999999999999,0,-13.167,76.099999999999994,2.8929999999999998,117.73099999999999]
[{"$f":"Clavet!A170","v":"  2019/03/07 20:00:00"},0.46899999999999997,-2.4E-2,3.7589999999999999,0,-13.558999999999999,77.977999999999994,3.028,117.455]
[{"$f":"Clavet!A171","v":"  2019/03/07 21:00:00"},0.57499999999999996,-5.0000000000000001E-3,6.2380000000000004,0,-14.076000000000001,78.378,2.9710000000000001,121.92100000000001]
[{"$f":"Clavet!A172","v":"  2019/03/07 22:00:00"},0.66900000000000004,-7.0000000000000001E-3,7.9779999999999998,0,-14.057,78.477999999999994,2.508,94.536000000000001]
[{"$f":"Clavet!A173","v":"  2019/03/07 23:00:00"},0.63300000000000001,-4.8000000000000001E-2,8.8930000000000007,0,-14.875,78.007000000000005,1.9319999999999999,69.483999999999995]
[{"$f":"Clavet!A174","v":"  2019/03/08 00:00:00"},0.628,3.0000000000000001E-3,10.66,0,-15.366,77.323999999999998,1.7629999999999999,93.701999999999998]
[{"$f":"Clavet!A175","v":"  2019/03/08 01:00:00"},0.63700000000000001,7.0000000000000001E-3,11.273999999999999,0,-15.047000000000001,77.453000000000003,1.849,123.854]
[{"$f":"Clavet!A176","v":"  2019/03/08 02:00:00"},0.48099999999999998,-1.4E-2,12.544,0,-15.096,77.298000000000002,1.0649999999999999,153.55000000000001]
[{"$f":"Clavet!A177","v":"  2019/03/08 03:00:00"},0.253,-7.5999999999999998E-2,8.0500000000000007,0,-16.158999999999999,76.081000000000003,1.226,215.70099999999999]
[{"$f":"Clavet!A178","v":"  2019/03/08 04:00:00"},0.254,-7.0999999999999994E-2,7.7809999999999997,0,-16.803999999999998,75.900000000000006,2.4550000000000001,256.14299999999997]
[{"$f":"Clavet!A179","v":"  2019/03/08 05:00:00"},0.35899999999999999,-6.5000000000000002E-2,6.1970000000000001,0,-15.548,76.747,3.6970000000000001,263.19299999999998]
[{"$f":"Clavet!A180","v":"  2019/03/08 06:00:00"},0.314,6.3E-2,5.1020000000000003,0,-13.988,77.522999999999996,4.8550000000000004,266.83499999999998]
[{"$f":"Clavet!A181","v":"  2019/03/08 07:00:00"},0.40699999999999997,-6.4000000000000001E-2,4.5339999999999998,0,-13.698,77.22,4.8479999999999999,259.68599999999998]
[{"$f":"Clavet!A182","v":"  2019/03/08 08:00:00"},0.52700000000000002,-7.8E-2,4.43,0,-16.233000000000001,75.177000000000007,3.677,246.697]
[{"$f":"Clavet!A183","v":"  2019/03/08 09:00:00"},0.64400000000000002,-0.22500000000000001,4.9820000000000002,0,-16.832999999999998,74.917000000000002,3.0720000000000001,235.53700000000001]
[{"$f":"Clavet!A184","v":"  2019/03/08 10:00:00"},0.59299999999999997,-0.17699999999999999,6.1,0,-15.301,75.078999999999994,3.468,235.81700000000001]
[{"$f":"Clavet!A185","v":"  2019/03/08 11:00:00"},0.76800000000000002,-0.16600000000000001,6.2549999999999999,0,-13.09,72.852000000000004,3.54,240.001]
[{"$f":"Clavet!A186","v":"  2019/03/08 12:00:00"},1.5589999999999999,-0.114,6.3129999999999997,0,-11.548,67.742000000000004,4.5679999999999996,249.85400000000001]
[{"$f":"Clavet!A187","v":"  2019/03/08 13:00:00"},2.802,-0.124,7.2729999999999997,0,-10.817,67.584000000000003,5.1479999999999997,256.495]
[{"$f":"Clavet!A188","v":"  2019/03/08 14:00:00"},3.1869999999999998,-0.14199999999999999,9.9139999999999997,0,-9.5039999999999996,66.126999999999995,4.6760000000000002,250.81800000000001]
[{"$f":"Clavet!A189","v":"  2019/03/08 15:00:00"},"       Z","       Z",6.8159999999999998,0,-9.1340000000000003,65.256,5.391,263.03399999999999]
[{"$f":"Clavet!A190","v":"  2019/03/08 16:00:00"},1.7350000000000001,-4.5999999999999999E-2,5.15,0,-9.6159999999999997,67.643000000000001,6.476,277.00099999999998]
[{"$f":"Clavet!A191","v":"  2019/03/08 17:00:00"},1.887,-0.11600000000000001,6.149,0,-9.8369999999999997,71.319000000000003,3.65,286.32499999999999]
[{"$f":"Clavet!A192","v":"  2019/03/08 18:00:00"},1.2090000000000001,-0.14099999999999999,7.6740000000000004,0,-10.034000000000001,69.802000000000007,2.637,294.53399999999999]
[{"$f":"Clavet!A193","v":"  2019/03/08 19:00:00"},1.163,-3.7999999999999999E-2,7.548,0,-10.131,68.825999999999993,3.508,288.52199999999999]
[{"$f":"Clavet!A194","v":"  2019/03/08 20:00:00"},0.88100000000000001,-0.14099999999999999,6.98,0,-10.069000000000001,71.837000000000003,5.8250000000000002,277.83800000000002]
[{"$f":"Clavet!A195","v":"  2019/03/08 21:00:00"},0.66200000000000003,-0.183,7.4109999999999996,0,-10.182,75.046000000000006,5.6909999999999998,281.43400000000003]
[{"$f":"Clavet!A196","v":"  2019/03/08 22:00:00"},0.46500000000000002,-0.161,7.375,0,-10.839,76.497,3.2650000000000001,290.31]
[{"$f":"Clavet!A197","v":"  2019/03/08 23:00:00"},0.47399999999999998,-0.20499999999999999,7.3209999999999997,0,-10.464,76.998000000000005,2.165,300.58300000000003]
[{"$f":"Clavet!A198","v":"  2019/03/09 00:00:00"},0.39300000000000002,-0.14000000000000001,6.8179999999999996,0,-11.169,77.275000000000006,2.4660000000000002,292.14100000000002]
[{"$f":"Clavet!A199","v":"  2019/03/09 01:00:00"},0.38700000000000001,-0.16800000000000001,7.24,0,-12.153,77.623999999999995,3.101,285.226]
[{"$f":"Clavet!A200","v":"  2019/03/09 02:00:00"},0.29099999999999998,-0.159,6.2889999999999997,0,-12.653,77.215000000000003,4.1849999999999996,283.98500000000001]
[{"$f":"Clavet!A201","v":"  2019/03/09 03:00:00"},0.27600000000000002,-0.16400000000000001,5.84,0,-13.164,77.537000000000006,3.5920000000000001,286.30900000000003]
[{"$f":"Clavet!A202","v":"  2019/03/09 04:00:00"},0.36799999999999999,-0.23499999999999999,6.0629999999999997,0,-13.787000000000001,76.239000000000004,1.9059999999999999,296.358]
[{"$f":"Clavet!A203","v":"  2019/03/09 05:00:00"},0.49299999999999999,-0.14699999999999999,6.68,0,-14.004,76.867000000000004,2.1139999999999999,292.75900000000001]
[{"$f":"Clavet!A204","v":"  2019/03/09 06:00:00"},0.6,-0.153,6.6440000000000001,0,-13.85,76.927000000000007,3.177,285.98]
[{"$f":"Clavet!A205","v":"  2019/03/09 07:00:00"},0.69299999999999995,2.4E-2,5.1619999999999999,0,-10.377000000000001,60.805999999999997,2.1040000000000001,289.00200000000001]
[{"$f":"Clavet!A206","v":"  2019/03/09 08:00:00"},0.76200000000000001,-1.9E-2,4.6859999999999999,0,-13.231999999999999,75.426000000000002,2.0369999999999999,292.74]
[{"$f":"Clavet!A207","v":"  2019/03/09 09:00:00"},1.145,-3.5999999999999997E-2,3.375,0,-12.188000000000001,73.835999999999999,3.129,288.67500000000001]
[{"$f":"Clavet!A208","v":"  2019/03/09 10:00:00"},1.29,-5.3999999999999999E-2,2.48,0,-10.516,72.89,3.6680000000000001,288.87]
[{"$f":"Clavet!A209","v":"  2019/03/09 11:00:00"},1.476,3.0000000000000001E-3,2.0710000000000002,0,-8.86,70.061000000000007,2.2440000000000002,313.07299999999998]
[{"$f":"Clavet!A210","v":"  2019/03/09 12:00:00"},1.607,-2.7E-2,1.7909999999999999,0,-7.86,67.194000000000003,2.1970000000000001,322.483]
[{"$f":"Clavet!A211","v":"  2019/03/09 13:00:00"},1.645,-2.8000000000000001E-2,2.02,0,-6.9569999999999999,63.802999999999997,1.857,317.09699999999998]
[{"$f":"Clavet!A212","v":"  2019/03/09 14:00:00"},"       Z","       Z",2.7919999999999998,0,-6.3849999999999998,64.426000000000002,2.367,287.02800000000002]
[{"$f":"Clavet!A213","v":"  2019/03/09 15:00:00"},1.4790000000000001,0.113,4.0540000000000003,0,-6.3810000000000002,63.680999999999997,1.923,316.86]
[{"$f":"Clavet!A214","v":"  2019/03/09 16:00:00"},1.639,7.4999999999999997E-2,4.9880000000000004,0,-6.7960000000000003,63.439,2.1259999999999999,319.16699999999997]
[{"$f":"Clavet!A215","v":"  2019/03/09 17:00:00"},1.861,-1.2999999999999999E-2,6.4560000000000004,0,-7.1820000000000004,64.8,1.867,319.78899999999999]
[{"$f":"Clavet!A216","v":"  2019/03/09 18:00:00"},1.492,-8.9999999999999993E-3,8.0980000000000008,0,-8.8480000000000008,67.921999999999997,1.3740000000000001,315.14999999999998]
[{"$f":"Clavet!A217","v":"  2019/03/09 19:00:00"},0.79300000000000004,-1.6E-2,11.638999999999999,0,-11.004,72.242999999999995,0.94699999999999995,311.464]
[{"$f":"Clavet!A218","v":"  2019/03/09 20:00:00"},0.71699999999999997,-3.9E-2,12.042999999999999,0,-12.194000000000001,73.320999999999998,0.86399999999999999,304.38]
[{"$f":"Clavet!A219","v":"  2019/03/09 21:00:00"},0.66100000000000003,-4.0000000000000001E-3,12.068,0,-12.516999999999999,74.534999999999997,1.355,312.75200000000001]
[{"$f":"Clavet!A220","v":"  2019/03/09 22:00:00"},0.63900000000000001,-4.2999999999999997E-2,11.287000000000001,0,-13.518000000000001,73.659000000000006,0.98699999999999999,308.291]
[{"$f":"Clavet!A221","v":"  2019/03/09 23:00:00"},0.67200000000000004,-1.7999999999999999E-2,9.7949999999999999,0,-13.288,71.837000000000003,0.82799999999999996,309.12700000000001]
[{"$f":"Clavet!A222","v":"  2019/03/10 00:00:00"},0.68700000000000006,-1.2999999999999999E-2,6.3360000000000003,0,-12.206,67.835999999999999,0.58099999999999996,314.81200000000001]
[{"$f":"Clavet!A223","v":"  2019/03/10 01:00:00"},0.86499999999999999,-9.0999999999999998E-2,7.3129999999999997,0,-13.643000000000001,70.816999999999993,0.98399999999999999,319.19200000000001]
[{"$f":"Clavet!A224","v":"  2019/03/10 02:00:00"},0.83299999999999996,-3.3000000000000002E-2,7.6520000000000001,0,-14.797000000000001,74.638000000000005,1.482,314.76]
[{"$f":"Clavet!A225","v":"  2019/03/10 03:00:00"},0.71699999999999997,0.04,7.3120000000000003,0,-15.084,75.709000000000003,1.3029999999999999,316.06700000000001]
[{"$f":"Clavet!A226","v":"  2019/03/10 04:00:00"},0.59,5.0000000000000001E-3,7.79,0,-15.826000000000001,75.658000000000001,1.3120000000000001,304.86799999999999]
[{"$f":"Clavet!A227","v":"  2019/03/10 05:00:00"},0.64,3.0000000000000001E-3,8.2140000000000004,0,-15.949,75.75,1.0369999999999999,305.40600000000001]
[{"$f":"Clavet!A228","v":"  2019/03/10 06:00:00"},0.65800000000000003,-8.9999999999999993E-3,8.6839999999999993,0,-16.626000000000001,71.510000000000005,0.621,280.70800000000003]
[{"$f":"Clavet!A229","v":"  2019/03/10 07:00:00"},0.48099999999999998,-2.7E-2,7.6859999999999999,0,-19.492999999999999,70.257999999999996,0.89100000000000001,251.37899999999999]
[{"$f":"Clavet!A230","v":"  2019/03/10 08:00:00"},0.59299999999999997,7.0000000000000007E-2,7.4489999999999998,0,-18.276,73.77,1.123,254.77199999999999]
[{"$f":"Clavet!A231","v":"  2019/03/10 09:00:00"},1.47,6.7000000000000004E-2,4.3710000000000004,0,-12.571,67.034000000000006,0.56299999999999994,244.58600000000001]
[{"$f":"Clavet!A232","v":"  2019/03/10 10:00:00"},1.2929999999999999,7.9000000000000001E-2,3.6120000000000001,0,-13.51,62.366,0.48699999999999999,171.07900000000001]
[{"$f":"Clavet!A233","v":"  2019/03/10 11:00:00"},1.4670000000000001,0.21199999999999999,2.8820000000000001,0,-12.048,67.932000000000002,1.913,215.98400000000001]
[{"$f":"Clavet!A234","v":"  2019/03/10 12:00:00"},1.131,8.2000000000000003E-2,3.9420000000000002,0,-10.744999999999999,68.456000000000003,3.427,216.54900000000001]
[{"$f":"Clavet!A235","v":"  2019/03/10 13:00:00"},"       Z","       Z",6.1360000000000001,0,-10.036,69.277000000000001,3.7949999999999999,218.452]
[{"$f":"Clavet!A236","v":"  2019/03/10 14:00:00"},0.94899999999999995,9.6000000000000002E-2,6.9269999999999996,0,-9.0530000000000008,71.323999999999998,4.3109999999999999,214.41]
[{"$f":"Clavet!A237","v":"  2019/03/10 15:00:00"},0.93200000000000005,3.2000000000000001E-2,8.5589999999999993,0,-7.827,70.814999999999998,3.9689999999999999,213.33699999999999]
[{"$f":"Clavet!A238","v":"  2019/03/10 16:00:00"},0.83,7.4999999999999997E-2,10.188000000000001,0,-7.734,69.811000000000007,3.8340000000000001,217.47800000000001]
[{"$f":"Clavet!A239","v":"  2019/03/10 17:00:00"},1.1950000000000001,2.8000000000000001E-2,11.286,0,-8.1890000000000001,69.116,3.544,212.44200000000001]
[{"$f":"Clavet!A240","v":"  2019/03/10 18:00:00"},1.196,6.0000000000000001E-3,13.055999999999999,0,-9.5,71.799000000000007,3.7010000000000001,212.18199999999999]
[{"$f":"Clavet!A241","v":"  2019/03/10 19:00:00"},0.45600000000000002,7.1999999999999995E-2,23.173999999999999,0,-11.978999999999999,75.832999999999998,4.2069999999999999,215.08099999999999]
[{"$f":"Clavet!A242","v":"  2019/03/10 20:00:00"},0.35599999999999998,9.9000000000000005E-2,19.462,0,-13.837,76.396000000000001,3.4550000000000001,216.946]
[{"$f":"Clavet!A243","v":"  2019/03/10 21:00:00"},0.246,6.7000000000000004E-2,15.172000000000001,0,-14.218,77.745000000000005,4.2510000000000003,214.327]
[{"$f":"Clavet!A244","v":"  2019/03/10 22:00:00"},0.25600000000000001,5.0999999999999997E-2,13.551,0,-15.189,78.114999999999995,4.4260000000000002,215.137]
[{"$f":"Clavet!A245","v":"  2019/03/10 23:00:00"},0.26,3.4000000000000002E-2,14.414,0,-13.629,77.843000000000004,4.3209999999999997,217.22499999999999]
[{"$f":"Clavet!A246","v":"  2019/03/11 00:00:00"},0.32600000000000001,-1.6E-2,13.034000000000001,0,-13.028,75.950999999999993,4.17,217.126]
[{"$f":"Clavet!A247","v":"  2019/03/11 01:00:00"},0.32200000000000001,2E-3,12.108000000000001,0,-13.340999999999999,75.248999999999995,3.859,216.03299999999999]
[{"$f":"Clavet!A248","v":"  2019/03/11 02:00:00"},0.28199999999999997,7.2999999999999995E-2,13.244999999999999,0,-14.042999999999999,75.403999999999996,4.0229999999999997,212.49]
[{"$f":"Clavet!A249","v":"  2019/03/11 03:00:00"},0.216,3.5999999999999997E-2,13.446,0,-14.583,74.566999999999993,3.8370000000000002,213.38200000000001]
[{"$f":"Clavet!A250","v":"  2019/03/11 04:00:00"},0.13100000000000001,6.9000000000000006E-2,12.837999999999999,0,-14.465999999999999,73.510000000000005,3.6040000000000001,214.22800000000001]
[{"$f":"Clavet!A251","v":"  2019/03/11 05:00:00"},0.18,-4.0000000000000001E-3,10.776999999999999,0,-13.76,71.510999999999996,2.3220000000000001,218.822]
[{"$f":"Clavet!A252","v":"  2019/03/11 06:00:00"},0.13900000000000001,-2.9000000000000001E-2,8.6910000000000007,0,-12.356,70.3,2.359,215.93]
[{"$f":"Clavet!A253","v":"  2019/03/11 07:00:00"},5.8000000000000003E-2,1.7999999999999999E-2,6.968,0,-12.292,71.394000000000005,2.645,217.131]
[{"$f":"Clavet!A254","v":"  2019/03/11 08:00:00"},0.127,-6.5000000000000002E-2,5.2119999999999997,0,-10.71,70.707999999999998,3.258,216.51900000000001]
[{"$f":"Clavet!A255","v":"  2019/03/11 09:00:00"},0.35099999999999998,-6.5000000000000002E-2,3.8980000000000001,0,-9.4979999999999993,69.331000000000003,3.4119999999999999,225.649]
[{"$f":"Clavet!A256","v":"  2019/03/11 10:00:00"},0.45800000000000002,-3.7999999999999999E-2,3.24,0,-8.1340000000000003,67.296999999999997,2.8149999999999999,233.02600000000001]
[{"$f":"Clavet!A257","v":"  2019/03/11 11:00:00"},0.36699999999999999,0.112,2.6539999999999999,0,-7.0069999999999997,66.739999999999995,3,222.346]
[{"$f":"Clavet!A258","v":"  2019/03/11 12:00:00"},"       Z","       Z",2.4990000000000001,0,-5.7380000000000004,65.774000000000001,3.0030000000000001,222.56700000000001]
[{"$f":"Clavet!A259","v":"  2019/03/11 13:00:00"},0.41199999999999998,5.7000000000000002E-2,2.161,0,-3.4969999999999999,62.875999999999998,3.0409999999999999,227.68700000000001]
[{"$f":"Clavet!A260","v":"  2019/03/11 14:00:00"},0.254,6.2E-2,2.4180000000000001,0,-2.6509999999999998,62.780999999999999,3.2170000000000001,215.99299999999999]
[{"$f":"Clavet!A261","v":"  2019/03/11 15:00:00"},0.23699999999999999,0.109,3.2440000000000002,0,-2.0110000000000001,65.058000000000007,3.7759999999999998,210.661]
[{"$f":"Clavet!A262","v":"  2019/03/11 16:00:00"},7.0000000000000007E-2,7.1999999999999995E-2,3.8639999999999999,0,-1.671,65.283000000000001,4.0679999999999996,213.96899999999999]
[{"$f":"Clavet!A263","v":"  2019/03/11 17:00:00"},0.26400000000000001,0.155,4.8090000000000002,0,-1.758,67.403999999999996,4.0650000000000004,211.16300000000001]
[{"$f":"Clavet!A264","v":"  2019/03/11 18:00:00"},0.161,3.1E-2,5.4130000000000003,0,-3.1320000000000001,70.777000000000001,2.4830000000000001,194.98]
[{"$f":"Clavet!A265","v":"  2019/03/11 19:00:00"},0.104,5.0000000000000001E-3,6.19,0,-3.351,75.081999999999994,3.5470000000000002,198.29900000000001]
[{"$f":"Clavet!A266","v":"  2019/03/11 20:00:00"},4.3999999999999997E-2,0.05,6.2930000000000001,0,-3.125,75.843999999999994,4.3540000000000001,203.06299999999999]
[{"$f":"Clavet!A267","v":"  2019/03/11 21:00:00"},9.0999999999999998E-2,7.1999999999999995E-2,5.867,0,-2.4870000000000001,76.049000000000007,4.0010000000000003,213.07]
[{"$f":"Clavet!A268","v":"  2019/03/11 22:00:00"},0.187,0.14399999999999999,3.5790000000000002,0,-0.8,73.085999999999999,4.4939999999999998,215.864]
[{"$f":"Clavet!A269","v":"  2019/03/11 23:00:00"},0.13900000000000001,4.5999999999999999E-2,2.2730000000000001,0,-3.5999999999999997E-2,71.436999999999998,5.9539999999999997,216.792]
[{"$f":"Clavet!A270","v":"  2019/03/12 00:00:00"},0.20499999999999999,4.2000000000000003E-2,1.9390000000000001,0,0.52900000000000003,68.641999999999996,5.2039999999999997,222.72200000000001]
[{"$f":"Clavet!A271","v":"  2019/03/12 01:00:00"},0.221,0.10100000000000001,1.9550000000000001,0,0.60399999999999998,67.97,4.1399999999999997,229.94300000000001]
[{"$f":"Clavet!A272","v":"  2019/03/12 02:00:00"},0.14299999999999999,7.6999999999999999E-2,1.8919999999999999,0,0.42099999999999999,68.322999999999993,4.4809999999999999,250.08199999999999]
[{"$f":"Clavet!A273","v":"  2019/03/12 03:00:00"},0.214,0.04,2.0609999999999999,0,-0.53100000000000003,72.378,3.3039999999999998,268.08]
[{"$f":"Clavet!A274","v":"  2019/03/12 04:00:00"},0.14699999999999999,8.1000000000000003E-2,3.246,0,-1.3759999999999999,75.299000000000007,1.657,307.10000000000002]
[{"$f":"Clavet!A275","v":"  2019/03/12 05:00:00"},0.16500000000000001,7.2999999999999995E-2,7.61,0,-2.319,76.956000000000003,1.915,295.39499999999998]
[{"$f":"Clavet!A276","v":"  2019/03/12 06:00:00"},0.34699999999999998,9.2999999999999999E-2,7.8449999999999998,0,-1.9850000000000001,70.272000000000006,1.863,302.71800000000002]
[{"$f":"Clavet!A277","v":"  2019/03/12 07:00:00"},0.59199999999999997,1.4999999999999999E-2,5.9290000000000003,0,-0.875,62.624000000000002,2.7519999999999998,315.654]
[{"$f":"Clavet!A278","v":"  2019/03/12 08:00:00"},0.73299999999999998,5.0999999999999997E-2,9.7680000000000007,0,-2.8210000000000002,67.602999999999994,2.585,311.327]
[{"$f":"Clavet!A279","v":"  2019/03/12 09:00:00"},0.69499999999999995,4.8000000000000001E-2,7.2039999999999997,0,-2.0990000000000002,62.91,2.6749999999999998,311.43299999999999]
[{"$f":"Clavet!A280","v":"  2019/03/12 10:00:00"},0.746,1.9E-2,6.44,0,-1.847,62.030999999999999,3.169,313.99900000000002]
[{"$f":"Clavet!A281","v":"  2019/03/12 11:00:00"},"       Z","       Z",6.4960000000000004,0,-1.452,61.96,3.15,318.16899999999998]
[{"$f":"Clavet!A282","v":"  2019/03/12 12:00:00"},0.87,1.7999999999999999E-2,6.4630000000000001,0,-1.0629999999999999,62.119,2.9359999999999999,316.23500000000001]
[{"$f":"Clavet!A283","v":"  2019/03/12 13:00:00"},0.69799999999999995,0.06,5.6970000000000001,0,-1.2999999999999999E-2,59.695999999999998,2.88,315.93099999999998]
[{"$f":"Clavet!A284","v":"  2019/03/12 14:00:00"},"       C","       C","       C",0,0.72899999999999998,60.930999999999997,2.7210000000000001,306.89]
[{"$f":"Clavet!A285","v":"  2019/03/12 15:00:00"},"       C","       C","       C",0,1.2290000000000001,63.295999999999999,3.1019999999999999,309.84899999999999]
[{"$f":"Clavet!A286","v":"  2019/03/12 16:00:00"},"       C","       C","       C",0,1.3360000000000001,64.201999999999998,2.4060000000000001,315.57100000000003]
[{"$f":"Clavet!A287","v":"  2019/03/12 17:00:00"},"       C","       C","       C",0,1.0149999999999999,67.906000000000006,2.4740000000000002,313.45299999999997]
[{"$f":"Clavet!A288","v":"  2019/03/12 18:00:00"},"       C","       C","       C",0,0.28199999999999997,71.834999999999994,2.46,311.16500000000002]
[{"$f":"Clavet!A289","v":"  2019/03/12 19:00:00"},"       C","       C","       C",0,-0.23300000000000001,73.031999999999996,2.3450000000000002,312.709]
[{"$f":"Clavet!A290","v":"  2019/03/12 20:00:00"},0.34599999999999997,0.11600000000000001,1.968,0,-0.78500000000000003,74.543999999999997,1.7490000000000001,307.45499999999998]
[{"$f":"Clavet!A291","v":"  2019/03/12 21:00:00"},0.21099999999999999,1.6E-2,2.2999999999999998,0,-1.833,76.369,1.5609999999999999,306.72899999999998]
[{"$f":"Clavet!A292","v":"  2019/03/12 22:00:00"},0.14399999999999999,-4.1000000000000002E-2,2.226,0,-2.3370000000000002,76.695999999999998,1.756,300.65199999999999]
[{"$f":"Clavet!A293","v":"  2019/03/12 23:00:00"},0.191,-2.7E-2,2.0590000000000002,0,-2.8740000000000001,76.909000000000006,2.0110000000000001,290.29399999999998]
[{"$f":"Clavet!A294","v":"  2019/03/13 00:00:00"},0.26900000000000002,-3.5000000000000003E-2,1.97,0,-2.8769999999999998,76.325999999999993,1.718,297.113]
[{"$f":"Clavet!A295","v":"  2019/03/13 01:00:00"},0.32600000000000001,-3.2000000000000001E-2,1.8520000000000001,0,-3.3359999999999999,75.716999999999999,1.56,296.59699999999998]
[{"$f":"Clavet!A296","v":"  2019/03/13 02:00:00"},0.41699999999999998,3.0000000000000001E-3,1.643,0,-2.8109999999999999,74.334000000000003,1.61,301.92099999999999]
[{"$f":"Clavet!A297","v":"  2019/03/13 03:00:00"},0.45800000000000002,-8.8999999999999996E-2,1.08,0,-2.7930000000000001,72.841999999999999,1.95,308.19799999999998]
[{"$f":"Clavet!A298","v":"  2019/03/13 04:00:00"},0.377,-0.129,0.998,0,-3.42,73.441999999999993,2.1120000000000001,308.81099999999998]
[{"$f":"Clavet!A299","v":"  2019/03/13 05:00:00"},0.28499999999999998,2E-3,1.177,0,-4.1029999999999998,74.81,2.1880000000000002,313.64800000000002]
[{"$f":"Clavet!A300","v":"  2019/03/13 06:00:00"},0.22600000000000001,-2.4E-2,1.452,0,-5.0220000000000002,75.959999999999994,1.72,301.67599999999999]
[{"$f":"Clavet!A301","v":"  2019/03/13 07:00:00"},0.245,-1.7999999999999999E-2,1.93,0,-5.6609999999999996,76.260999999999996,2.14,307.12400000000002]
[{"$f":"Clavet!A302","v":"  2019/03/13 08:00:00"},0.38600000000000001,-5.5E-2,2.14,0,-6.4690000000000003,75.507999999999996,2.3580000000000001,311.60000000000002]
[{"$f":"Clavet!A303","v":"  2019/03/13 09:00:00"},0.61199999999999999,-2.5999999999999999E-2,1.865,0,-5.7990000000000004,72.435000000000002,2.5670000000000002,312.62299999999999]
[{"$f":"Clavet!A304","v":"  2019/03/13 10:00:00"},"       Z","       Z",1.8440000000000001,0,-4.83,70.335999999999999,2.7120000000000002,313.05900000000003]
[{"$f":"Clavet!A305","v":"  2019/03/13 11:00:00"},0.61499999999999999,3.5000000000000003E-2,1.9950000000000001,0,-3.69,68.822000000000003,2.67,315.60300000000001]
[{"$f":"Clavet!A306","v":"  2019/03/13 12:00:00"},0.64800000000000002,2.1999999999999999E-2,2.4159999999999999,0,-2.3929999999999998,66.906999999999996,2.2280000000000002,312.01900000000001]
[{"$f":"Clavet!A307","v":"  2019/03/13 13:00:00"},0.73399999999999999,7.0000000000000001E-3,2.4159999999999999,0,-1.256,65.814999999999998,2.1480000000000001,309.041]
[{"$f":"Clavet!A308","v":"  2019/03/13 14:00:00"},0.79400000000000004,6.3E-2,2.3519999999999999,0,-0.39700000000000002,64.846999999999994,1.9790000000000001,306.625]
[{"$f":"Clavet!A309","v":"  2019/03/13 15:00:00"},0.68200000000000005,1.7000000000000001E-2,2.3690000000000002,0,0.27200000000000002,64.635000000000005,1.966,299.755]
[{"$f":"Clavet!A310","v":"  2019/03/13 16:00:00"},0.56999999999999995,8.8999999999999996E-2,2.8420000000000001,0,0.30399999999999999,64.161000000000001,1.9890000000000001,302.46199999999999]
[{"$f":"Clavet!A311","v":"  2019/03/13 17:00:00"},0.503,0.114,3.3860000000000001,0,7.0999999999999994E-2,64.822000000000003,1.7629999999999999,295.66699999999997]
[{"$f":"Clavet!A312","v":"  2019/03/13 18:00:00"},0.34,0.05,2.6339999999999999,0,-1.532,69.010000000000005,2.0960000000000001,289.596]
[{"$f":"Clavet!A313","v":"  2019/03/13 19:00:00"},0.23400000000000001,-2.8000000000000001E-2,2.8010000000000002,0,-4.3070000000000004,72.832999999999998,1.9710000000000001,287.65100000000001]
[{"$f":"Clavet!A314","v":"  2019/03/13 20:00:00"},0.156,3.6999999999999998E-2,2.8029999999999999,0,-5.6950000000000003,73.677000000000007,1.272,293.50099999999998]
[{"$f":"Clavet!A315","v":"  2019/03/13 21:00:00"},0.17699999999999999,-3.4000000000000002E-2,2.6709999999999998,0,-6.7389999999999999,74.194000000000003,1.2729999999999999,294.04300000000001]
[{"$f":"Clavet!A316","v":"  2019/03/13 22:00:00"},0.20499999999999999,6.3E-2,2.1539999999999999,0,-7.4729999999999999,74.325000000000003,1.319,295.82600000000002]
[{"$f":"Clavet!A317","v":"  2019/03/13 23:00:00"},0.219,1.6E-2,1.649,0,-8.3130000000000006,74.290999999999997,1.4,298.94600000000003]
[{"$f":"Clavet!A318","v":"  2019/03/14 00:00:00"},0.14399999999999999,0.10299999999999999,1.2490000000000001,0,-8.6020000000000003,72.367999999999995,1.2909999999999999,294.45699999999999]
[{"$f":"Clavet!A319","v":"  2019/03/14 01:00:00"},0.26100000000000001,6.4000000000000001E-2,1.3979999999999999,0,-8.0540000000000003,70.823999999999998,1.409,301.81900000000002]
[{"$f":"Clavet!A320","v":"  2019/03/14 02:00:00"},0.27,6.3E-2,1.6719999999999999,0,-8.7279999999999998,70.748000000000005,1.5740000000000001,296.85399999999998]
[{"$f":"Clavet!A321","v":"  2019/03/14 03:00:00"},0.27100000000000002,0.10199999999999999,1.6020000000000001,0,-9.2539999999999996,69.433000000000007,2.0739999999999998,287.358]
[{"$f":"Clavet!A322","v":"  2019/03/14 04:00:00"},0.40200000000000002,5.7000000000000002E-2,2.5209999999999999,0,-7.8170000000000002,67.010999999999996,3.9390000000000001,277.54500000000002]
[{"$f":"Clavet!A323","v":"  2019/03/14 05:00:00"},0.36599999999999999,8.1000000000000003E-2,2.8220000000000001,0,-6.4429999999999996,66.924000000000007,3.9620000000000002,280.024]
[{"$f":"Clavet!A324","v":"  2019/03/14 06:00:00"},0.249,9.7000000000000003E-2,2.7290000000000001,0,-5.4169999999999998,66.718000000000004,4.8929999999999998,272.62400000000002]
[{"$f":"Clavet!A325","v":"  2019/03/14 07:00:00"},0.19800000000000001,0.12,4.7329999999999997,0,-6.2480000000000002,70.253,5.9980000000000002,277.83100000000002]
[{"$f":"Clavet!A326","v":"  2019/03/14 08:00:00"},0.23,0.14599999999999999,5.6470000000000002,0,-7.2939999999999996,71.662000000000006,3.508,287.89800000000002]
[{"$f":"Clavet!A327","v":"  2019/03/14 09:00:00"},"       Z","       Z",5.0919999999999996,0,-6.77,68.722999999999999,2.403,295.91500000000002]
[{"$f":"Clavet!A328","v":"  2019/03/14 10:00:00"},0.80100000000000005,0.21099999999999999,4.8499999999999996,0,-5.093,64.867999999999995,2.298,295.61399999999998]
[{"$f":"Clavet!A329","v":"  2019/03/14 11:00:00"},0.84199999999999997,9.2999999999999999E-2,4.5430000000000001,0,-3.8530000000000002,63.213999999999999,2.5670000000000002,293.59699999999998]
[{"$f":"Clavet!A330","v":"  2019/03/14 12:00:00"},0.79300000000000004,6.5000000000000002E-2,4.0949999999999998,0,-2.198,61.688000000000002,2.0489999999999999,305.95]
[{"$f":"Clavet!A331","v":"  2019/03/14 13:00:00"},0.747,0.125,3.75,0,-1.3740000000000001,61.104999999999997,2.0550000000000002,305.56099999999998]
[{"$f":"Clavet!A332","v":"  2019/03/14 14:00:00"},0.69099999999999995,0.109,3.0960000000000001,0,-0.185,60.424999999999997,1.9379999999999999,304.14400000000001]
[{"$f":"Clavet!A333","v":"  2019/03/14 15:00:00"},0.51700000000000002,0.156,2.581,0,0.61199999999999999,61.136000000000003,2.0179999999999998,295.59699999999998]
[{"$f":"Clavet!A334","v":"  2019/03/14 16:00:00"},0.47199999999999998,0.12,2.4409999999999998,0,0.76200000000000001,61.698999999999998,1.944,289.81]
[{"$f":"Clavet!A335","v":"  2019/03/14 17:00:00"},0.47899999999999998,8.3000000000000004E-2,2.4279999999999999,0,0.16500000000000001,62.935000000000002,1.821,289.238]
[{"$f":"Clavet!A336","v":"  2019/03/14 18:00:00"},0.34499999999999997,0.16,2.375,0,-2.1709999999999998,66.491,2.1219999999999999,284.26400000000001]
[{"$f":"Clavet!A337","v":"  2019/03/14 19:00:00"},0.185,0.125,2.6829999999999998,0,-4.6230000000000002,70.492000000000004,1.5549999999999999,278.96499999999997]
[{"$f":"Clavet!A338","v":"  2019/03/14 20:00:00"},0.13900000000000001,4.8000000000000001E-2,2.8820000000000001,0,-5.99,70.55,1.7410000000000001,265.48]
[{"$f":"Clavet!A339","v":"  2019/03/14 21:00:00"},0.158,0.107,2.274,0,-7.0579999999999998,71.944000000000003,1.282,223.399]
[{"$f":"Clavet!A340","v":"  2019/03/14 22:00:00"},0.11,0.115,2.927,0,-7.3630000000000004,75.459999999999994,1.53,219.965]
[{"$f":"Clavet!A341","v":"  2019/03/14 23:00:00"},0.14699999999999999,8.2000000000000003E-2,4.9509999999999996,0,-6.8890000000000002,76.319000000000003,1.6180000000000001,242.71799999999999]
[{"$f":"Clavet!A342","v":"  2019/03/15 00:00:00"},0.22600000000000001,0.14699999999999999,5.27,0,-7.04,75.033000000000001,1.6950000000000001,236.42]
[{"$f":"Clavet!A343","v":"  2019/03/15 01:00:00"},0.151,0.113,6.2560000000000002,0,-7.9619999999999997,76.153999999999996,0.92700000000000005,221.46199999999999]
[{"$f":"Clavet!A344","v":"  2019/03/15 02:00:00"},0.17100000000000001,0.39600000000000002,6.4630000000000001,0,-9.9649999999999999,76.007999999999996,1.2509999999999999,218.709]
[{"$f":"Clavet!A345","v":"  2019/03/15 03:00:00"},5.5E-2,0.26800000000000002,8.2360000000000007,0,-12.612,78.894000000000005,1.7430000000000001,218.70500000000001]
[{"$f":"Clavet!A346","v":"  2019/03/15 04:00:00"},0.109,0.246,9.3469999999999995,0,-10.545999999999999,77.759,1.5049999999999999,214.60300000000001]
[{"$f":"Clavet!A347","v":"  2019/03/15 05:00:00"},7.1999999999999995E-2,0.25600000000000001,10.038,0,-10.143000000000001,76.33,0.94399999999999995,194.39599999999999]
[{"$f":"Clavet!A348","v":"  2019/03/15 06:00:00"},3.3000000000000002E-2,0.23400000000000001,13.6,0,-10.933999999999999,78.209999999999994,1.4610000000000001,215.36]
[{"$f":"Clavet!A349","v":"  2019/03/15 07:00:00"},1.2999999999999999E-2,0.36199999999999999,15.722,0,-10.212999999999999,79.073999999999998,1.357,215.358]
[{"$f":"Clavet!A350","v":"  2019/03/15 08:00:00"},"       Z","       Z",15.589,0,-10.635,78.009,1.3640000000000001,223.23]
[{"$f":"Clavet!A351","v":"  2019/03/15 09:00:00"},0.28699999999999998,0.43,19.225000000000001,0,-7.9560000000000004,75.551000000000002,0.95599999999999996,250.9]
[{"$f":"Clavet!A352","v":"  2019/03/15 10:00:00"},0.35199999999999998,0.378,16.489000000000001,0,-5.6559999999999997,73.388999999999996,1.6739999999999999,271.26600000000002]
[{"$f":"Clavet!A353","v":"  2019/03/15 11:00:00"},0.51600000000000001,0.219,13.319000000000001,0,-2.8420000000000001,67.581000000000003,1.8560000000000001,253.096]
[{"$f":"Clavet!A354","v":"  2019/03/15 12:00:00"},0.42299999999999999,0.252,10.952999999999999,0,-2.2730000000000001,66.569999999999993,2.9489999999999998,286.91399999999999]
[{"$f":"Clavet!A355","v":"  2019/03/15 13:00:00"},0.78500000000000003,0.111,7.0750000000000002,0,-0.29399999999999998,61.828000000000003,1.621,302.798]
[{"$f":"Clavet!A356","v":"  2019/03/15 14:00:00"},0.79500000000000004,0.21199999999999999,5.8090000000000002,0,0.75,63.844999999999999,1.623,297.649]
[{"$f":"Clavet!A357","v":"  2019/03/15 15:00:00"},0.69599999999999995,0.185,4.3789999999999996,0,2.1419999999999999,61.518000000000001,2.3210000000000002,289.68]
[{"$f":"Clavet!A358","v":"  2019/03/15 16:00:00"},0.50900000000000001,0.222,2.7309999999999999,0,2.2490000000000001,62.036000000000001,2.9089999999999998,289.13499999999999]
[{"$f":"Clavet!A359","v":"  2019/03/15 17:00:00"},0.35899999999999999,0.218,2.6869999999999998,0,1.663,61.207000000000001,3.052,290.52199999999999]
[{"$f":"Clavet!A360","v":"  2019/03/15 18:00:00"},0.29099999999999998,0.34599999999999997,2.5670000000000002,0,-2.5000000000000001E-2,60.722000000000001,2.2269999999999999,288.89800000000002]
[{"$f":"Clavet!A361","v":"  2019/03/15 19:00:00"},0.20499999999999999,0.158,2.218,0,-1.948,67.59,3.6709999999999998,280.89999999999998]
[{"$f":"Clavet!A362","v":"  2019/03/15 20:00:00"},0.125,0.184,2.2599999999999998,0,-3.8559999999999999,68.918000000000006,3.105,284.13299999999998]
[{"$f":"Clavet!A363","v":"  2019/03/15 21:00:00"},0.11899999999999999,0.153,2.0299999999999998,0,-5.4050000000000002,70.95,2.0950000000000002,286.96899999999999]
[{"$f":"Clavet!A364","v":"  2019/03/15 22:00:00"},0.09,0.114,2.0329999999999999,0,-6.431,71.135000000000005,2.1,286.56]
[{"$f":"Clavet!A365","v":"  2019/03/15 23:00:00"},0.17199999999999999,0.19800000000000001,2.1120000000000001,0,-6.5720000000000001,71.887,2.2269999999999999,286.30900000000003]
[{"$f":"Clavet!A366","v":"  2019/03/16 00:00:00"},0.35399999999999998,0.155,2.0590000000000002,0,-5.7069999999999999,67.204999999999998,2.923,285.92500000000001]
[{"$f":"Clavet!A367","v":"  2019/03/16 01:00:00"},0.30299999999999999,0.17299999999999999,1.962,0,-6.35,65.466999999999999,2.2589999999999999,286.95600000000002]
[{"$f":"Clavet!A368","v":"  2019/03/16 02:00:00"},0.251,0.17499999999999999,1.9,0,-6.8479999999999999,65.588999999999999,1.946,288.29500000000002]
[{"$f":"Clavet!A369","v":"  2019/03/16 03:00:00"},0.14499999999999999,0.23499999999999999,2.82,0,-7.3280000000000003,67.105000000000004,2.637,285.678]
[{"$f":"Clavet!A370","v":"  2019/03/16 04:00:00"},9.2999999999999999E-2,0.17899999999999999,3.3290000000000002,0,-8.2919999999999998,66.778000000000006,1.494,286.666]
[{"$f":"Clavet!A371","v":"  2019/03/16 05:00:00"},7.0999999999999994E-2,0.17199999999999999,4.8819999999999997,0,-8.9079999999999995,68.903999999999996,1.8839999999999999,283.05900000000003]
[{"$f":"Clavet!A372","v":"  2019/03/16 06:00:00"},7.8E-2,0.224,6.9509999999999996,0,-8.3290000000000006,71.412000000000006,3.4279999999999999,280.92099999999999]
[{"$f":"Clavet!A373","v":"  2019/03/16 07:00:00"},"       Z","       Z",7.4029999999999996,0,-7.8170000000000002,70.843999999999994,3.3660000000000001,283.09300000000002]
[{"$f":"Clavet!A374","v":"  2019/03/16 08:00:00"},0.247,0.41099999999999998,8.0370000000000008,0,-6.73,69.584999999999994,4.0540000000000003,272.79000000000002]
[{"$f":"Clavet!A375","v":"  2019/03/16 09:00:00"},0.246,0.248,7.7640000000000002,0,-5.4859999999999998,68.5,3.7490000000000001,284.34399999999999]
[{"$f":"Clavet!A376","v":"  2019/03/16 10:00:00"},0.47099999999999997,0.59,8.9260000000000002,0,-3.5419999999999998,65.768000000000001,3.3,291.39600000000002]
[{"$f":"Clavet!A377","v":"  2019/03/16 11:00:00"},0.39200000000000002,0.27100000000000002,7.2110000000000003,0,-1.6990000000000001,62.908999999999999,3.0990000000000002,287.899]
[{"$f":"Clavet!A378","v":"  2019/03/16 12:00:00"},0.36499999999999999,0.20899999999999999,6.9180000000000001,0,2.3E-2,59.927,2.85,287.62599999999998]
[{"$f":"Clavet!A379","v":"  2019/03/16 13:00:00"},0.50700000000000001,0.17799999999999999,6.11,0,1.3979999999999999,55.978999999999999,2.2850000000000001,289.721]
[{"$f":"Clavet!A380","v":"  2019/03/16 14:00:00"},0.91,0.22,4.9850000000000003,0,1.982,54.978999999999999,2.6070000000000002,285.733]
[{"$f":"Clavet!A381","v":"  2019/03/16 15:00:00"},0.59799999999999998,0.20399999999999999,3.1749999999999998,0,2.7250000000000001,51.139000000000003,1.647,303.00400000000002]
[{"$f":"Clavet!A382","v":"  2019/03/16 16:00:00"},0.61899999999999999,0.22600000000000001,3.37,0,2.6259999999999999,54.07,1.7130000000000001,294.26799999999997]
[{"$f":"Clavet!A383","v":"  2019/03/16 17:00:00"},0.52300000000000002,0.16,3.516,0,2.2189999999999999,55.933,1.26,297.63]
[{"$f":"Clavet!A384","v":"  2019/03/16 18:00:00"},0.33600000000000002,0.189,4.0199999999999996,0,-0.224,63.424999999999997,1.3160000000000001,287.42500000000001]
[{"$f":"Clavet!A385","v":"  2019/03/16 19:00:00"},0.188,0.11,5.0119999999999996,0,-2.609,67.361000000000004,0.68,290.31599999999997]
[{"$f":"Clavet!A386","v":"  2019/03/16 20:00:00"},0.20599999999999999,0.21199999999999999,6.2160000000000002,0,-3.7320000000000002,68.031000000000006,0.85099999999999998,291.48]
[{"$f":"Clavet!A387","v":"  2019/03/16 21:00:00"},0.29799999999999999,0.13500000000000001,5.89,0,-4.1319999999999997,67.596000000000004,0.97899999999999998,303.5]
[{"$f":"Clavet!A388","v":"  2019/03/16 22:00:00"},0.25,0.10199999999999999,4.8570000000000002,0,-4.7539999999999996,67.953999999999994,1.286,313.51600000000002]
[{"$f":"Clavet!A389","v":"  2019/03/16 23:00:00"},0.224,8.9999999999999993E-3,4.8120000000000003,0,-5.09,68.343000000000004,1.341,311.726]
[{"$f":"Clavet!A390","v":"  2019/03/17 00:00:00"},0.27300000000000002,0.10199999999999999,4.9080000000000004,0,-5.4779999999999998,69.308000000000007,1.879,317.79599999999999]
[{"$f":"Clavet!A391","v":"  2019/03/17 01:00:00"},0.33700000000000002,7.8E-2,4.6040000000000001,0,-5.6219999999999999,65.796000000000006,1.7050000000000001,315.23]
[{"$f":"Clavet!A392","v":"  2019/03/17 02:00:00"},0.40600000000000003,0.156,4.9189999999999996,0,-6.1840000000000002,71.075000000000003,1.778,315.83499999999998]
[{"$f":"Clavet!A393","v":"  2019/03/17 03:00:00"},0.495,0.122,4.9669999999999996,0,-6.4349999999999996,71.834000000000003,1.589,313.738]
[{"$f":"Clavet!A394","v":"  2019/03/17 04:00:00"},0.39,6.0000000000000001E-3,5.3250000000000002,0,-8.2210000000000001,72.981999999999999,1.3180000000000001,260.40199999999999]
[{"$f":"Clavet!A395","v":"  2019/03/17 05:00:00"},0.223,8.4000000000000005E-2,6.0759999999999996,0,-10.057,76.257999999999996,1.077,240.94399999999999]
[{"$f":"Clavet!A396","v":"  2019/03/17 06:00:00"},"       Z","       Z",6.5069999999999997,0,-7.97,72.703000000000003,0.78500000000000003,252.554]
[{"$f":"Clavet!A397","v":"  2019/03/17 07:00:00"},0.224,0.14199999999999999,7.3449999999999998,0,-11.622999999999999,75.977999999999994,1.411,229.19499999999999]
[{"$f":"Clavet!A398","v":"  2019/03/17 08:00:00"},0.80500000000000005,0.3,8.73,0,-8.6850000000000005,74.769000000000005,1.5680000000000001,238.77099999999999]
[{"$f":"Clavet!A399","v":"  2019/03/17 09:00:00"},1.613,0.60899999999999999,12.958,0,-6.2130000000000001,73.091999999999999,1.6819999999999999,223.90199999999999]
[{"$f":"Clavet!A400","v":"  2019/03/17 10:00:00"},2.097,0.10299999999999999,10.036,0,-3.3519999999999999,68.757999999999996,2.298,222.65799999999999]
[{"$f":"Clavet!A401","v":"  2019/03/17 11:00:00"},1.383,-6.0000000000000001E-3,8.2240000000000002,0,-0.627,64.462999999999994,3.3519999999999999,220.16900000000001]
[{"$f":"Clavet!A402","v":"  2019/03/17 12:00:00"},1.0980000000000001,6.9000000000000006E-2,6.867,0,0.90200000000000002,63.034999999999997,3.4750000000000001,225.40199999999999]
[{"$f":"Clavet!A403","v":"  2019/03/17 13:00:00"},0.55800000000000005,9.0999999999999998E-2,5.0350000000000001,0,1.5960000000000001,62.817,5.1710000000000003,217.488]
[{"$f":"Clavet!A404","v":"  2019/03/17 14:00:00"},0.24199999999999999,4.3999999999999997E-2,3.9849999999999999,0,3.0230000000000001,59.844000000000001,4.415,221.309]
[{"$f":"Clavet!A405","v":"  2019/03/17 15:00:00"},0.24299999999999999,6.0999999999999999E-2,4.1020000000000003,0,3.3159999999999998,61.082999999999998,4.593,220.28700000000001]
[{"$f":"Clavet!A406","v":"  2019/03/17 16:00:00"},0.48799999999999999,0.112,3.2360000000000002,0,3.6379999999999999,61.856999999999999,3.665,234.40299999999999]
[{"$f":"Clavet!A407","v":"  2019/03/17 17:00:00"},0.61699999999999999,0.115,4.0019999999999998,0,3.0209999999999999,65.632000000000005,3.4980000000000002,244.80099999999999]
[{"$f":"Clavet!A408","v":"  2019/03/17 18:00:00"},0.439,0.123,6.9119999999999999,0,2.1349999999999998,69.784000000000006,3.4009999999999998,246.386]
[{"$f":"Clavet!A409","v":"  2019/03/17 19:00:00"},0.11,0.13700000000000001,9.4030000000000005,0,1.0129999999999999,74.456000000000003,3.2320000000000002,238.63900000000001]
[{"$f":"Clavet!A410","v":"  2019/03/17 20:00:00"},0.14799999999999999,0.154,12.324999999999999,0,0.60199999999999998,75.995000000000005,3.5390000000000001,239.864]
[{"$f":"Clavet!A411","v":"  2019/03/17 21:00:00"},0.14899999999999999,5.8999999999999997E-2,15.321,0,4.2000000000000003E-2,77.451999999999998,3.694,244.24799999999999]
[{"$f":"Clavet!A412","v":"  2019/03/17 22:00:00"},0.17100000000000001,0.17299999999999999,21.513999999999999,0,-0.36599999999999999,78.513999999999996,4.2210000000000001,249.09]
[{"$f":"Clavet!A413","v":"  2019/03/17 23:00:00"},9.1999999999999998E-2,0.111,24.920999999999999,0,-0.41399999999999998,78.581000000000003,4.968,252.33099999999999]
[{"$f":"Clavet!A414","v":"  2019/03/18 00:00:00"},9.4E-2,0.13600000000000001,23.523,0,-0.59499999999999997,78.147000000000006,5.282,271.68700000000001]
[{"$f":"Clavet!A415","v":"  2019/03/18 01:00:00"},8.2000000000000003E-2,0.159,20.588000000000001,0,-1.139,78.177999999999997,4.4189999999999996,284.24400000000003]
[{"$f":"Clavet!A416","v":"  2019/03/18 02:00:00"},0.11,0.159,17.128,0,-1.319,76.284999999999997,3.6989999999999998,284.38]
[{"$f":"Clavet!A417","v":"  2019/03/18 03:00:00"},0.13700000000000001,8.3000000000000004E-2,15.534000000000001,0,-1.58,74.421999999999997,3.1509999999999998,285.58499999999998]
[{"$f":"Clavet!A418","v":"  2019/03/18 04:00:00"},0.14199999999999999,2.4E-2,14.269,0,-1.474,72.650000000000006,4.0049999999999999,280.55700000000002]
[{"$f":"Clavet!A419","v":"  2019/03/18 05:00:00"},"       Z","       Z",14.215,0,-2.597,73.864000000000004,3.0510000000000002,287.30599999999998]
[{"$f":"Clavet!A420","v":"  2019/03/18 06:00:00"},0.14199999999999999,-1.4E-2,13.538,0,-2.9430000000000001,74.004999999999995,2.8340000000000001,287.98099999999999]
[{"$f":"Clavet!A421","v":"  2019/03/18 07:00:00"},0.215,3.7999999999999999E-2,11.388999999999999,0,-3.339,73.774000000000001,2.09,293.73500000000001]
[{"$f":"Clavet!A422","v":"  2019/03/18 08:00:00"},0.49099999999999999,3.6999999999999998E-2,8.9060000000000006,0,-2.6779999999999999,71.284999999999997,2.1219999999999999,296.33699999999999]
[{"$f":"Clavet!A423","v":"  2019/03/18 09:00:00"},0.63400000000000001,2.3E-2,7.1849999999999996,0,-1.3640000000000001,67.995000000000005,2.109,310.3]
[{"$f":"Clavet!A424","v":"  2019/03/18 10:00:00"},0.60199999999999998,0.111,6.0010000000000003,0,-3.1E-2,61.942999999999998,1.7749999999999999,311.06799999999998]
[{"$f":"Clavet!A425","v":"  2019/03/18 11:00:00"},0.621,5.1999999999999998E-2,5.4039999999999999,0,1.528,64.293999999999997,1.9730000000000001,315.00599999999997]
[{"$f":"Clavet!A426","v":"  2019/03/18 12:00:00"},0.58799999999999997,4.1000000000000002E-2,4.3170000000000002,0,2.9990000000000001,60.843000000000004,2.048,317.43900000000002]
[{"$f":"Clavet!A427","v":"  2019/03/18 13:00:00"},0.52800000000000002,6.5000000000000002E-2,4.2859999999999996,0,3.6309999999999998,60.557000000000002,1.6830000000000001,308.90800000000002]
[{"$f":"Clavet!A428","v":"  2019/03/18 14:00:00"},0.45100000000000001,4.9000000000000002E-2,4.2300000000000004,0,3.6640000000000001,57.542999999999999,1.732,310.88]
[{"$f":"Clavet!A429","v":"  2019/03/18 15:00:00"},0.45300000000000001,5.7000000000000002E-2,5.1059999999999999,0,4.2039999999999997,62.820999999999998,1.67,304.00900000000001]
[{"$f":"Clavet!A430","v":"  2019/03/18 16:00:00"},0.45,8.1000000000000003E-2,4.7089999999999996,0,4.4000000000000004,62.838999999999999,2.3159999999999998,291.39800000000002]
[{"$f":"Clavet!A431","v":"  2019/03/18 17:00:00"},0.315,5.2999999999999999E-2,4.3819999999999997,0,4.109,63.762999999999998,2.3090000000000002,289.54700000000003]
[{"$f":"Clavet!A432","v":"  2019/03/18 18:00:00"},0.24399999999999999,0.152,3.9209999999999998,0,2.8650000000000002,66.539000000000001,1.6970000000000001,290.02100000000002]
[{"$f":"Clavet!A433","v":"  2019/03/18 19:00:00"},5.8000000000000003E-2,4.2000000000000003E-2,5.0119999999999996,0,0.88200000000000001,72.875,1.262,291.48500000000001]
[{"$f":"Clavet!A434","v":"  2019/03/18 20:00:00"},6.8000000000000005E-2,0.105,5.7670000000000003,0,0.16800000000000001,74.929000000000002,1.0309999999999999,297.81400000000002]
[{"$f":"Clavet!A435","v":"  2019/03/18 21:00:00"},0.255,0.123,5.9770000000000003,0,0.316,71.968000000000004,0.78900000000000003,294.005]
[{"$f":"Clavet!A436","v":"  2019/03/18 22:00:00"},0.60299999999999998,0.123,4.74,0,-0.66100000000000003,73.284999999999997,1.3109999999999999,239.11799999999999]
[{"$f":"Clavet!A437","v":"  2019/03/18 23:00:00"},0.6,0.14699999999999999,6.2759999999999998,0,-1.196,75.316000000000003,1.6240000000000001,225.501]
[{"$f":"Clavet!A438","v":"  2019/03/19 00:00:00"},0.58099999999999996,0.109,7.569,0,-1.7090000000000001,77.861999999999995,1.782,226.684]
[{"$f":"Clavet!A439","v":"  2019/03/19 01:00:00"},0.624,0.28000000000000003,8.6010000000000009,0,-1.85,75.222999999999999,2.0750000000000002,231.08199999999999]
[{"$f":"Clavet!A440","v":"  2019/03/19 02:00:00"},0.66900000000000004,0.38,9.3539999999999992,0,-1.546,77.096000000000004,3.339,236.85900000000001]
[{"$f":"Clavet!A441","v":"  2019/03/19 03:00:00"},0.26400000000000001,0.22700000000000001,9.3339999999999996,0,-1.2150000000000001,76.078000000000003,3.5059999999999998,244.98099999999999]
[{"$f":"Clavet!A442","v":"  2019/03/19 04:00:00"},"       Z","       Z",11.157,0,-0.96499999999999997,75.197000000000003,4.8490000000000002,265.78300000000002]
[{"$f":"Clavet!A443","v":"  2019/03/19 05:00:00"},0.253,0.111,10.821,0,-0.40899999999999997,71.361000000000004,5.4169999999999998,268.99700000000001]
[{"$f":"Clavet!A444","v":"  2019/03/19 06:00:00"},0.16500000000000001,5.3999999999999999E-2,10.728999999999999,0,-0.61399999999999999,70.194000000000003,4.968,268.15199999999999]
[{"$f":"Clavet!A445","v":"  2019/03/19 07:00:00"},0.218,0.14599999999999999,10.215,0,-0.68799999999999994,69.858000000000004,4.9779999999999998,266.43400000000003]
[{"$f":"Clavet!A446","v":"  2019/03/19 08:00:00"},0.188,0.16200000000000001,8.5980000000000008,0,0.13600000000000001,66.941000000000003,4.55,282.137]
[{"$f":"Clavet!A447","v":"  2019/03/19 09:00:00"},0.187,7.8E-2,9.2309999999999999,0,1.3260000000000001,65.225999999999999,4.3479999999999999,283.97399999999999]
[{"$f":"Clavet!A448","v":"  2019/03/19 10:00:00"},0.19400000000000001,0.17,7.6769999999999996,0,3.1629999999999998,62.491999999999997,4.4980000000000002,285.90600000000001]
[{"$f":"Clavet!A449","v":"  2019/03/19 11:00:00"},0.221,0.184,5.6660000000000004,0,5.2359999999999998,58.460999999999999,2.851,293.45800000000003]
[{"$f":"Clavet!A450","v":"  2019/03/19 12:00:00"},0.30299999999999999,0.126,4.8860000000000001,0,6.6890000000000001,56.73,2.657,290.62799999999999]
[{"$f":"Clavet!A451","v":"  2019/03/19 13:00:00"},0.26700000000000002,0.11,5.8390000000000004,0,7.2439999999999998,57.713999999999999,3.948,283.72300000000001]
[{"$f":"Clavet!A452","v":"  2019/03/19 14:00:00"},0.28199999999999997,0.17599999999999999,6.4960000000000004,0,8.0120000000000005,57.783000000000001,3.9780000000000002,286.14800000000002]
[{"$f":"Clavet!A453","v":"  2019/03/19 15:00:00"},0.51300000000000001,0.18099999999999999,4.085,0,8.9250000000000007,55.417000000000002,3.3450000000000002,288.40899999999999]
[{"$f":"Clavet!A454","v":"  2019/03/19 16:00:00"},0.29899999999999999,0.17,3.012,0,9.2059999999999995,54.41,2.4049999999999998,295.20600000000002]
[{"$f":"Clavet!A455","v":"  2019/03/19 17:00:00"},0.57699999999999996,0.11700000000000001,3.8650000000000002,0,8.0969999999999995,56.601999999999997,3.4289999999999998,289.46100000000001]
[{"$f":"Clavet!A456","v":"  2019/03/19 18:00:00"},0.44600000000000001,4.2000000000000003E-2,3.7029999999999998,0,6.508,60.704999999999998,2.9670000000000001,288.75400000000002]
[{"$f":"Clavet!A457","v":"  2019/03/19 19:00:00"},0.14699999999999999,0.10299999999999999,2.9630000000000001,0,4.6159999999999997,65.048000000000002,2.8460000000000001,289.45400000000001]
[{"$f":"Clavet!A458","v":"  2019/03/19 20:00:00"},0.17100000000000001,0.09,3.302,0,3.79,63.72,2.1440000000000001,293.48899999999998]
[{"$f":"Clavet!A459","v":"  2019/03/19 21:00:00"},"      AF","      AF","      AF","      AF","       AF","      AF","      AF","       AF"]
[{"$f":"Clavet!A460","v":"  2019/03/19 22:00:00"},"      AF","      AF","      AF","      AF","       AF","      AF","      AF","       AF"]
[{"$f":"Clavet!A461","v":"  2019/03/19 23:00:00"},"      AF","      AF","      AF","      AF","       AF","      AF","      AF","       AF"]
[{"$f":"Clavet!A462","v":"  2019/03/20 00:00:00"},"      AF","      AF","      AF","      AF","       AF","      AF","      AF","       AF"]
[{"$f":"Clavet!A463","v":"  2019/03/20 01:00:00"},"      AF","      AF","      AF","      AF","       AF","      AF","      AF","       AF"]
[{"$f":"Clavet!A464","v":"  2019/03/20 02:00:00"},"      AF","      AF","      AF","      AF","       AF","      AF","      AF","       AF"]
[{"$f":"Clavet!A465","v":"  2019/03/20 03:00:00"},"      AF","      AF","      AF","      AF","       AF","      AF","      AF","       AF"]
[{"$f":"Clavet!A466","v":"  2019/03/20 04:00:00"},"      AF","      AF","      AF","      AF","       AF","      AF","      AF","       AF"]
[{"$f":"Clavet!A467","v":"  2019/03/20 05:00:00"},"      AF","      AF","      AF","      AF","       AF","      AF","      AF","       AF"]
[{"$f":"Clavet!A468","v":"  2019/03/20 06:00:00"},"      AF","      AF","      AF","      AF","       AF","      AF","      AF","       AF"]
[{"$f":"Clavet!A469","v":"  2019/03/20 07:00:00"},"      AF","      AF","      AF","      AF","       AF","      AF","      AF","       AF"]
[{"$f":"Clavet!A470","v":"  2019/03/20 08:00:00"},"      AF","      AF","      AF","      AF","       AF","      AF","      AF","       AF"]
[{"$f":"Clavet!A471","v":"  2019/03/20 09:00:00"},"      AF","      AF","      AF","      AF","       AF","      AF","      AF","       AF"]
[{"$f":"Clavet!A472","v":"  2019/03/20 10:00:00"},"      AF","      AF","      AF","      AF","       AF","      AF","      AF","       AF"]
[{"$f":"Clavet!A473","v":"  2019/03/20 11:00:00"},"      AF","      AF","      AF","      AF","       AF","      AF","      AF","       AF"]
[{"$f":"Clavet!A474","v":"  2019/03/20 12:00:00"},"      AF","      AF","      AF","      AF","       AF","      AF","      AF","       AF"]
[{"$f":"Clavet!A475","v":"  2019/03/20 13:00:00"},"      AF","      AF","      AF","      AF","       AF","      AF","      AF","       AF"]
[{"$f":"Clavet!A476","v":"  2019/03/20 14:00:00"},"      AF","      AF","      AF","      AF","       AF","      AF","      AF","       AF"]
[{"$f":"Clavet!A477","v":"  2019/03/20 15:00:00"},"      AF","      AF","      AF","      AF","       AF","      AF","      AF","       AF"]
[{"$f":"Clavet!A478","v":"  2019/03/20 16:00:00"},"      AF","      AF","      AF","      AF","       AF","      AF","      AF","       AF"]
[{"$f":"Clavet!A479","v":"  2019/03/20 17:00:00"},"      AF","      AF","      AF","      AF","       AF","      AF","      AF","       AF"]
[{"$f":"Clavet!A480","v":"  2019/03/20 18:00:00"},"      AF","      AF","      AF","      AF","       AF","      AF","      AF","       AF"]
[{"$f":"Clavet!A481","v":"  2019/03/20 19:00:00"},"      AF","      AF","      AF","      AF","       AF","      AF","      AF","       AF"]
[{"$f":"Clavet!A482","v":"  2019/03/20 20:00:00"},"      AF","      AF","      AF","      AF","       AF","      AF","      AF","       AF"]
[{"$f":"Clavet!A483","v":"  2019/03/20 21:00:00"},"      AF","      AF","      AF","      AF","       AF","      AF","      AF","       AF"]
[{"$f":"Clavet!A484","v":"  2019/03/20 22:00:00"},"      AF","      AF","      AF","      AF","       AF","      AF","      AF","       AF"]
[{"$f":"Clavet!A485","v":"  2019/03/20 23:00:00"},"      AF","      AF","      AF","      AF","       AF","      AF","      AF","       AF"]
[{"$f":"Clavet!A486","v":"  2019/03/21 00:00:00"},"      AF","      AF","      AF","      AF","       AF","      AF","      AF","       AF"]
[{"$f":"Clavet!A487","v":"  2019/03/21 01:00:00"},"      AF","      AF","      AF","      AF","       AF","      AF","      AF","       AF"]
[{"$f":"Clavet!A488","v":"  2019/03/21 02:00:00"},"      AF","      AF","      AF","      AF","       AF","      AF","      AF","       AF"]
[{"$f":"Clavet!A489","v":"  2019/03/21 03:00:00"},"      AF","      AF","      AF","      AF","       AF","      AF","      AF","       AF"]
[{"$f":"Clavet!A490","v":"  2019/03/21 04:00:00"},"      AF","      AF","      AF","      AF","       AF","      AF","      AF","       AF"]
[{"$f":"Clavet!A491","v":"  2019/03/21 05:00:00"},"      AF","      AF","      AF","      AF","       AF","      AF","      AF","       AF"]
[{"$f":"Clavet!A492","v":"  2019/03/21 06:00:00"},"      AF","      AF","      AF","      AF","       AF","      AF","      AF","       AF"]
[{"$f":"Clavet!A493","v":"  2019/03/21 07:00:00"},"      AF","      AF","      AF","      AF","       AF","      AF","      AF","       AF"]
[{"$f":"Clavet!A494","v":"  2019/03/21 08:00:00"},"      AF","      AF","      AF","      AF","       AF","      AF","      AF","       AF"]
[{"$f":"Clavet!A495","v":"  2019/03/21 09:00:00"},"      AF","      AF","      AF","      AF","       AF","      AF","      AF","       AF"]
[{"$f":"Clavet!A496","v":"  2019/03/21 10:00:00"},"      AF","      AF","      AF","      AF","       AF","      AF","      AF","       AF"]
[{"$f":"Clavet!A497","v":"  2019/03/21 11:00:00"},"      AF","      AF","      AF","      AF","       AF","      AF","      AF","       AF"]
[{"$f":"Clavet!A498","v":"  2019/03/21 12:00:00"},"      AF","      AF","      AF","      AF","       AF","      AF","      AF","       AF"]
[{"$f":"Clavet!A499","v":"  2019/03/21 13:00:00"},"      AF","      AF","      AF","      AF","       AF","      AF","      AF","       AF"]
[{"$f":"Clavet!A500","v":"  2019/03/21 14:00:00"},"      AF","      AF","      AF","      AF","       AF","      AF","      AF","       AF"]
[{"$f":"Clavet!A501","v":"  2019/03/21 15:00:00"},"      AF","      AF","      AF","      AF","       AF","      AF","      AF","       AF"]
[{"$f":"Clavet!A502","v":"  2019/03/21 16:00:00"},"      AF","      AF","      AF","      AF","       AF","      AF","      AF","       AF"]
[{"$f":"Clavet!A503","v":"  2019/03/21 17:00:00"},"      AF","      AF","      AF","      AF","       AF","      AF","      AF","       AF"]
[{"$f":"Clavet!A504","v":"  2019/03/21 18:00:00"},"      AF","      AF","      AF","      AF","       AF","      AF","      AF","       AF"]
[{"$f":"Clavet!A505","v":"  2019/03/21 19:00:00"},"      AF","      AF","      AF","      AF","       AF","      AF","      AF","       AF"]
[{"$f":"Clavet!A506","v":"  2019/03/21 20:00:00"},"      AF","      AF","      AF","      AF","       AF","      AF","      AF","       AF"]
[{"$f":"Clavet!A507","v":"  2019/03/21 21:00:00"},"      AF","      AF","      AF","      AF","       AF","      AF","      AF","       AF"]
[{"$f":"Clavet!A508","v":"  2019/03/21 22:00:00"},"      AF","      AF","      AF","      AF","       AF","      AF","      AF","       AF"]
[{"$f":"Clavet!A509","v":"  2019/03/21 23:00:00"},"      AF","      AF","      AF","      AF","       AF","      AF","      AF","       AF"]
[{"$f":"Clavet!A510","v":"  2019/03/22 00:00:00"},"      AF","      AF","      AF","      AF","       AF","      AF","      AF","       AF"]
[{"$f":"Clavet!A511","v":"  2019/03/22 01:00:00"},"      AF","      AF","      AF","      AF","       AF","      AF","      AF","       AF"]
[{"$f":"Clavet!A512","v":"  2019/03/22 02:00:00"},"      AF","      AF","      AF","      AF","       AF","      AF","      AF","       AF"]
[{"$f":"Clavet!A513","v":"  2019/03/22 03:00:00"},"      AF","      AF","      AF","      AF","       AF","      AF","      AF","       AF"]
[{"$f":"Clavet!A514","v":"  2019/03/22 04:00:00"},"      AF","      AF","      AF","      AF","       AF","      AF","      AF","       AF"]
[{"$f":"Clavet!A515","v":"  2019/03/22 05:00:00"},"      AF","      AF","      AF","      AF","       AF","      AF","      AF","       AF"]
[{"$f":"Clavet!A516","v":"  2019/03/22 06:00:00"},"      AF","      AF","      AF","      AF","       AF","      AF","      AF","       AF"]
[{"$f":"Clavet!A517","v":"  2019/03/22 07:00:00"},"      AF","      AF","      AF","      AF","       AF","      AF","      AF","       AF"]
[{"$f":"Clavet!A518","v":"  2019/03/22 08:00:00"},"      AF","      AF","      AF","      AF","       AF","      AF","      AF","       AF"]
[{"$f":"Clavet!A519","v":"  2019/03/22 09:00:00"},"      AF","      AF","      AF","      AF","       AF","      AF","      AF","       AF"]
[{"$f":"Clavet!A520","v":"  2019/03/22 10:00:00"},1.0269999999999999,0.89400000000000002,10.601000000000001,0,4.5990000000000002,70.453000000000003,1.468,199.57]
[{"$f":"Clavet!A521","v":"  2019/03/22 11:00:00"},-0.52400000000000002,0.26300000000000001,8.9350000000000005,0,6.9409999999999998,70.688000000000002,2.222,183.94499999999999]
[{"$f":"Clavet!A522","v":"  2019/03/22 12:00:00"},-0.59899999999999998,0.29699999999999999,7.2809999999999997,0,9.1929999999999996,64.954999999999998,2.4630000000000001,178.11799999999999]
[{"$f":"Clavet!A523","v":"  2019/03/22 13:00:00"},-0.63600000000000001,0.23400000000000001,6.9749999999999996,0,10.782999999999999,62.357999999999997,2.7010000000000001,161.85900000000001]
[{"$f":"Clavet!A524","v":"  2019/03/22 14:00:00"},-0.58799999999999997,0.158,7.4969999999999999,0,11.962999999999999,59.86,3.4550000000000001,164.67599999999999]
[{"$f":"Clavet!A525","v":"  2019/03/22 15:00:00"},-0.64300000000000002,0.193,9.7729999999999997,0,12.621,59.811,2.984,142.60300000000001]
[{"$f":"Clavet!A526","v":"  2019/03/22 16:00:00"},-0.66400000000000003,0.23499999999999999,12.132999999999999,0,12.494,63.564,3.012,130.99799999999999]
[{"$f":"Clavet!A527","v":"  2019/03/22 17:00:00"},-0.70899999999999996,0.23699999999999999,12.975,0,12.458,64.858999999999995,2.6920000000000002,135.958]
[{"$f":"Clavet!A528","v":"  2019/03/22 18:00:00"},-0.71499999999999997,0.218,12.489000000000001,0,11.282,70.960999999999999,1.629,107.099]
[{"$f":"Clavet!A529","v":"  2019/03/22 19:00:00"},-0.73099999999999998,0.20499999999999999,12.667,0,8.0709999999999997,77.748000000000005,2.5289999999999999,118.218]
[{"$f":"Clavet!A530","v":"  2019/03/22 20:00:00"},-0.755,9.0999999999999998E-2,11.989000000000001,0,6.391,80.153000000000006,1.496,117.508]
[{"$f":"Clavet!A531","v":"  2019/03/22 21:00:00"},-0.83799999999999997,0.13300000000000001,10.73,0,5.3380000000000001,81.054000000000002,0.93600000000000005,171.85499999999999]
[{"$f":"Clavet!A532","v":"  2019/03/22 22:00:00"},-0.879,6.3E-2,7.79,0,3.51,80.271000000000001,0.878,214.273]
[{"$f":"Clavet!A533","v":"  2019/03/22 23:00:00"},-0.82099999999999995,0.23699999999999999,3.3769999999999998,0,2.4500000000000002,75.100999999999999,1.67,222.221]
[{"$f":"Clavet!A534","v":"  2019/03/23 00:00:00"},"       Z","       Z",3.0419999999999998,0,2.2330000000000001,76.352999999999994,1.2090000000000001,204.82300000000001]
[{"$f":"Clavet!A535","v":"  2019/03/23 01:00:00"},-0.80100000000000005,0.216,4.2409999999999997,0,2.0150000000000001,78.540000000000006,0.83699999999999997,165.50800000000001]
[{"$f":"Clavet!A536","v":"  2019/03/23 02:00:00"},-0.77800000000000002,0.17,5.2930000000000001,0,1.258,80.266000000000005,0.69499999999999995,171.095]
[{"$f":"Clavet!A537","v":"  2019/03/23 03:00:00"},-0.79800000000000004,0.189,5.524,0,0.372,82.314999999999998,0.56599999999999995,203.328]
[{"$f":"Clavet!A538","v":"  2019/03/23 04:00:00"},-0.74399999999999999,9.7000000000000003E-2,7.2430000000000003,0,0.64700000000000002,83.162000000000006,0.92900000000000005,143.042]
[{"$f":"Clavet!A539","v":"  2019/03/23 05:00:00"},-0.73699999999999999,8.6999999999999994E-2,7.3259999999999996,0,-0.63600000000000001,83.393000000000001,1.1539999999999999,251.624]
[{"$f":"Clavet!A540","v":"  2019/03/23 06:00:00"},-0.70799999999999996,0.26500000000000001,5.1150000000000002,0,-1.4810000000000001,85.152000000000001,1.327,25.88]
[{"$f":"Clavet!A541","v":"  2019/03/23 07:00:00"},-0.70499999999999996,0.20799999999999999,7.0339999999999998,0,-1.484,86.447000000000003,1.0820000000000001,72.403999999999996]
[{"$f":"Clavet!A542","v":"  2019/03/23 08:00:00"},-0.57399999999999995,8.7999999999999995E-2,5.4889999999999999,0,1.696,81.935000000000002,1.046,82.031999999999996]
[{"$f":"Clavet!A543","v":"  2019/03/23 09:00:00"},-0.50900000000000001,0.108,2.0299999999999998,0,4.8979999999999997,75.332999999999998,1.175,92.819000000000003]
[{"$f":"Clavet!A544","v":"  2019/03/23 10:00:00"},-0.46899999999999997,0.112,1.7430000000000001,0,7.4169999999999998,69.412000000000006,1.4550000000000001,62.401000000000003]
[{"$f":"Clavet!A545","v":"  2019/03/23 11:00:00"},-0.25,0.14299999999999999,2.6819999999999999,0,9.1170000000000009,64.046999999999997,2.7559999999999998,62.191000000000003]
[{"$f":"Clavet!A546","v":"  2019/03/23 12:00:00"},-0.38500000000000001,0.152,4.6379999999999999,0,9.5,64.019000000000005,3.302,57.122999999999998]
[{"$f":"Clavet!A547","v":"  2019/03/23 13:00:00"},-0.499,0.13800000000000001,6.9740000000000002,0,10.032999999999999,65.129000000000005,3.8839999999999999,50.502000000000002]
[{"$f":"Clavet!A548","v":"  2019/03/23 14:00:00"},-0.35899999999999999,0.13900000000000001,6.2329999999999997,0,10.394,58.155999999999999,5.0330000000000004,58.526000000000003]
[{"$f":"Clavet!A549","v":"  2019/03/23 15:00:00"},-0.27300000000000002,0.18,5.64,0,9.468,52.325000000000003,4.0049999999999999,46.345999999999997]
[{"$f":"Clavet!A550","v":"  2019/03/23 16:00:00"},-0.32600000000000001,0.23200000000000001,5.9880000000000004,0,8.7330000000000005,61.984000000000002,5.5979999999999999,57.420999999999999]
[{"$f":"Clavet!A551","v":"  2019/03/23 17:00:00"},-0.28199999999999997,0.39800000000000002,4.2839999999999998,0,7.5110000000000001,61.094999999999999,6.9459999999999997,67.768000000000001]
[{"$f":"Clavet!A552","v":"  2019/03/23 18:00:00"},-0.32,0.84599999999999997,2.64,0,6.048,62.334000000000003,5.9859999999999998,69.558999999999997]
[{"$f":"Clavet!A553","v":"  2019/03/23 19:00:00"},-0.32300000000000001,0.41699999999999998,1.5229999999999999,0,4.1219999999999999,66.224000000000004,4.1870000000000003,61.036999999999999]
[{"$f":"Clavet!A554","v":"  2019/03/23 20:00:00"},-0.38100000000000001,0.10199999999999999,1.0069999999999999,0,2.5880000000000001,69.376999999999995,3.234,56.365000000000002]
[{"$f":"Clavet!A555","v":"  2019/03/23 21:00:00"},-0.26800000000000002,0.17299999999999999,0.92600000000000005,0,1.5620000000000001,64.454999999999998,4.05,65.772000000000006]
[{"$f":"Clavet!A556","v":"  2019/03/23 22:00:00"},-0.33300000000000002,0.375,0.89200000000000002,0,0.60699999999999998,73.643000000000001,4.9930000000000003,73.677999999999997]
[{"$f":"Clavet!A557","v":"  2019/03/23 23:00:00"},"       Z","       Z",0.91600000000000004,0,-0.52200000000000002,77.953999999999994,4.8479999999999999,78.63]
[{"$f":"Clavet!A558","v":"  2019/03/24 00:00:00"},-0.3,0.08,1.2390000000000001,0,-1.542,81.153000000000006,4.4930000000000003,79.195999999999998]
[{"$f":"Clavet!A559","v":"  2019/03/24 01:00:00"},-0.245,1.7000000000000001E-2,1.7410000000000001,0,-1.5369999999999999,82.031000000000006,5.3170000000000002,90.459000000000003]
[{"$f":"Clavet!A560","v":"  2019/03/24 02:00:00"},-0.29199999999999998,-1.2999999999999999E-2,2.2869999999999999,0,-1.675,82.917000000000002,5.5979999999999999,85.881]
[{"$f":"Clavet!A561","v":"  2019/03/24 03:00:00"},-0.3,2.3E-2,2.952,0,-1.778,83.825999999999993,5.0220000000000002,82.713999999999999]
[{"$f":"Clavet!A562","v":"  2019/03/24 04:00:00"},-0.307,0.02,2.4380000000000002,0,-2.0310000000000001,84.51,4.8929999999999998,90.028000000000006]
[{"$f":"Clavet!A563","v":"  2019/03/24 05:00:00"},-0.25,5.3999999999999999E-2,3.9060000000000001,0,-2.2429999999999999,85.51,4.2320000000000002,86.423000000000002]
[{"$f":"Clavet!A564","v":"  2019/03/24 06:00:00"},-0.25,0.10100000000000001,3.2829999999999999,0,-2.617,86.191999999999993,4.5229999999999997,84.46]
[{"$f":"Clavet!A565","v":"  2019/03/24 07:00:00"},-0.24199999999999999,5.5E-2,2.48,0,-3.0960000000000001,86.16,4.6449999999999996,87.09]
[{"$f":"Clavet!A566","v":"  2019/03/24 08:00:00"},-0.24,0.04,2.1,0,-3.3570000000000002,86.028000000000006,3.7930000000000001,90.25]
[{"$f":"Clavet!A567","v":"  2019/03/24 09:00:00"},-0.19500000000000001,8.1000000000000003E-2,1.5609999999999999,0,-3.129,85.29,3.7909999999999999,82.647000000000006]
[{"$f":"Clavet!A568","v":"  2019/03/24 10:00:00"},-0.27800000000000002,2.5999999999999999E-2,1.2749999999999999,0,-2.7040000000000002,82.99,3.5169999999999999,94.197999999999993]
[{"$f":"Clavet!A569","v":"  2019/03/24 11:00:00"},-0.224,8.1000000000000003E-2,1.2569999999999999,0,-2.5470000000000002,81.631,3.5219999999999998,86.272000000000006]
[{"$f":"Clavet!A570","v":"  2019/03/24 12:00:00"},-0.222,4.2000000000000003E-2,1.212,0,-2.2040000000000002,79.575999999999993,3.1269999999999998,100.11]
[{"$f":"Clavet!A571","v":"  2019/03/24 13:00:00"},-0.23599999999999999,0.14599999999999999,1.462,0,-1.6259999999999999,77.507000000000005,2.9980000000000002,86.238]
[{"$f":"Clavet!A572","v":"  2019/03/24 14:00:00"},-0.19500000000000001,9.9000000000000005E-2,1.659,0,-0.92900000000000005,74.539000000000001,3.0139999999999998,85.885999999999996]
[{"$f":"Clavet!A573","v":"  2019/03/24 15:00:00"},-0.20300000000000001,0.15,2.2280000000000002,0,-0.78100000000000003,73.587000000000003,2.76,85.900999999999996]
[{"$f":"Clavet!A574","v":"  2019/03/24 16:00:00"},-0.17699999999999999,6.6000000000000003E-2,2.0289999999999999,0,-0.70299999999999996,72.635000000000005,2.552,81.680999999999997]
[{"$f":"Clavet!A575","v":"  2019/03/24 17:00:00"},-0.16600000000000001,0.16900000000000001,1.5589999999999999,0,-0.79300000000000004,72.709999999999994,3.0569999999999999,88.206999999999994]
[{"$f":"Clavet!A576","v":"  2019/03/24 18:00:00"},-0.20799999999999999,0.186,1.821,0,-1.073,71.778999999999996,2.081,70.795000000000002]
[{"$f":"Clavet!A577","v":"  2019/03/24 19:00:00"},-0.22,0.191,3.532,0,-1.8979999999999999,75.686999999999998,1.861,49.366]
[{"$f":"Clavet!A578","v":"  2019/03/24 20:00:00"},-0.13400000000000001,0.18,4.2649999999999997,0,-2.9009999999999998,79.254000000000005,1.4319999999999999,31.213999999999999]
[{"$f":"Clavet!A579","v":"  2019/03/24 21:00:00"},-0.154,0.155,3.5150000000000001,0,-3.4710000000000001,81.055000000000007,1.6890000000000001,43.854999999999997]
[{"$f":"Clavet!A580","v":"  2019/03/24 22:00:00"},"       Z","       Z",2.86,0,-3.88,80.7,1.5369999999999999,69.680000000000007]
[{"$f":"Clavet!A581","v":"  2019/03/24 23:00:00"},-0.108,0.17100000000000001,2.5369999999999999,0,-4.0220000000000002,77.198999999999998,2.0489999999999999,93.909000000000006]
[{"$f":"Clavet!A582","v":"  2019/03/25 00:00:00"},-0.157,0.126,2.1459999999999999,0,-4.3650000000000002,76.385999999999996,2.5880000000000001,94.981999999999999]
[{"$f":"Clavet!A583","v":"  2019/03/25 01:00:00"},-0.14899999999999999,0.14399999999999999,2.2749999999999999,0,-4.1790000000000003,76.751000000000005,2.625,119.27500000000001]
[{"$f":"Clavet!A584","v":"  2019/03/25 02:00:00"},-6.0999999999999999E-2,0.11,2.2519999999999998,0,-4.2750000000000004,76.980999999999995,2.7370000000000001,127.60299999999999]
[{"$f":"Clavet!A585","v":"  2019/03/25 03:00:00"},-9.1999999999999998E-2,8.5000000000000006E-2,2.524,0,-4.7130000000000001,78.248999999999995,2.472,129.82]
[{"$f":"Clavet!A586","v":"  2019/03/25 04:00:00"},-0.14000000000000001,0.06,3.1259999999999999,0,-5.4009999999999998,78.932000000000002,2.3149999999999999,125.52500000000001]
[{"$f":"Clavet!A587","v":"  2019/03/25 05:00:00"},-8.2000000000000003E-2,5.8000000000000003E-2,3.9910000000000001,0,-5.843,79.775000000000006,2.0859999999999999,130.38399999999999]
[{"$f":"Clavet!A588","v":"  2019/03/25 06:00:00"},-9.8000000000000004E-2,2.1000000000000001E-2,4.3070000000000004,0,-6.069,79.745999999999995,1.895,128.89599999999999]
[{"$f":"Clavet!A589","v":"  2019/03/25 07:00:00"},-0.107,5.3999999999999999E-2,4.3,0,-6,79.863,1.9890000000000001,137.07900000000001]
[{"$f":"Clavet!A590","v":"  2019/03/25 08:00:00"},-0.122,4.2000000000000003E-2,2.6120000000000001,0,-4.0640000000000001,77.054000000000002,2.464,158.154]
[{"$f":"Clavet!A591","v":"  2019/03/25 09:00:00"},-0.129,6.7000000000000004E-2,1.9259999999999999,0,-1.5880000000000001,73.477000000000004,3.11,154.25899999999999]
[{"$f":"Clavet!A592","v":"  2019/03/25 10:00:00"},-9.7000000000000003E-2,4.3999999999999997E-2,2.38,0,0.621,70.216999999999999,2.835,166.15199999999999]
[{"$f":"Clavet!A593","v":"  2019/03/25 11:00:00"},-0.1,0.121,2.3159999999999998,0,2.0590000000000002,67.147000000000006,3.7130000000000001,158.15899999999999]
[{"$f":"Clavet!A594","v":"  2019/03/25 12:00:00"},-7.0999999999999994E-2,8.6999999999999994E-2,2.2549999999999999,0,3.3769999999999998,61.305,4.6769999999999996,165.79300000000001]
[{"$f":"Clavet!A595","v":"  2019/03/25 13:00:00"},-5.3999999999999999E-2,6.9000000000000006E-2,2.5720000000000001,0,4.1790000000000003,58.960999999999999,4.9260000000000002,154.53]
[{"$f":"Clavet!A596","v":"  2019/03/25 14:00:00"},-6.7000000000000004E-2,1.0999999999999999E-2,2.4609999999999999,0,4.5709999999999997,59.639000000000003,5.0839999999999996,160.19399999999999]
[{"$f":"Clavet!A597","v":"  2019/03/25 15:00:00"},-8.6999999999999994E-2,-1E-3,4.391,0,4.8239999999999998,64.38,4.76,156.749]
[{"$f":"Clavet!A598","v":"  2019/03/25 16:00:00"},-7.0999999999999994E-2,2.9000000000000001E-2,5.375,0,4.9029999999999996,66.682000000000002,4.5730000000000004,158.98500000000001]
[{"$f":"Clavet!A599","v":"  2019/03/25 17:00:00"},-5.2999999999999999E-2,2.5000000000000001E-2,6.4630000000000001,0,5.0199999999999996,67.212000000000003,3.681,143.37200000000001]
[{"$f":"Clavet!A600","v":"  2019/03/25 18:00:00"},-0.03,-1E-3,7.7779999999999996,0,5.2190000000000003,68.027000000000001,2.6440000000000001,131.38]
[{"$f":"Clavet!A601","v":"  2019/03/25 19:00:00"},-7.6999999999999999E-2,3.2000000000000001E-2,13.239000000000001,0,2.48,76.094999999999999,2.835,96.39]
[{"$f":"Clavet!A602","v":"  2019/03/25 20:00:00"},-0.06,-3.7999999999999999E-2,18.439,0,0.78500000000000003,80.353999999999999,2.8620000000000001,105.3]
[{"$f":"Clavet!A603","v":"  2019/03/25 21:00:00"},"       Z","       Z",18.838999999999999,0,0.16800000000000001,82.617999999999995,2.823,104.425]
[{"$f":"Clavet!A604","v":"  2019/03/25 22:00:00"},-5.6000000000000001E-2,6.4000000000000001E-2,17.120999999999999,0,-0.65300000000000002,83.846999999999994,1.8919999999999999,99.853999999999999]
[{"$f":"Clavet!A605","v":"  2019/03/25 23:00:00"},-5.5E-2,8.4000000000000005E-2,15.467000000000001,0,-1.1120000000000001,83.971000000000004,1.3919999999999999,123.083]
[{"$f":"Clavet!A606","v":"  2019/03/26 00:00:00"},-5.1999999999999998E-2,0.01,14.827,0,-1.48,84.513000000000005,1.637,129.66999999999999]
[{"$f":"Clavet!A607","v":"  2019/03/26 01:00:00"},-1.0999999999999999E-2,3.5000000000000003E-2,12.186999999999999,0,-1.579,84.519000000000005,1.0389999999999999,113.13800000000001]
[{"$f":"Clavet!A608","v":"  2019/03/26 02:00:00"},-6.6000000000000003E-2,0.113,9.234,0,-2.0459999999999998,84.73,0.99399999999999999,91.183000000000007]
[{"$f":"Clavet!A609","v":"  2019/03/26 03:00:00"},-8.9999999999999993E-3,8.3000000000000004E-2,7.032,0,-2.3679999999999999,85.41,1.1830000000000001,108.97499999999999]
[{"$f":"Clavet!A610","v":"  2019/03/26 04:00:00"},-0.04,6.7000000000000004E-2,5.6050000000000004,0,-2.2090000000000001,76.537000000000006,0.80300000000000005,130.39099999999999]
[{"$f":"Clavet!A611","v":"  2019/03/26 05:00:00"},-4.8000000000000001E-2,5.8000000000000003E-2,5.3029999999999999,0,-2.3330000000000002,84.176000000000002,0.51400000000000001,107.52800000000001]
[{"$f":"Clavet!A612","v":"  2019/03/26 06:00:00"},-4.7E-2,0.158,4.2859999999999996,0,-1.3120000000000001,84.626000000000005,0.75900000000000001,193.72900000000001]
[{"$f":"Clavet!A613","v":"  2019/03/26 07:00:00"},-4.3999999999999997E-2,0.152,4.0229999999999997,0,-1.625,84.411000000000001,0.56599999999999995,127.19199999999999]
[{"$f":"Clavet!A614","v":"  2019/03/26 08:00:00"},6.0000000000000001E-3,0.15,4.327,0,-0.74099999999999999,85.159000000000006,1.548,197.048]
[{"$f":"Clavet!A615","v":"  2019/03/26 09:00:00"},-1.7999999999999999E-2,0.27400000000000002,4.1239999999999997,0,0.92300000000000004,84.873000000000005,3.0670000000000002,214.483]
[{"$f":"Clavet!A616","v":"  2019/03/26 10:00:00"},-3.5999999999999997E-2,0.111,3.077,0,3.74,80.572000000000003,2.153,219.846]
[{"$f":"Clavet!A617","v":"  2019/03/26 11:00:00"},6.7000000000000004E-2,0.28599999999999998,2.1840000000000002,0,6.008,70.424000000000007,1.6319999999999999,236.66300000000001]
[{"$f":"Clavet!A618","v":"  2019/03/26 12:00:00"},8.5999999999999993E-2,0.23200000000000001,2.2170000000000001,0,7.2560000000000002,65.567999999999998,3.806,217.94399999999999]
[{"$f":"Clavet!A619","v":"  2019/03/26 13:00:00"},0.20100000000000001,0.158,3.23,0,9.44,61.384,2.63,235.376]
[{"$f":"Clavet!A620","v":"  2019/03/26 14:00:00"},1.9219999999999999,0.221,4.9059999999999997,0,10.794,58.545000000000002,2.8290000000000002,241.977]
[{"$f":"Clavet!A621","v":"  2019/03/26 15:00:00"},2.0510000000000002,0.29099999999999998,5.9690000000000003,0,12.118,52.582999999999998,2.8540000000000001,255.26900000000001]
[{"$f":"Clavet!A622","v":"  2019/03/26 16:00:00"},0.65,0.16300000000000001,6.976,0,11.957000000000001,53.180999999999997,1.575,321.47500000000002]
[{"$f":"Clavet!A623","v":"  2019/03/26 17:00:00"},0.14399999999999999,0.218,10.922000000000001,0,7.9109999999999996,69.914000000000001,2.944,12.207000000000001]
[{"$f":"Clavet!A624","v":"  2019/03/26 18:00:00"},7.4999999999999997E-2,0.255,13.041,0,5.4909999999999997,73.563000000000002,3.24,15.247999999999999]
[{"$f":"Clavet!A625","v":"  2019/03/26 19:00:00"},7.0000000000000007E-2,0.16900000000000001,13.177,0.01,2.7989999999999999,74.164000000000001,2.133,14.308999999999999]
[{"$f":"Clavet!A626","v":"  2019/03/26 20:00:00"},"       Z","       Z",17.04,0,1.94,81.611000000000004,2.3479999999999999,359.36900000000003]
[{"$f":"Clavet!A627","v":"  2019/03/26 21:00:00"},4.9000000000000002E-2,0.247,21.852,0,1.151,82.7,2.1179999999999999,3.544]
[{"$f":"Clavet!A628","v":"  2019/03/26 22:00:00"},4.1000000000000002E-2,0.25700000000000001,19.420000000000002,1.66,1.651,84.037999999999997,1.865,331.61200000000002]
[{"$f":"Clavet!A629","v":"  2019/03/26 23:00:00"},6.6000000000000003E-2,0.24,15.499000000000001,0.16,1.8109999999999999,83.853999999999999,1.9079999999999999,329.75900000000001]
[{"$f":"Clavet!A630","v":"  2019/03/27 00:00:00"},2.8000000000000001E-2,0.189,10.637,0.02,1.375,84.122,2.1989999999999998,335.75799999999998]
[{"$f":"Clavet!A631","v":"  2019/03/27 01:00:00"},1.7000000000000001E-2,0.122,6.82,0,0.64200000000000002,77.84,2.1309999999999998,329.19799999999998]
[{"$f":"Clavet!A632","v":"  2019/03/27 02:00:00"},5.6000000000000001E-2,0.16700000000000001,7.1050000000000004,0,0.91300000000000003,85.004000000000005,2.23,325.416]
[{"$f":"Clavet!A633","v":"  2019/03/27 03:00:00"},5.8000000000000003E-2,0.122,8.7810000000000006,0,1.153,84.100999999999999,2.6259999999999999,324.548]
[{"$f":"Clavet!A634","v":"  2019/03/27 04:00:00"},8.5000000000000006E-2,0.23599999999999999,13.975,0,0.51800000000000002,83.6,2.3050000000000002,323.92899999999997]
[{"$f":"Clavet!A635","v":"  2019/03/27 05:00:00"},2.5999999999999999E-2,0.123,18.823,0,0.04,84.855000000000004,2.1579999999999999,293.00400000000002]
[{"$f":"Clavet!A636","v":"  2019/03/27 06:00:00"},3.1E-2,0.14399999999999999,20.605,0,-0.01,86.075000000000003,3.0030000000000001,288.20299999999997]
[{"$f":"Clavet!A637","v":"  2019/03/27 07:00:00"},0.11600000000000001,0.22,28.693999999999999,0,0.28599999999999998,86.564999999999998,1.724,304.31799999999998]
[{"$f":"Clavet!A638","v":"  2019/03/27 08:00:00"},0.106,0.19400000000000001,29.350999999999999,0,0.626,86.210999999999999,1.36,311.12799999999999]
[{"$f":"Clavet!A639","v":"  2019/03/27 09:00:00"},8.1000000000000003E-2,0.23300000000000001,10.656000000000001,0,1.0760000000000001,82.323999999999998,1.7290000000000001,340.399]
[{"$f":"Clavet!A640","v":"  2019/03/27 10:00:00"},0.114,0.23699999999999999,4.9550000000000001,0,1.3660000000000001,79.706999999999994,1.88,333.52600000000001]
[{"$f":"Clavet!A641","v":"  2019/03/27 11:00:00"},0.11899999999999999,0.14299999999999999,1.2130000000000001,0,1.976,73.521000000000001,2.2330000000000001,336.85500000000002]
[{"$f":"Clavet!A642","v":"  2019/03/27 12:00:00"},0.189,0.16700000000000001,0.72499999999999998,0,2.8170000000000002,69.251000000000005,2.431,336.02100000000002]
[{"$f":"Clavet!A643","v":"  2019/03/27 13:00:00"},0.214,0.113,1.0069999999999999,0,3.113,64.897999999999996,2.4609999999999999,337.80599999999998]
[{"$f":"Clavet!A644","v":"  2019/03/27 14:00:00"},0.19400000000000001,0.11,1.0469999999999999,0,2.9159999999999999,63.127000000000002,2.4500000000000002,355.733]
[{"$f":"Clavet!A645","v":"  2019/03/27 15:00:00"},0.17799999999999999,0.156,1.3620000000000001,0,2.3839999999999999,63.207000000000001,2.3780000000000001,359.08800000000002]
[{"$f":"Clavet!A646","v":"  2019/03/27 16:00:00"},0.22800000000000001,6.0999999999999999E-2,1.637,0,2.403,61.947000000000003,2.431,350.01799999999997]
[{"$f":"Clavet!A647","v":"  2019/03/27 17:00:00"},0.183,0.14399999999999999,1.9319999999999999,0,1.9370000000000001,59.86,2.33,345.68799999999999]
[{"$f":"Clavet!A648","v":"  2019/03/27 18:00:00"},0.11899999999999999,0.13400000000000001,0.65200000000000002,0,1.292,59.018000000000001,2.169,348.49900000000002]
[{"$f":"Clavet!A649","v":"  2019/03/27 19:00:00"},"       Z","       Z",0.871,0,0.45400000000000001,62.426000000000002,1.5489999999999999,332.56599999999997]
[{"$f":"Clavet!A650","v":"  2019/03/27 20:00:00"},6.3E-2,0.121,1.5049999999999999,0,-1.3480000000000001,72.022000000000006,0.95899999999999996,285.93599999999998]
[{"$f":"Clavet!A651","v":"  2019/03/27 21:00:00"},7.2999999999999995E-2,0.104,1.31,0,-1.7070000000000001,73.355000000000004,1.6160000000000001,277.32600000000002]
[{"$f":"Clavet!A652","v":"  2019/03/27 22:00:00"},2.8000000000000001E-2,0.17599999999999999,0.41399999999999998,0,-1.643,71.314999999999998,2.3250000000000002,282.64699999999999]
[{"$f":"Clavet!A653","v":"  2019/03/27 23:00:00"},4.9000000000000002E-2,0.20300000000000001,0.193,0,-1.9359999999999999,71.507999999999996,2.2189999999999999,287.20600000000002]
[{"$f":"Clavet!A654","v":"  2019/03/28 00:00:00"},2.5000000000000001E-2,0.112,0.129,0,-1.3440000000000001,70.149000000000001,2.2639999999999998,289.78300000000002]
[{"$f":"Clavet!A655","v":"  2019/03/28 01:00:00"},3.9E-2,7.6999999999999999E-2,0.13200000000000001,0,-2.4249999999999998,74.588999999999999,1.2909999999999999,303.822]
[{"$f":"Clavet!A656","v":"  2019/03/28 02:00:00"},2.1000000000000001E-2,0.158,0.20300000000000001,0,-3.19,77.206999999999994,1.2130000000000001,302.90600000000001]
[{"$f":"Clavet!A657","v":"  2019/03/28 03:00:00"},3.4000000000000002E-2,0.159,0.26300000000000001,0,-3.4,77.653000000000006,1.1499999999999999,313.14499999999998]
[{"$f":"Clavet!A658","v":"  2019/03/28 04:00:00"},5.2999999999999999E-2,9.0999999999999998E-2,0.30099999999999999,0,-3.6320000000000001,77.753,0.90100000000000002,313.35599999999999]
[{"$f":"Clavet!A659","v":"  2019/03/28 05:00:00"},6.3E-2,0.14399999999999999,0.44500000000000001,0,-3.9239999999999999,78.049000000000007,0.83199999999999996,309.125]
[{"$f":"Clavet!A660","v":"  2019/03/28 06:00:00"},0.08,0.17399999999999999,0.78200000000000003,0,-4.7229999999999999,79.432000000000002,1,233.828]
[{"$f":"Clavet!A661","v":"  2019/03/28 07:00:00"},0.154,0.158,0.83299999999999996,0,-4.008,78.951999999999998,0.95599999999999996,245.13800000000001]
[{"$f":"Clavet!A662","v":"  2019/03/28 08:00:00"},0.313,0.18099999999999999,0.69299999999999995,0,-1.0589999999999999,73.242999999999995,1.0620000000000001,254.28299999999999]
[{"$f":"Clavet!A663","v":"  2019/03/28 09:00:00"},0.31900000000000001,0.28100000000000003,0.67800000000000005,0,0.10199999999999999,68.765000000000001,2.5049999999999999,223.63399999999999]
[{"$f":"Clavet!A664","v":"  2019/03/28 10:00:00"},0.26100000000000001,0.151,0.53400000000000003,0,1.542,64.817999999999998,3.1440000000000001,226.96700000000001]
[{"$f":"Clavet!A665","v":"  2019/03/28 11:00:00"},0.248,0.23,0.92,0,3.548,59.268999999999998,2.9710000000000001,261.65600000000001]
[{"$f":"Clavet!A666","v":"  2019/03/28 12:00:00"},0.125,0.152,0.307,0,4.7720000000000002,46.927999999999997,2.718,290.13499999999999]
[{"$f":"Clavet!A667","v":"  2019/03/28 13:00:00"},0.121,0.1,0.311,0,4.6020000000000003,46.704000000000001,3.7120000000000002,272.21699999999998]
[{"$f":"Clavet!A668","v":"  2019/03/28 14:00:00"},6.3E-2,9.6000000000000002E-2,0.35899999999999999,0,5.3520000000000003,45.746000000000002,2.9359999999999999,278.12799999999999]
[{"$f":"Clavet!A669","v":"  2019/03/28 15:00:00"},8.2000000000000003E-2,0.14199999999999999,0.45800000000000002,0,5.7779999999999996,44.421999999999997,2.63,299.33100000000002]
[{"$f":"Clavet!A670","v":"  2019/03/28 16:00:00"},4.3999999999999997E-2,0.14399999999999999,0.442,0,6.125,44.356000000000002,3.7970000000000002,282.89400000000001]
[{"$f":"Clavet!A671","v":"  2019/03/28 17:00:00"},3.4000000000000002E-2,0.2,0.42199999999999999,0,6.2110000000000003,44.42,3.4449999999999998,287.34100000000001]
[{"$f":"Clavet!A672","v":"  2019/03/28 18:00:00"},"       Z","       Z",0.33200000000000002,0,5.798,47.091000000000001,1.8879999999999999,299.23899999999998]
[{"$f":"Clavet!A673","v":"  2019/03/28 19:00:00"},6.7000000000000004E-2,0.22500000000000001,0.28799999999999998,0,3.7629999999999999,54.140999999999998,0.68300000000000005,313.80700000000002]
[{"$f":"Clavet!A674","v":"  2019/03/28 20:00:00"},0.16700000000000001,0.221,0.377,0,1.365,61.850999999999999,0.45600000000000002,297.30200000000002]
[{"$f":"Clavet!A675","v":"  2019/03/28 21:00:00"},0.24299999999999999,0.11899999999999999,0.753,0,0.35799999999999998,63.845999999999997,0.72699999999999998,292.27100000000002]
[{"$f":"Clavet!A676","v":"  2019/03/28 22:00:00"},0.189,0.27400000000000002,1.048,0,-0.46800000000000003,68.563000000000002,0.86599999999999999,304.52699999999999]
[{"$f":"Clavet!A677","v":"  2019/03/28 23:00:00"},3.2000000000000001E-2,0.13300000000000001,1.6180000000000001,0,-1.1020000000000001,72.899000000000001,1.528,290.27999999999997]
[{"$f":"Clavet!A678","v":"  2019/03/29 00:00:00"},9.6000000000000002E-2,0.21099999999999999,2.0070000000000001,0,-0.81299999999999994,72.825000000000003,2.5169999999999999,286.33999999999997]
[{"$f":"Clavet!A679","v":"  2019/03/29 01:00:00"},0.14000000000000001,0.14399999999999999,2.3719999999999999,0,-0.30099999999999999,72.453999999999994,2.254,290.34800000000001]
[{"$f":"Clavet!A680","v":"  2019/03/29 02:00:00"},7.5999999999999998E-2,0.13100000000000001,2.843,0,0.53600000000000003,72.808999999999997,2.7879999999999998,287.37599999999998]
[{"$f":"Clavet!A681","v":"  2019/03/29 03:00:00"},9.6000000000000002E-2,9.2999999999999999E-2,3.6720000000000002,0,1.0840000000000001,70.174000000000007,2.2370000000000001,298.30900000000003]
[{"$f":"Clavet!A682","v":"  2019/03/29 04:00:00"},0.11600000000000001,0.17599999999999999,4.3259999999999996,0,0.64,71.141000000000005,2.0670000000000002,321.73899999999998]
[{"$f":"Clavet!A683","v":"  2019/03/29 05:00:00"},0.187,0.16300000000000001,3.5790000000000002,0,0.46600000000000003,68.847999999999999,1.679,352.11200000000002]
[{"$f":"Clavet!A684","v":"  2019/03/29 06:00:00"},0.13300000000000001,9.5000000000000001E-2,4.24,0,-1.101,73.135999999999996,1.583,351.40499999999997]
[{"$f":"Clavet!A685","v":"  2019/03/29 07:00:00"},0.152,0.104,2.0619999999999998,0,-1.494,70.513000000000005,1.6379999999999999,350.69799999999998]
[{"$f":"Clavet!A686","v":"  2019/03/29 08:00:00"},0.216,0.11799999999999999,0.871,0,-0.84399999999999997,63.811999999999998,2.2029999999999998,356.04]
[{"$f":"Clavet!A687","v":"  2019/03/29 09:00:00"},8.2000000000000003E-2,0.108,0.47199999999999998,0,-0.29099999999999998,57.97,3.88,12.52]
[{"$f":"Clavet!A688","v":"  2019/03/29 10:00:00"},7.9000000000000001E-2,8.2000000000000003E-2,0.122,0,0.61199999999999999,55.036000000000001,3.383,11.852]
[{"$f":"Clavet!A689","v":"  2019/03/29 11:00:00"},4.9000000000000002E-2,5.3999999999999999E-2,0.33400000000000002,0,1.3120000000000001,53.866,2.9929999999999999,7.444]
[{"$f":"Clavet!A690","v":"  2019/03/29 12:00:00"},8.0000000000000002E-3,0.159,0.52800000000000002,0,1.9810000000000001,52.548999999999999,2.8690000000000002,5.21]
[{"$f":"Clavet!A691","v":"  2019/03/29 13:00:00"},0,9.0999999999999998E-2,0.752,0,2.4870000000000001,51.777000000000001,2.3959999999999999,4.8380000000000001]
[{"$f":"Clavet!A692","v":"  2019/03/29 14:00:00"},0,0.13,0.98199999999999998,0,3.2040000000000002,50.555,2.1419999999999999,358.899]
[{"$f":"Clavet!A693","v":"  2019/03/29 15:00:00"},5.0000000000000001E-3,0.14499999999999999,1.383,0,3.3980000000000001,48.779000000000003,2.2770000000000001,5.57]
[{"$f":"Clavet!A694","v":"  2019/03/29 16:00:00"},1.2E-2,4.1000000000000002E-2,1.5529999999999999,0,3.3980000000000001,48.258000000000003,2.024,1.123]
[{"$f":"Clavet!A695","v":"  2019/03/29 17:00:00"},"       Z","       Z",1.7330000000000001,0,3.0609999999999999,49.636000000000003,1.903,4.7709999999999999]
[{"$f":"Clavet!A696","v":"  2019/03/29 18:00:00"},-2.8000000000000001E-2,0.114,1.7090000000000001,0,2.363,51.125999999999998,1.8520000000000001,21.780999999999999]
[{"$f":"Clavet!A697","v":"  2019/03/29 19:00:00"},5.0999999999999997E-2,7.3999999999999996E-2,2.105,0,0.92,56.816000000000003,1.2749999999999999,38.604999999999997]
[{"$f":"Clavet!A698","v":"  2019/03/29 20:00:00"},0.02,0.20499999999999999,3.669,0,-0.59399999999999997,63.244999999999997,1.1679999999999999,72.963999999999999]
[{"$f":"Clavet!A699","v":"  2019/03/29 21:00:00"},1.7000000000000001E-2,0.105,3.673,0,-1.171,64.908000000000001,0.47399999999999998,94.870999999999995]
[{"$f":"Clavet!A700","v":"  2019/03/29 22:00:00"},-3.0000000000000001E-3,0.13100000000000001,2.843,0,-1.2829999999999999,67.994,0.90200000000000002,165.46100000000001]
[{"$f":"Clavet!A701","v":"  2019/03/29 23:00:00"},-1.2E-2,0.13700000000000001,3.302,0,-1.4690000000000001,72.656999999999996,1.1200000000000001,204.43]
[{"$f":"Clavet!A702","v":"  2019/03/30 00:00:00"},1.2999999999999999E-2,0.18099999999999999,3.62,0,-1.536,74.03,1.5169999999999999,202.917]
[{"$f":"Clavet!A703","v":"  2019/03/30 01:00:00"},-4.2999999999999997E-2,0.22500000000000001,3.62,0,-1.583,73.028999999999996,1.954,208.40299999999999]
[{"$f":"Clavet!A704","v":"  2019/03/30 02:00:00"},6.0000000000000001E-3,0.312,3.62,0,-1.349,71.587000000000003,2.7549999999999999,213.68799999999999]
[{"$f":"Clavet!A705","v":"  2019/03/30 03:00:00"},1.4999999999999999E-2,0.40200000000000002,3.62,0,-1.4510000000000001,70.156000000000006,3.069,212.82]
[{"$f":"Clavet!A706","v":"  2019/03/30 04:00:00"},-5.0000000000000001E-3,0.246,3.62,0,-2.15,72.468999999999994,3.1739999999999999,214.006]
[{"$f":"Clavet!A707","v":"  2019/03/30 05:00:00"},5.2999999999999999E-2,0.26300000000000001,3.62,0,-2.0129999999999999,71.186000000000007,3.1909999999999998,211.727]
[{"$f":"Clavet!A708","v":"  2019/03/30 06:00:00"},-1.7000000000000001E-2,0.252,3.62,0,-2.157,72.468000000000004,2.7570000000000001,219.053]
[{"$f":"Clavet!A709","v":"  2019/03/30 07:00:00"},7.8E-2,0.216,3.62,0,-1.6739999999999999,68.724000000000004,3.5880000000000001,215.21299999999999]
[{"$f":"Clavet!A710","v":"  2019/03/30 08:00:00"},3.7999999999999999E-2,0.30499999999999999,3.62,0,0.184,63.636000000000003,4.7290000000000001,215.63]
[{"$f":"Clavet!A711","v":"  2019/03/30 09:00:00"},9.7000000000000003E-2,0.22,3.62,0,3.5720000000000001,56.329000000000001,5.4690000000000003,217.34800000000001]
[{"$f":"Clavet!A712","v":"  2019/03/30 10:00:00"},0.13200000000000001,0.127,2.4129999999999998,0,3.8679999999999999,35.468000000000004,3.0659999999999998,229.553]
[{"$f":"Clavet!A713","v":"  2019/03/30 11:00:00"},0.23799999999999999,0.20799999999999999,3.258,0,7.4539999999999997,44.503999999999998,5.3460000000000001,273.07799999999997]
[{"$f":"Clavet!A714","v":"  2019/03/30 12:00:00"},0.111,0.11600000000000001,3.62,0,9.7889999999999997,47.765000000000001,4.0629999999999997,299.12900000000002]
[{"$f":"Clavet!A715","v":"  2019/03/30 13:00:00"},0.32200000000000001,-7.5999999999999998E-2,3.62,0,10.532,47.003999999999998,3.883,320.46600000000001]
[{"$f":"Clavet!A716","v":"  2019/03/30 14:00:00"},0.36699999999999999,-6.4000000000000001E-2,3.62,0,11.054,44.737000000000002,3.335,330.81799999999998]
[{"$f":"Clavet!A717","v":"  2019/03/30 15:00:00"},0.28999999999999998,7.0000000000000001E-3,3.62,0,11.401,41.234999999999999,3.5379999999999998,333.12700000000001]
[{"$f":"Clavet!A718","v":"  2019/03/30 16:00:00"},"       Z","       Z",3.62,0,11.375,40.213000000000001,3.3330000000000002,335.92599999999999]
[{"$f":"Clavet!A719","v":"  2019/03/30 17:00:00"},0.27100000000000002,-7.0000000000000001E-3,3.62,0,9.8940000000000001,42.954999999999998,3.4119999999999999,346.22699999999998]
[{"$f":"Clavet!A720","v":"  2019/03/30 18:00:00"},0.30099999999999999,1.7999999999999999E-2,3.62,0,8.1790000000000003,45.186999999999998,2.944,352.28]
[{"$f":"Clavet!A721","v":"  2019/03/30 19:00:00"},0.17299999999999999,-4.0000000000000001E-3,3.62,0,5.9279999999999999,52.954999999999998,1.3580000000000001,342.86900000000003]
[{"$f":"Clavet!A722","v":"  2019/03/30 20:00:00"},0.17699999999999999,-0.04,3.62,0,4.2850000000000001,55.280999999999999,1.7529999999999999,340.685]
[{"$f":"Clavet!A723","v":"  2019/03/30 21:00:00"},0.11799999999999999,-0.1,3.62,0,2.452,60.993000000000002,1.8740000000000001,4.4379999999999997]
[{"$f":"Clavet!A724","v":"  2019/03/30 22:00:00"},3.7999999999999999E-2,-9.9000000000000005E-2,3.62,0,0.95199999999999996,65.643000000000001,2.1070000000000002,13.654]
[{"$f":"Clavet!A725","v":"  2019/03/30 23:00:00"},-1E-3,-8.1000000000000003E-2,3.7890000000000001,0,-0.32,69.513000000000005,2.0209999999999999,15.903]
[{"$f":"Clavet!A726","v":"  2019/03/31 00:00:00"},-1E-3,-2.9000000000000001E-2,1.5229999999999999,0,-1.022,71.456000000000003,1.3160000000000001,10.977]
[{"$f":"Clavet!A727","v":"  2019/03/31 01:00:00"},-3.4000000000000002E-2,-3.7999999999999999E-2,1.7949999999999999,0,-1.409,71.808000000000007,0.88800000000000001,337.02]
[{"$f":"Clavet!A728","v":"  2019/03/31 02:00:00"},1.6E-2,-8.8999999999999996E-2,2.214,0,-2.0379999999999998,72.739000000000004,0.95599999999999996,332.46600000000001]
[{"$f":"Clavet!A729","v":"  2019/03/31 03:00:00"},-1.0999999999999999E-2,-0.10299999999999999,2.4340000000000002,0,-3.15,76.099999999999994,0.63200000000000001,309.07499999999999]
[{"$f":"Clavet!A730","v":"  2019/03/31 04:00:00"},-3.6999999999999998E-2,-9.8000000000000004E-2,2.5299999999999998,0,-3.1360000000000001,74.216999999999999,0.65200000000000002,313.13900000000001]
[{"$f":"Clavet!A731","v":"  2019/03/31 05:00:00"},-4.5999999999999999E-2,-1.2E-2,2.7090000000000001,0,-3.552,76.024000000000001,0.84099999999999997,313.93599999999998]
[{"$f":"Clavet!A732","v":"  2019/03/31 06:00:00"},-3.2000000000000001E-2,2.1000000000000001E-2,2.8319999999999999,0,-3.569,75.554000000000002,0.81299999999999994,313.55500000000001]
[{"$f":"Clavet!A733","v":"  2019/03/31 07:00:00"},-0.04,9.5000000000000001E-2,2.89,0,-3.4969999999999999,77.730999999999995,0.95499999999999996,315.15899999999999]
[{"$f":"Clavet!A734","v":"  2019/03/31 08:00:00"},7.6999999999999999E-2,3.6999999999999998E-2,2.7330000000000001,0,-2.2309999999999999,73.626000000000005,1.077,320.59399999999999]
[{"$f":"Clavet!A735","v":"  2019/03/31 09:00:00"},0.32500000000000001,7.4999999999999997E-2,2.456,0,-0.36599999999999999,67.081000000000003,0.84099999999999997,347.351]
[{"$f":"Clavet!A736","v":"  2019/03/31 10:00:00"},0.25,0.06,1.64,0,1.278,56.369,9.8000000000000004E-2,309.86900000000003]
[{"$f":"Clavet!A737","v":"  2019/03/31 11:00:00"},0.13500000000000001,6.0999999999999999E-2,1.573,0,2.032,51.985999999999997,0.61399999999999999,283.84899999999999]
[{"$f":"Clavet!A738","v":"  2019/03/31 12:00:00"},0.16600000000000001,4.9000000000000002E-2,3.3820000000000001,0,2.9009999999999998,48.46,0.79400000000000004,275.238]
[{"$f":"Clavet!A739","v":"  2019/03/31 13:00:00"},0.38700000000000001,2.1999999999999999E-2,2.8530000000000002,0,3.5350000000000001,44.890999999999998,1.1060000000000001,326.24799999999999]
[{"$f":"Clavet!A740","v":"  2019/03/31 14:00:00"},0.24299999999999999,0.03,2.5670000000000002,0,4.3659999999999997,43.61,0.871,285.74599999999998]
[{"$f":"Clavet!A741","v":"  2019/03/31 15:00:00"},"       Z","       Z",3.2010000000000001,0,4.5359999999999996,43.234999999999999,0.96699999999999997,315.96600000000001]
[{"$f":"Clavet!A742","v":"  2019/03/31 16:00:00"},0.21299999999999999,7.3999999999999996E-2,4.5170000000000003,0,4.7160000000000002,43.890999999999998,1.343,325.04899999999998]
[{"$f":"Clavet!A743","v":"  2019/03/31 17:00:00"},0.17899999999999999,7.0000000000000001E-3,4.7990000000000004,0,4.47,43.773000000000003,0.93899999999999995,327.90100000000001]
[{"$f":"Clavet!A744","v":"  2019/03/31 18:00:00"},0.14499999999999999,-3.0000000000000001E-3,4.6260000000000003,0,4.2549999999999999,47.374000000000002,1.167,322.178]
[{"$f":"Clavet!A745","v":"  2019/03/31 19:00:00"},0.13400000000000001,0.13700000000000001,4.6360000000000001,0,3.4820000000000002,51.231000000000002,0.74199999999999999,324.01900000000001]
[{"$f":"Clavet!A746","v":"  2019/03/31 20:00:00"},0.13300000000000001,0.309,4.4960000000000004,0,2.7949999999999999,51.246000000000002,0.65200000000000002,326.29700000000003]
[{"$f":"Clavet!A747","v":"  2019/03/31 21:00:00"},0.13400000000000001,0.224,4.3049999999999997,0,2.3639999999999999,54.061999999999998,0.38100000000000001,312.54300000000001]
[{"$f":"Clavet!A748","v":"  2019/03/31 22:00:00"},-7.0000000000000001E-3,0.19800000000000001,4.4089999999999998,0,1.421,61.478000000000002,0.71899999999999997,271.29700000000003]
[{"$f":"Clavet!A749","v":"  2019/03/31 23:00:00"},7.0000000000000007E-2,0.32,4.3650000000000002,0,0.82,62.66,1.63,251.15600000000001]
[]
["Minimum",{"$f":"MIN(B6:B749)","v":-0.879},{"$f":"MIN(C6:C749)","v":-0.35599999999999998},0.122,{"$f":"MIN(E6:E749)","v":0},-33.030999999999999,{"$f":"MIN(G6:G749)","v":35.468000000000004},{"$f":"MIN(H6:H749)","v":9.8000000000000004E-2},1.123]
["MinDate",{"$f":"INDEX($A6:$A749,MATCH(MIN(B6:B749),B6:B749,0))","v":"  2019/03/22 22:00:00"},{"$f":"INDEX($A6:$A749,MATCH(MIN(C6:C749),C6:C749,0))","v":"  2019/03/02 18:00:00"},"  2019/03/29 10:00:00",{"$f":"INDEX($A6:$A749,MATCH(MIN(E6:E749),E6:E749,0))","v":"  2019/03/01 00:00:00"},"  2019/03/02 07:00:00",{"$f":"INDEX($A6:$A749,MATCH(MIN(G6:G749),G6:G749,0))","v":"  2019/03/30 10:00:00"},{"$f":"INDEX($A6:$A749,MATCH(MIN(H6:H749),H6:H749,0))","v":"  2019/03/31 10:00:00"},"  2019/03/29 16:00:00"]
["Maximum",{"$f":"MAX(B6:B749)","v":3.1869999999999998},{"$f":"MAX(C6:C749)","v":1.214},29.350999999999999,{"$f":"MAX(E6:E749)","v":1.66},12.621,{"$f":"MAX(G6:G749)","v":86.564999999999998},{"$f":"MAX(H6:H749)","v":6.9459999999999997},359.36900000000003]
["MaxDate",{"$f":"INDEX($A6:$A749,MATCH(MAX(B6:B749),B6:B749,0))","v":"  2019/03/08 14:00:00"},{"$f":"INDEX($A6:$A749,MATCH(MAX(C6:C749),C6:C749,0))","v":"  2019/03/02 09:00:00"},"  2019/03/27 08:00:00",{"$f":"INDEX($A6:$A749,MATCH(MAX(E6:E749),E6:E749,0))","v":"  2019/03/26 22:00:00"},"  2019/03/22 15:00:00",{"$f":"INDEX($A6:$A749,MATCH(MAX(G6:G749),G6:G749,0))","v":"  2019/03/27 07:00:00"},{"$f":"INDEX($A6:$A749,MATCH(MAX(H6:H749),H6:H749,0))","v":"  2019/03/23 17:00:00"},"  2019/03/26 20:00:00"]
["Avg",{"$f":"AVERAGE(B6:B749)","v":0.38966512345679039},{"$f":"AVERAGE(C6:C749)","v":0.11706172839506176},5.2530664697193457,{"$f":"AVERAGE(E6:E749)","v":2.7086383601756954E-3},-6.4720951683748131,{"$f":"AVERAGE(G6:G749)","v":68.359521229868164},{"$f":"AVERAGE(H6:H749)","v":2.5852855051244523},242.470795021962]
["Num",{"$f":"COUNT(B6:B749)","v":648},{"$f":"COUNT(C6:C749)","v":648},677,{"$f":"COUNT(E6:E749)","v":683},683,{"$f":"COUNT(G6:G749)","v":683},{"$f":"COUNT(H6:H749)","v":683},683]
["Data[%]",{"$f":"(B756/(COUNTA(B6:B749)))*100","v":87.096774193548384},{"$f":"(C756/(COUNTA(C6:C749)))*100","v":87.096774193548384},90.994623655913969,{"$f":"(E756/(COUNTA(E6:E749)))*100","v":91.8010752688172},91.8010752688172,{"$f":"(G756/(COUNTA(G6:G749)))*100","v":91.8010752688172},{"$f":"(H756/(COUNTA(H6:H749)))*100","v":91.8010752688172},91.8010752688172]
["STD",{"$f":"_xlfn.STDEV.P(B6:B749)","v":0.55383665519309822},{"$f":"_xlfn.STDEV.P(C6:C749)","v":0.20127161923163364},4.2541121661307919,"No Data",9.7207384980267353,{"$f":"_xlfn.STDEV.P(G6:G749)","v":8.9176379379882675},{"$f":"_xlfn.STDEV.P(H6:H749)","v":1.1846212900209334},"No Data"]

{"sheet":"Maidstone","index":2,"n_rows":758,"n_cols":12,"rows_kept":758,"cut":false,"hidden":false,"merged":[]}
[{"$f":"Kerrobert!A1","v":"Group: Global WYAMZ - Monthly Monthly: 01/2019  Type: AVG 1 Hr."}]
[]
["Date & Time","Maidstone","Maidstone","Maidstone","Maidstone","Maidstone","Maidstone","Maidstone","Maidstone","Maidstone","Maidstone","Maidstone"]
[null,"SO2","NO","NO2","NOX","H2S","PM25","PRECIP","TEMPERAT","RH","WS","WD"]
[null,"ppb","ppb","ppb","ppb","ppb","ug/m3(L)","mm","C°","%RH","m/s","Deg"]
[{"$f":"Clavet!A6","v":"  2019/03/01 00:00:00"},0,0.25600000000000001,2.379,2.633,7.4999999999999997E-2,2.9630000000000001,0,-17.515000000000001,71.584000000000003,1.552,350.05900000000003]
[{"$f":"Clavet!A7","v":"  2019/03/01 01:00:00"},1.9E-2,0.28899999999999998,2.2970000000000002,2.5840000000000001,1.7999999999999999E-2,3.71,0,-19.103000000000002,70.518000000000001,1.181,343.745]
[{"$f":"Clavet!A8","v":"  2019/03/01 02:00:00"},2E-3,0.23300000000000001,2.4020000000000001,2.633,6.0000000000000001E-3,5.1029999999999998,0,-20.791,68.91,0.83,331.25]
[{"$f":"Clavet!A9","v":"  2019/03/01 03:00:00"},-5.0999999999999997E-2,0.16900000000000001,1.8240000000000001,1.992,1.6E-2,4.5279999999999996,0,-22.472000000000001,65.974000000000004,0.57699999999999996,331.54599999999999]
[{"$f":"Clavet!A10","v":"  2019/03/01 04:00:00"},-9.5000000000000001E-2,0.185,3.028,3.2109999999999999,-7.9000000000000001E-2,4.79,0,-23.587,70.721999999999994,0.66800000000000004,336.26900000000001]
[{"$f":"Clavet!A11","v":"  2019/03/01 05:00:00"},2E-3,0.20699999999999999,3.0249999999999999,3.2309999999999999,-3.3000000000000002E-2,4.1070000000000002,0,-22.542999999999999,71.346000000000004,1.8759999999999999,336.94299999999998]
[{"$f":"Clavet!A12","v":"  2019/03/01 06:00:00"},-3.7999999999999999E-2,0.50700000000000001,2.3780000000000001,2.8839999999999999,2.1999999999999999E-2,7.9989999999999997,0,-22.692,69.542000000000002,2.23,342.91399999999999]
[{"$f":"Clavet!A13","v":"  2019/03/01 07:00:00"},-8.9999999999999993E-3,0.76400000000000001,1.375,2.1379999999999999,0.03,9.9290000000000003,0,-23.032,66.537000000000006,3.1829999999999998,346.774]
[{"$f":"Clavet!A14","v":"  2019/03/01 08:00:00"},-0.14000000000000001,1.19,1.857,3.0470000000000002,-4.8000000000000001E-2,9.4740000000000002,0,-24.225000000000001,65.194000000000003,2.706,335.20600000000002]
[{"$f":"Clavet!A15","v":"  2019/03/01 09:00:00"},7.3999999999999996E-2,1.171,1.32,2.4900000000000002,2.1999999999999999E-2,7.335,0,-24.347000000000001,63.241999999999997,2.6949999999999998,335.61200000000002]
[{"$f":"Clavet!A16","v":"  2019/03/01 10:00:00"},9.6000000000000002E-2,1.1659999999999999,0.85699999999999998,2.0219999999999998,-0.14899999999999999,4.3920000000000003,0,-24.056000000000001,60.545999999999999,3.7170000000000001,336.45600000000002]
[{"$f":"Clavet!A17","v":"  2019/03/01 11:00:00"},-2.5000000000000001E-2,1.0620000000000001,0.79200000000000004,1.853,-9.2999999999999999E-2,2.1120000000000001,0,-23.663,57.01,3.7839999999999998,338.88099999999997]
[{"$f":"Clavet!A18","v":"  2019/03/01 12:00:00"},4.4999999999999998E-2,0.629,0.66200000000000003,1.29,-3.2000000000000001E-2,1.4610000000000001,0,-23.251000000000001,55.579000000000001,4.2969999999999997,334.495]
[{"$f":"Clavet!A19","v":"  2019/03/01 13:00:00"},2.1999999999999999E-2,0.318,0.54900000000000004,0.86599999999999999,-9.4E-2,1.4330000000000001,0,-22.8,53.805999999999997,4.1120000000000001,329.20499999999998]
[{"$f":"Clavet!A20","v":"  2019/03/01 14:00:00"},2.5999999999999999E-2,0.50700000000000001,0.64400000000000002,1.151,-0.111,1.1240000000000001,0,-22.265999999999998,52.853999999999999,3.923,336.11900000000003]
[{"$f":"Clavet!A21","v":"  2019/03/01 15:00:00"},0.09,0.42399999999999999,0.61599999999999999,1.04,-6.4000000000000001E-2,1.0189999999999999,0,-21.78,52.564999999999998,3.5310000000000001,329.233]
[{"$f":"Clavet!A22","v":"  2019/03/01 16:00:00"},-4.3999999999999997E-2,0.151,0.48799999999999999,0.63800000000000001,-0.115,0.93899999999999995,0,-21.408999999999999,49.488,3.31,323.81700000000001]
[{"$f":"Clavet!A23","v":"  2019/03/01 17:00:00"},-3.2000000000000001E-2,0.68100000000000005,1.3120000000000001,1.9930000000000001,-0.158,1.2829999999999999,0,-22.02,53.036999999999999,2.2570000000000001,326.33600000000001]
[{"$f":"Clavet!A24","v":"  2019/03/01 18:00:00"},0.1,0.66200000000000003,2.0249999999999999,2.6869999999999998,-0.03,2.1659999999999999,0,-23.533999999999999,61.054000000000002,1.526,324.15300000000002]
[{"$f":"Clavet!A25","v":"  2019/03/01 19:00:00"},-1.9E-2,0.14299999999999999,2.4670000000000001,2.61,-0.188,3.379,0,-26.05,58.688000000000002,0.73899999999999999,275.75]
[{"$f":"Clavet!A26","v":"  2019/03/01 20:00:00"},0.10100000000000001,4.0000000000000001E-3,5.2839999999999998,5.2869999999999999,-0.17499999999999999,4.7910000000000004,0,-26.788,61.143999999999998,0.95499999999999996,271.59800000000001]
[{"$f":"Clavet!A27","v":"  2019/03/01 21:00:00"},0.26400000000000001,-2.4E-2,6.1710000000000003,6.1459999999999999,-0.20599999999999999,5.2949999999999999,0,-27.120999999999999,60.654000000000003,1.1299999999999999,288.26400000000001]
[{"$f":"Clavet!A28","v":"  2019/03/01 22:00:00"},"        Z","        Z","        Z","        Z","        Z",6.61,0,-29.065000000000001,62.618000000000002,0.82799999999999996,294.63200000000001]
[{"$f":"Clavet!A29","v":"  2019/03/01 23:00:00"},0.55000000000000004,3.5999999999999997E-2,6.5259999999999998,6.5629999999999997,0.32800000000000001,7.5869999999999997,0,-28.792000000000002,63.143000000000001,0.38500000000000001,263.38099999999997]
[{"$f":"Clavet!A30","v":"  2019/03/02 00:00:00"},0.57299999999999995,7.3999999999999996E-2,5.819,5.8929999999999998,-0.13900000000000001,7.1360000000000001,0,-28.218,62.036000000000001,2.1549999999999998,276.767]
[{"$f":"Clavet!A31","v":"  2019/03/02 01:00:00"},0.55200000000000005,-2.1999999999999999E-2,5.09,5.0679999999999996,-0.188,6.2389999999999999,0,-28.068999999999999,61.930999999999997,2.3959999999999999,283.81700000000001]
[{"$f":"Clavet!A32","v":"  2019/03/02 02:00:00"},0.56799999999999995,2.1999999999999999E-2,4.5229999999999997,4.5449999999999999,-0.216,5.859,0,-28.466999999999999,62.718000000000004,2.3380000000000001,303.089]
[{"$f":"Clavet!A33","v":"  2019/03/02 03:00:00"},0.57899999999999996,5.7000000000000002E-2,5.3449999999999998,5.4020000000000001,-0.27200000000000002,5.6319999999999997,0,-29.071999999999999,63.459000000000003,1.98,295.87099999999998]
[{"$f":"Clavet!A34","v":"  2019/03/02 04:00:00"},0.60099999999999998,-1E-3,5.4109999999999996,5.4109999999999996,-0.27900000000000003,5.8460000000000001,0,-29.475000000000001,64.037999999999997,1.81,275.89699999999999]
[{"$f":"Clavet!A35","v":"  2019/03/02 05:00:00"},0.47799999999999998,8.9999999999999993E-3,4.4470000000000001,4.4569999999999999,-0.23200000000000001,4.3570000000000002,0,-28.893999999999998,63.177999999999997,2.6920000000000002,282.10700000000003]
[{"$f":"Clavet!A36","v":"  2019/03/02 06:00:00"},0.39800000000000002,0.13500000000000001,0.24099999999999999,0.377,-0.20599999999999999,3.9870000000000001,0,-29.745999999999999,63.887999999999998,3.1739999999999999,264.185]
[{"$f":"Clavet!A37","v":"  2019/03/02 07:00:00"},0.29799999999999999,0.77800000000000002,0.17199999999999999,0.95099999999999996,-0.13600000000000001,3.903,0,-30.451000000000001,64.561999999999998,2.1110000000000002,266.38799999999998]
[{"$f":"Clavet!A38","v":"  2019/03/02 08:00:00"},0.19900000000000001,0.56599999999999995,4.2380000000000004,4.8040000000000003,-0.13100000000000001,3.4860000000000002,0,-30.628,64.48,1.3660000000000001,297.99799999999999]
[{"$f":"Clavet!A39","v":"  2019/03/02 09:00:00"},7.4999999999999997E-2,1.3,2.8460000000000001,4.149,-0.19400000000000001,1.93,0,-28.741,62.887999999999998,2.3849999999999998,301.52100000000002]
[{"$f":"Clavet!A40","v":"  2019/03/02 10:00:00"},0.20599999999999999,1.7230000000000001,2.0640000000000001,3.7879999999999998,-0.128,1.4239999999999999,0,-26.658000000000001,60.237000000000002,3.8929999999999998,299.62099999999998]
[{"$f":"Clavet!A41","v":"  2019/03/02 11:00:00"},0.307,1.7969999999999999,1.6779999999999999,3.476,-0.20399999999999999,1.1779999999999999,0,-25.262,58.072000000000003,3.9580000000000002,305.166]
[{"$f":"Clavet!A42","v":"  2019/03/02 12:00:00"},0.75600000000000001,1.78,1.5840000000000001,3.3650000000000002,-0.113,1.089,0,-23.858000000000001,55.865000000000002,4.1429999999999998,300.72399999999999]
[{"$f":"Clavet!A43","v":"  2019/03/02 13:00:00"},0.56899999999999995,1.3420000000000001,1.302,2.6459999999999999,-0.157,0.97799999999999998,0,-22.876999999999999,54.923999999999999,4.0880000000000001,300.22399999999999]
[{"$f":"Clavet!A44","v":"  2019/03/02 14:00:00"},0.23899999999999999,1.036,1.165,2.2029999999999998,-0.17899999999999999,0.68400000000000005,0,-21.847000000000001,54.598999999999997,4.6539999999999999,301.03199999999998]
[{"$f":"Clavet!A45","v":"  2019/03/02 15:00:00"},0.30099999999999999,0.73799999999999999,1.002,1.74,-5.0000000000000001E-3,1.111,0,-20.923999999999999,55.2,5.4269999999999996,301.91399999999999]
[{"$f":"Clavet!A46","v":"  2019/03/02 16:00:00"},0.155,0.49,0.997,1.49,-0.11600000000000001,1.264,0,-20.190999999999999,55.64,5.43,299.21899999999999]
[{"$f":"Clavet!A47","v":"  2019/03/02 17:00:00"},-0.03,0.38800000000000001,1.268,1.6559999999999999,-9.7000000000000003E-2,1.1459999999999999,0,-19.492999999999999,54.767000000000003,4.4509999999999996,299.25700000000001]
[{"$f":"Clavet!A48","v":"  2019/03/02 18:00:00"},-5.6000000000000001E-2,0.16700000000000001,1.82,1.9890000000000001,-0.10100000000000001,1.2010000000000001,0,-20.126999999999999,55.396999999999998,3.6059999999999999,284.91300000000001]
[{"$f":"Clavet!A49","v":"  2019/03/02 19:00:00"},-7.5999999999999998E-2,4.5999999999999999E-2,2.2170000000000001,2.266,-0.16500000000000001,1.175,0,-20.654,57.076999999999998,3.6720000000000002,288.11]
[{"$f":"Clavet!A50","v":"  2019/03/02 20:00:00"},-5.2999999999999999E-2,-4.5999999999999999E-2,1.7390000000000001,1.696,-0.186,0.88200000000000001,0,-20.123999999999999,56.040999999999997,4.0659999999999998,293.87400000000002]
[{"$f":"Clavet!A51","v":"  2019/03/02 21:00:00"},"        Z","        Z","        Z","        Z","        Z",0.78400000000000003,0,-19.827999999999999,55.747999999999998,4.28,298.86799999999999]
[{"$f":"Clavet!A52","v":"  2019/03/02 22:00:00"},-6.2E-2,-5.8000000000000003E-2,2.1440000000000001,2.0870000000000002,0.40799999999999997,0.68400000000000005,0,-20.099,56.265000000000001,3.7890000000000001,307.64400000000001]
[{"$f":"Clavet!A53","v":"  2019/03/02 23:00:00"},9.4E-2,8.0000000000000002E-3,1.851,1.861,-7.0000000000000007E-2,0.61899999999999999,0,-20.113,55.264000000000003,4.3849999999999998,316.02699999999999]
[{"$f":"Clavet!A54","v":"  2019/03/03 00:00:00"},0.161,2.1999999999999999E-2,2.02,2.0449999999999999,-0.12,0.55900000000000005,0,-20.52,55.043999999999997,4.0540000000000003,312.81799999999998]
[{"$f":"Clavet!A55","v":"  2019/03/03 01:00:00"},0.191,-4.3999999999999997E-2,1.7230000000000001,1.6830000000000001,-0.128,0.499,0,-20.896999999999998,55.651000000000003,3.698,307.17399999999998]
[{"$f":"Clavet!A56","v":"  2019/03/03 02:00:00"},0.121,2.8000000000000001E-2,2.718,2.7480000000000002,-0.114,0.50700000000000001,0,-21.872,57.533999999999999,3.5289999999999999,302.12400000000002]
[{"$f":"Clavet!A57","v":"  2019/03/03 03:00:00"},7.0000000000000001E-3,-3.7999999999999999E-2,2.5979999999999999,2.5630000000000002,-0.14899999999999999,0.60499999999999998,0,-22.497,58.811,2.9550000000000001,298.642]
[{"$f":"Clavet!A58","v":"  2019/03/03 04:00:00"},-1.7000000000000001E-2,-3.2000000000000001E-2,2.48,2.452,-2.3E-2,0.63,0,-22.042999999999999,58.628,3.4910000000000001,309.43799999999999]
[{"$f":"Clavet!A59","v":"  2019/03/03 05:00:00"},-6.9000000000000006E-2,0.04,2.7959999999999998,2.84,-9.0999999999999998E-2,0.69099999999999995,0,-23.003,60.747999999999998,2.702,297.11700000000002]
[{"$f":"Clavet!A60","v":"  2019/03/03 06:00:00"},-1.4999999999999999E-2,7.0000000000000001E-3,2.722,2.7320000000000002,-6.6000000000000003E-2,1.0169999999999999,0,-22.75,61.405999999999999,4.1900000000000004,283.12400000000002]
[{"$f":"Clavet!A61","v":"  2019/03/03 07:00:00"},-3.6999999999999998E-2,-7.9000000000000001E-2,2.0430000000000001,1.968,-4.3999999999999997E-2,1.294,0,-22.704999999999998,61.606000000000002,3.456,287.01900000000001]
[{"$f":"Clavet!A62","v":"  2019/03/03 08:00:00"},-1.6E-2,7.5999999999999998E-2,2.1859999999999999,2.2669999999999999,2.8000000000000001E-2,1.155,0,-21.960999999999999,60.947000000000003,3.51,288.601]
[{"$f":"Clavet!A63","v":"  2019/03/03 09:00:00"},1.6E-2,0.45300000000000001,1.71,2.1669999999999998,5.8000000000000003E-2,0.80100000000000005,0,-20.896000000000001,58.768999999999998,3.931,295.94799999999998]
[{"$f":"Clavet!A64","v":"  2019/03/03 10:00:00"},3.6999999999999998E-2,0.81399999999999995,1.6259999999999999,2.444,-0.16300000000000001,0.67600000000000005,0,-19.597000000000001,57.493000000000002,3.6339999999999999,304.875]
[{"$f":"Clavet!A65","v":"  2019/03/03 11:00:00"},0.109,1.0249999999999999,1.351,2.38,-0.115,0.90300000000000002,0,-18.495999999999999,55.713000000000001,4.9489999999999998,308.16899999999998]
[{"$f":"Clavet!A66","v":"  2019/03/03 12:00:00"},-9.5000000000000001E-2,0.94599999999999995,1.1850000000000001,2.1360000000000001,-6.3E-2,1.2430000000000001,0,-18.358000000000001,55.32,5.359,305.262]
[{"$f":"Clavet!A67","v":"  2019/03/03 13:00:00"},-0.20399999999999999,0.77900000000000003,1.06,1.845,-0.14299999999999999,1.804,0,-17.372,53.786000000000001,5.0869999999999997,296.23500000000001]
[{"$f":"Clavet!A68","v":"  2019/03/03 14:00:00"},-8.4000000000000005E-2,0.63200000000000001,0.97799999999999998,1.615,-0.17199999999999999,1.552,0,-16.117999999999999,51.564,5.0309999999999997,302.34899999999999]
[{"$f":"Clavet!A69","v":"  2019/03/03 15:00:00"},-0.16200000000000001,0.65400000000000003,1.071,1.7310000000000001,-0.23400000000000001,1.4590000000000001,0,-15.417999999999999,50.878999999999998,4.8979999999999997,303.31200000000001]
[{"$f":"Clavet!A70","v":"  2019/03/03 16:00:00"},-0.28999999999999998,0.39200000000000002,1.034,1.431,-0.251,1.571,0,-15.180999999999999,51.488999999999997,4.9749999999999996,300.17599999999999]
[{"$f":"Clavet!A71","v":"  2019/03/03 17:00:00"},-0.188,0.35499999999999998,1.161,1.522,-0.17599999999999999,1.5329999999999999,0,-15.125,50.789000000000001,4.8570000000000002,298.58699999999999]
[{"$f":"Clavet!A72","v":"  2019/03/03 18:00:00"},-0.28599999999999998,7.0999999999999994E-2,1.6679999999999999,1.7450000000000001,-0.27500000000000002,2.956,0,-15.794,52.704000000000001,4.5940000000000003,296.529]
[{"$f":"Clavet!A73","v":"  2019/03/03 19:00:00"},-6.4000000000000001E-2,0.04,2.12,2.1659999999999999,-3.4000000000000002E-2,5,0,-16.605,53.73,4.3840000000000003,293.62400000000002]
[{"$f":"Clavet!A74","v":"  2019/03/03 20:00:00"},"        Z","        Z","        Z","        Z","        Z",3.77,0,-17.048999999999999,53.945,4.1520000000000001,295.75200000000001]
[{"$f":"Clavet!A75","v":"  2019/03/03 21:00:00"},7.0000000000000001E-3,4.1000000000000002E-2,2.4710000000000001,2.5169999999999999,0.27,3.306,0,-17.46,54.433,3.7349999999999999,313.10000000000002]
[{"$f":"Clavet!A76","v":"  2019/03/03 22:00:00"},-4.5999999999999999E-2,3.5999999999999997E-2,2.6,2.641,8.1000000000000003E-2,3.4540000000000002,0,-17.599,54.268999999999998,2.6150000000000002,320.19600000000003]
[{"$f":"Clavet!A77","v":"  2019/03/03 23:00:00"},9.1999999999999998E-2,4.3999999999999997E-2,3.0720000000000001,3.1219999999999999,9.6000000000000002E-2,4.1260000000000003,0,-18.622,56.442,2.5960000000000001,305.49599999999998]
[{"$f":"Clavet!A78","v":"  2019/03/04 00:00:00"},7.0000000000000007E-2,5.5E-2,2.5779999999999998,2.6379999999999999,4.8000000000000001E-2,3.4769999999999999,0,-18.071000000000002,55.71,3.722,301.90699999999998]
[{"$f":"Clavet!A79","v":"  2019/03/04 01:00:00"},7.5999999999999998E-2,-4.1000000000000002E-2,2.895,2.859,1.4E-2,2.8759999999999999,0,-17.463999999999999,53.46,3.6909999999999998,293.64299999999997]
[{"$f":"Clavet!A80","v":"  2019/03/04 02:00:00"},0.215,-4.1000000000000002E-2,2.6059999999999999,2.57,1.6E-2,2.5350000000000001,0,-17.439,52.634999999999998,3.31,291.03800000000001]
[{"$f":"Clavet!A81","v":"  2019/03/04 03:00:00"},0.17699999999999999,5.3999999999999999E-2,2.6720000000000002,2.73,9.9000000000000005E-2,2.4369999999999998,0,-18.013000000000002,53.5,3.4540000000000002,296.56599999999997]
[{"$f":"Clavet!A82","v":"  2019/03/04 04:00:00"},0.13400000000000001,3.9E-2,2.44,2.4830000000000001,-5.0000000000000001E-3,2.4990000000000001,0,-18.202000000000002,53.991,3.8029999999999999,282.94799999999998]
[{"$f":"Clavet!A83","v":"  2019/03/04 05:00:00"},8.8999999999999996E-2,3.6999999999999998E-2,2.37,2.4119999999999999,0.123,2.3439999999999999,0,-18.184999999999999,54.743000000000002,2.9430000000000001,302.87200000000001]
[{"$f":"Clavet!A84","v":"  2019/03/04 06:00:00"},0.30399999999999999,7.8E-2,2.3860000000000001,2.468,0.08,2.3780000000000001,0,-18.059999999999999,54.427999999999997,3.1709999999999998,317.34199999999998]
[{"$f":"Clavet!A85","v":"  2019/03/04 07:00:00"},0.16800000000000001,6.6000000000000003E-2,2.242,2.3119999999999998,-1.0999999999999999E-2,2.3660000000000001,0,-17.814,53.834000000000003,3.6960000000000002,308.88299999999998]
[{"$f":"Clavet!A86","v":"  2019/03/04 08:00:00"},0.25700000000000001,0.40300000000000002,2.2269999999999999,2.6339999999999999,4.7E-2,2.3679999999999999,0,-17.091000000000001,52.862000000000002,4.8620000000000001,303.91500000000002]
[{"$f":"Clavet!A87","v":"  2019/03/04 09:00:00"},0.28199999999999997,0.78600000000000003,2.1469999999999998,2.9359999999999999,0.188,2.427,0,-16.390999999999998,51.018000000000001,5.1310000000000002,302.26799999999997]
[{"$f":"Clavet!A88","v":"  2019/03/04 10:00:00"},0.154,1.1299999999999999,1.744,2.8780000000000001,6.4000000000000001E-2,2.1829999999999998,0,-15.48,50.134999999999998,5.242,304.93799999999999]
[{"$f":"Clavet!A89","v":"  2019/03/04 11:00:00"},0.32100000000000001,1.4430000000000001,1.667,3.1139999999999999,9.1999999999999998E-2,1.9159999999999999,0,-14.754,49.674999999999997,5.7350000000000003,308.87099999999998]
[{"$f":"Clavet!A90","v":"  2019/03/04 12:00:00"},0.217,1.3140000000000001,1.6910000000000001,3.008,8.6999999999999994E-2,1.6919999999999999,0,-13.18,48.447000000000003,5.5270000000000001,304.21100000000001]
[{"$f":"Clavet!A91","v":"  2019/03/04 13:00:00"},0.186,0.93,1.3440000000000001,2.2770000000000001,0.161,1.5640000000000001,0,-11.66,46.718000000000004,5.8579999999999997,301.17599999999999]
[{"$f":"Clavet!A92","v":"  2019/03/04 14:00:00"},0.26200000000000001,5.5880000000000001,2.9460000000000002,8.5350000000000001,0.115,1.65,0,-10.673999999999999,46.749000000000002,5.1440000000000001,298.47199999999998]
[{"$f":"Clavet!A93","v":"  2019/03/04 15:00:00"},0.19700000000000001,0.81899999999999995,1.4930000000000001,2.3149999999999999,0.17599999999999999,1.5189999999999999,0,-10.052,47.783000000000001,5.5049999999999999,299.697]
[{"$f":"Clavet!A94","v":"  2019/03/04 16:00:00"},0.189,0.66200000000000003,1.5289999999999999,2.1949999999999998,2.7E-2,1.4,0,-9.1929999999999996,47.798999999999999,5.4880000000000004,301.90199999999999]
[{"$f":"Clavet!A95","v":"  2019/03/04 17:00:00"},0.11899999999999999,0.61399999999999999,2.1549999999999998,2.7719999999999998,-2.7E-2,1.677,0,-9.766,50.95,4.4379999999999997,296.19799999999998]
[{"$f":"Clavet!A96","v":"  2019/03/04 18:00:00"},0.14699999999999999,0.27,2.4910000000000001,2.7639999999999998,6.8000000000000005E-2,1.585,0,-9.6,51.792999999999999,4.6429999999999998,294.39100000000002]
[{"$f":"Clavet!A97","v":"  2019/03/04 19:00:00"},"        Z","        Z","        Z","        Z","        Z",1.456,0,-8.9979999999999993,52.292999999999999,4.0579999999999998,296.19600000000003]
[{"$f":"Clavet!A98","v":"  2019/03/04 20:00:00"},0.371,0.17899999999999999,2.9220000000000002,3.1019999999999999,0.57199999999999995,1.5009999999999999,0,-9.1349999999999998,54.415999999999997,2.4950000000000001,292.02100000000002]
[{"$f":"Clavet!A99","v":"  2019/03/04 21:00:00"},0.26200000000000001,9.7000000000000003E-2,2.7839999999999998,2.8839999999999999,0.15,1.3939999999999999,0,-8.8469999999999995,53.14,3.282,290.13200000000001]
[{"$f":"Clavet!A100","v":"  2019/03/04 22:00:00"},0.29399999999999998,0.124,2.7120000000000002,2.8359999999999999,0.14000000000000001,1.524,0,-8.7829999999999995,51.209000000000003,3.0739999999999998,292.43299999999999]
[{"$f":"Clavet!A101","v":"  2019/03/04 23:00:00"},0.21099999999999999,9.2999999999999999E-2,2.8650000000000002,2.96,0.186,1.581,0,-8.6609999999999996,50.914000000000001,3.1989999999999998,289.13099999999997]
[{"$f":"Clavet!A102","v":"  2019/03/05 00:00:00"},0.20899999999999999,5.8000000000000003E-2,2.8439999999999999,2.9049999999999998,0.13400000000000001,1.4470000000000001,0,-8.6170000000000009,51.716999999999999,4.0629999999999997,282.34500000000003]
[{"$f":"Clavet!A103","v":"  2019/03/05 01:00:00"},0.20499999999999999,8.5999999999999993E-2,2.891,2.9769999999999999,0.114,1.5980000000000001,0,-9.3480000000000008,53.149000000000001,4.1589999999999998,283.40600000000001]
[{"$f":"Clavet!A104","v":"  2019/03/05 02:00:00"},0.17499999999999999,0.155,2.6920000000000002,2.8490000000000002,0.111,1.52,0,-10.616,52.531999999999996,4.625,281.86200000000002]
[{"$f":"Clavet!A105","v":"  2019/03/05 03:00:00"},0.155,9.8000000000000004E-2,2.593,2.6930000000000001,6.2E-2,1.663,0,-11.211,50.045999999999999,4.3760000000000003,281.78100000000001]
[{"$f":"Clavet!A106","v":"  2019/03/05 04:00:00"},0.13100000000000001,9.9000000000000005E-2,2.7450000000000001,2.8439999999999999,1.2E-2,1.974,0,-12.111000000000001,50.600999999999999,4.1719999999999997,286.42200000000003]
[{"$f":"Clavet!A107","v":"  2019/03/05 05:00:00"},0.22500000000000001,0.13200000000000001,2.7010000000000001,2.8330000000000002,6.6000000000000003E-2,2.0630000000000002,0,-12.753,52.215000000000003,3.8540000000000001,283.661]
[{"$f":"Clavet!A108","v":"  2019/03/05 06:00:00"},0.29699999999999999,0.13,3.4140000000000001,3.5449999999999999,3.2000000000000001E-2,2.734,0,-14.760999999999999,55.811999999999998,4.1159999999999997,265.83300000000003]
[{"$f":"Clavet!A109","v":"  2019/03/05 07:00:00"},0.39600000000000002,0.10100000000000001,3.4470000000000001,3.5470000000000002,4.2999999999999997E-2,3.38,0,-15.763,56.99,3.5289999999999999,269.91199999999998]
[{"$f":"Clavet!A110","v":"  2019/03/05 08:00:00"},0.24399999999999999,0.44400000000000001,3.6930000000000001,4.1349999999999998,8.5000000000000006E-2,3.3839999999999999,0,-15.821,55.94,2.9860000000000002,282.75799999999998]
[{"$f":"Clavet!A111","v":"  2019/03/05 09:00:00"},0.25800000000000001,1.2569999999999999,3.1739999999999999,4.4290000000000003,7.1999999999999995E-2,2.1419999999999999,0,-15.09,54.475999999999999,3.323,297.64600000000002]
[{"$f":"Clavet!A112","v":"  2019/03/05 10:00:00"},0.107,1.504,2.504,4.0060000000000002,0.125,1.784,0,-13.916,53.250999999999998,3.7829999999999999,302.26900000000001]
[{"$f":"Clavet!A113","v":"  2019/03/05 11:00:00"},7.1999999999999995E-2,1.2949999999999999,1.879,3.1709999999999998,5.5E-2,1.5469999999999999,0,-12.634,53.488999999999997,4.3849999999999998,302.58699999999999]
[{"$f":"Clavet!A114","v":"  2019/03/05 12:00:00"},-1E-3,1.7190000000000001,1.94,3.6560000000000001,4.1000000000000002E-2,1.538,0,-12.236000000000001,54.600999999999999,4.4530000000000003,309.30099999999999]
[{"$f":"Clavet!A115","v":"  2019/03/05 13:00:00"},0.19600000000000001,1.647,1.966,3.6110000000000002,-2.3E-2,1.502,0,-11.06,53.387999999999998,3.9079999999999999,303.06799999999998]
[{"$f":"Clavet!A116","v":"  2019/03/05 14:00:00"},-3.0000000000000001E-3,1.262,1.75,3.01,-0.04,1.333,0,-10.207000000000001,53.904000000000003,3.96,310.27300000000002]
[{"$f":"Clavet!A117","v":"  2019/03/05 15:00:00"},0.16400000000000001,1.3360000000000001,2.0329999999999999,3.3660000000000001,-0.113,1.286,0,-9.6980000000000004,52.783000000000001,3.98,330.01799999999997]
[{"$f":"Clavet!A118","v":"  2019/03/05 16:00:00"},1.034,1.4890000000000001,2.3290000000000002,3.8140000000000001,2.7E-2,1.9279999999999999,0,-9.8780000000000001,52.749000000000002,4.0830000000000002,344.28199999999998]
[{"$f":"Clavet!A119","v":"  2019/03/05 17:00:00"},1.073,1.0329999999999999,2.7879999999999998,3.8170000000000002,4.0000000000000001E-3,2.403,0,-10.439,54.156999999999996,2.9580000000000002,341.28800000000001]
[{"$f":"Clavet!A120","v":"  2019/03/05 18:00:00"},"        Z","        Z","        Z","        Z","        Z",2.44,0,-12.071999999999999,56.576000000000001,1.9079999999999999,331.77600000000001]
[{"$f":"Clavet!A121","v":"  2019/03/05 19:00:00"},0.14399999999999999,0.128,3.2559999999999998,3.3809999999999998,0.111,5.1029999999999998,0,-14.01,58.496000000000002,0.76900000000000002,302.31799999999998]
[{"$f":"Clavet!A122","v":"  2019/03/05 20:00:00"},-6.0000000000000001E-3,-3.3000000000000002E-2,3.2090000000000001,3.173,-7.0000000000000001E-3,7.6550000000000002,0,-16.72,60.701000000000001,0.40699999999999997,303.892]
[{"$f":"Clavet!A123","v":"  2019/03/05 21:00:00"},2.9000000000000001E-2,2.1000000000000001E-2,4.4370000000000003,4.4530000000000003,-4.0000000000000001E-3,8.7100000000000009,0,-17.794,61.795999999999999,0.17499999999999999,272.10500000000002]
[{"$f":"Clavet!A124","v":"  2019/03/05 22:00:00"},0.217,6.0999999999999999E-2,5.7519999999999998,5.8090000000000002,3.9E-2,9.5239999999999991,0,-18.292000000000002,66.674000000000007,0.78600000000000003,345.31700000000001]
[{"$f":"Clavet!A125","v":"  2019/03/05 23:00:00"},0.19600000000000001,7.1999999999999995E-2,5.5330000000000004,5.6020000000000003,0.08,5.391,0,-18.077999999999999,67.727000000000004,1.347,333.14600000000002]
[{"$f":"Clavet!A126","v":"  2019/03/06 00:00:00"},-0.02,-5.0000000000000001E-3,3.7879999999999998,3.7789999999999999,7.1999999999999995E-2,5.359,0,-18.638999999999999,65.489999999999995,1.262,335.42899999999997]
[{"$f":"Clavet!A127","v":"  2019/03/06 01:00:00"},-5.8999999999999997E-2,-6.6000000000000003E-2,2.56,2.4910000000000001,-8.2000000000000003E-2,8.9499999999999993,0,-19.404,66.367999999999995,1.097,330.964]
[{"$f":"Clavet!A128","v":"  2019/03/06 02:00:00"},-0.14699999999999999,-1E-3,2.9220000000000002,2.919,-4.9000000000000002E-2,6.8140000000000001,0,-20.640999999999998,69.409000000000006,1.5529999999999999,331.54599999999999]
[{"$f":"Clavet!A129","v":"  2019/03/06 03:00:00"},-0.108,0.124,3.6970000000000001,3.8170000000000002,-0.08,4.2919999999999998,0,-21.501000000000001,71.325000000000003,1.2290000000000001,326.31799999999998]
[{"$f":"Clavet!A130","v":"  2019/03/06 04:00:00"},-0.16700000000000001,-4.5999999999999999E-2,2.9329999999999998,2.8839999999999999,-0.12,2.5129999999999999,0,-22.044,71.575000000000003,0.49099999999999999,355.36599999999999]
[{"$f":"Clavet!A131","v":"  2019/03/06 05:00:00"},-0.111,-7.0000000000000007E-2,1.1279999999999999,1.0549999999999999,-7.5999999999999998E-2,-0.41199999999999998,0,-18.213000000000001,73.887,1.5980000000000001,62.215000000000003]
[{"$f":"Clavet!A132","v":"  2019/03/06 06:00:00"},-9.4E-2,1.6E-2,2.0499999999999998,2.0630000000000002,2.3E-2,-0.28999999999999998,0,-17.667000000000002,71.164000000000001,0.56100000000000005,118.09399999999999]
[{"$f":"Clavet!A133","v":"  2019/03/06 07:00:00"},-0.02,-4.0000000000000001E-3,1.74,1.732,-0.127,0.157,0,-17.562999999999999,71.372,0.96,122.05200000000001]
[{"$f":"Clavet!A134","v":"  2019/03/06 08:00:00"},-2E-3,0.221,1.917,2.1339999999999999,5.0000000000000001E-3,1.484,0,-17.175999999999998,72.126999999999995,1.5680000000000001,138.673]
[{"$f":"Clavet!A135","v":"  2019/03/06 09:00:00"},0.53600000000000003,0.38200000000000001,1.649,2.0299999999999998,-3.4000000000000002E-2,1.1180000000000001,0,-16.774000000000001,71.045000000000002,2.0369999999999999,154.59800000000001]
[{"$f":"Clavet!A136","v":"  2019/03/06 10:00:00"},0.17499999999999999,0.24,0.79200000000000004,1.03,-9.6000000000000002E-2,1.2390000000000001,0,-16.555,69.998999999999995,2.6720000000000002,158.898]
[{"$f":"Clavet!A137","v":"  2019/03/06 11:00:00"},-1.4999999999999999E-2,0.17599999999999999,0.41799999999999998,0.59199999999999997,-0.113,0.96099999999999997,0,-15.967000000000001,67.977999999999994,3.3279999999999998,147.26300000000001]
[{"$f":"Clavet!A138","v":"  2019/03/06 12:00:00"},3.3000000000000002E-2,0.20200000000000001,0.63400000000000001,0.83499999999999996,-4.2000000000000003E-2,0.84599999999999997,0,-15.476000000000001,67.313999999999993,2.9380000000000002,145.072]
[{"$f":"Clavet!A139","v":"  2019/03/06 13:00:00"},-7.2999999999999995E-2,0.184,0.59,0.77100000000000002,-7.9000000000000001E-2,0.98,0,-14.98,65.528000000000006,2.74,137.864]
[{"$f":"Clavet!A140","v":"  2019/03/06 14:00:00"},-5.5E-2,0.16300000000000001,0.67700000000000005,0.83799999999999997,-6.8000000000000005E-2,1.298,0,-14.144,62.238,2.7749999999999999,153.59299999999999]
[{"$f":"Clavet!A141","v":"  2019/03/06 15:00:00"},-2.5999999999999999E-2,0.17,0.63200000000000001,0.79900000000000004,-4.3999999999999997E-2,1.5089999999999999,0,-13.67,59.22,2.4540000000000002,146.43799999999999]
[{"$f":"Clavet!A142","v":"  2019/03/06 16:00:00"},4.0000000000000001E-3,0.13900000000000001,0.65,0.78700000000000003,-4.7E-2,1.405,0,-13.837999999999999,59.223999999999997,3.0819999999999999,140.26599999999999]
[{"$f":"Clavet!A143","v":"  2019/03/06 17:00:00"},"        Z","        Z","        Z","        Z","        Z",1.9690000000000001,0,-14.221,59.308999999999997,2.492,145.78]
[{"$f":"Clavet!A144","v":"  2019/03/06 18:00:00"},1.4E-2,6.4000000000000001E-2,1.0880000000000001,1.1499999999999999,0.252,4.492,0,-16.417000000000002,62.991999999999997,1.734,185.363]
[{"$f":"Clavet!A145","v":"  2019/03/06 19:00:00"},-2.9000000000000001E-2,4.9000000000000002E-2,1.8160000000000001,1.863,-0.14399999999999999,4.7720000000000002,0,-18.873000000000001,66.766999999999996,0.88600000000000001,175.898]
[{"$f":"Clavet!A146","v":"  2019/03/06 20:00:00"},3.1E-2,0.11,4.7729999999999997,4.8819999999999997,-0.1,4.7610000000000001,0,-20.143000000000001,70.224000000000004,1.385,161.34200000000001]
[{"$f":"Clavet!A147","v":"  2019/03/06 21:00:00"},-6.0000000000000001E-3,2.8000000000000001E-2,3.0129999999999999,3.0390000000000001,-1E-3,2.3250000000000002,0,-19.515000000000001,72.317999999999998,2.2610000000000001,154.57]
[{"$f":"Clavet!A148","v":"  2019/03/06 22:00:00"},-7.0000000000000007E-2,7.0000000000000001E-3,2.1110000000000002,2.1160000000000001,8.0000000000000002E-3,2.5870000000000002,0,-20.366,73.331999999999994,1.823,149.988]
[{"$f":"Clavet!A149","v":"  2019/03/06 23:00:00"},-1.4999999999999999E-2,0.11,2.883,2.9910000000000001,-3.3000000000000002E-2,2.855,0,-21.949000000000002,73.188000000000002,1.298,146.441]
[{"$f":"Clavet!A150","v":"  2019/03/07 00:00:00"},8.5000000000000006E-2,0.04,4.2050000000000001,4.242,-4.3999999999999997E-2,2.915,0,-22.741,72.938000000000002,0.86199999999999999,144.95699999999999]
[{"$f":"Clavet!A151","v":"  2019/03/07 01:00:00"},0.51600000000000001,3.2000000000000001E-2,4.4340000000000002,4.4649999999999999,2.5000000000000001E-2,3.4140000000000001,0,-23.806000000000001,71.504000000000005,0.65200000000000002,165.68799999999999]
[{"$f":"Clavet!A152","v":"  2019/03/07 02:00:00"},0.99199999999999999,-0.06,5.556,5.4939999999999998,7.1999999999999995E-2,4.78,0,-24.501999999999999,71.423000000000002,1.0629999999999999,147.779]
[{"$f":"Clavet!A153","v":"  2019/03/07 03:00:00"},1.077,-0.02,3.4950000000000001,3.4740000000000002,0.13200000000000001,5.6150000000000002,0,-24.138999999999999,73.302000000000007,2.4630000000000001,126.684]
[{"$f":"Clavet!A154","v":"  2019/03/07 04:00:00"},0.42099999999999999,0.122,2.78,2.9,6.3E-2,6.2380000000000004,0,-24.248999999999999,72.671000000000006,2.1579999999999999,131.11600000000001]
[{"$f":"Clavet!A155","v":"  2019/03/07 05:00:00"},0.73899999999999999,0.16600000000000001,3.6760000000000002,3.84,0.13800000000000001,5.8810000000000002,0,-24.795000000000002,71.790999999999997,1.627,138.48400000000001]
[{"$f":"Clavet!A156","v":"  2019/03/07 06:00:00"},0.60299999999999998,5.5E-2,2.6459999999999999,2.698,6.6000000000000003E-2,5.6840000000000002,0,-24.233000000000001,72.069000000000003,2.1669999999999998,130.13800000000001]
[{"$f":"Clavet!A157","v":"  2019/03/07 07:00:00"},0.55900000000000005,0.09,2.7440000000000002,2.8330000000000002,3.1E-2,6.0439999999999996,0,-23.667999999999999,71.861000000000004,1.9990000000000001,138.78200000000001]
[{"$f":"Clavet!A158","v":"  2019/03/07 08:00:00"},0.64300000000000002,0.434,2.5409999999999999,2.9710000000000001,4.3999999999999997E-2,5.5110000000000001,0,-22.751999999999999,72.450999999999993,2.4990000000000001,122.95099999999999]
[{"$f":"Clavet!A159","v":"  2019/03/07 09:00:00"},1.45,0.61699999999999999,1.8759999999999999,2.492,0.112,2.9169999999999998,0,-21.097000000000001,71.802999999999997,3.048,127.78100000000001]
[{"$f":"Clavet!A160","v":"  2019/03/07 10:00:00"},3.8130000000000002,1.1379999999999999,1.831,2.9670000000000001,0.14199999999999999,2.6539999999999999,0,-19.681000000000001,70.626000000000005,2.4009999999999998,120.735]
[{"$f":"Clavet!A161","v":"  2019/03/07 11:00:00"},3.4129999999999998,1.194,1.651,2.8439999999999999,0.13,2.9239999999999999,0,-18.465,69.358999999999995,2.879,100.51900000000001]
[{"$f":"Clavet!A162","v":"  2019/03/07 12:00:00"},1.4239999999999999,1.155,1.8260000000000001,2.98,0.17,2.7389999999999999,0,-16.843,63.75,2.7970000000000002,100.977]
[{"$f":"Clavet!A163","v":"  2019/03/07 13:00:00"},1.4139999999999999,1.0309999999999999,1.722,2.7519999999999998,0.13700000000000001,2.6150000000000002,0,-15.198,58.859000000000002,2.3690000000000002,101.889]
[{"$f":"Clavet!A164","v":"  2019/03/07 14:00:00"},2.4220000000000002,1.04,1.786,2.8250000000000002,4.5999999999999999E-2,2.4550000000000001,0,-13.784000000000001,56.295000000000002,2.5750000000000002,132.97499999999999]
[{"$f":"Clavet!A165","v":"  2019/03/07 15:00:00"},2.669,1.075,1.94,3.0129999999999999,0.161,2.4319999999999999,0,-12.997,57.012999999999998,2.71,100.37]
[{"$f":"Clavet!A166","v":"  2019/03/07 16:00:00"},"        Z","        Z","        Z","        Z","        Z",2.722,0,-13.253,59.463999999999999,3.113,101.711]
[{"$f":"Clavet!A167","v":"  2019/03/07 17:00:00"},1.7310000000000001,0.79700000000000004,2.952,3.7480000000000002,0.45800000000000002,3.177,0,-13.002000000000001,59.436,2.2719999999999998,117.932]
[{"$f":"Clavet!A168","v":"  2019/03/07 18:00:00"},2.528,0.40300000000000002,4.0810000000000004,4.4820000000000002,0.13500000000000001,4.2469999999999999,0,-13.103999999999999,62.167000000000002,2.2810000000000001,145.54900000000001]
[{"$f":"Clavet!A169","v":"  2019/03/07 19:00:00"},1.6619999999999999,6.4000000000000001E-2,4.8899999999999997,4.9530000000000003,0.17299999999999999,6.5570000000000004,0,-13.663,65.828999999999994,2.0409999999999999,121.182]
[{"$f":"Clavet!A170","v":"  2019/03/07 20:00:00"},2.516,-5.8000000000000003E-2,5.4240000000000004,5.3650000000000002,3.2000000000000001E-2,7.9180000000000001,0,-13.83,67.641999999999996,2.2839999999999998,120.789]
[{"$f":"Clavet!A171","v":"  2019/03/07 21:00:00"},7.0229999999999997,1.7000000000000001E-2,6.1749999999999998,6.19,0.184,8.6920000000000002,0,-13.532,68.061000000000007,1.6950000000000001,128.22999999999999]
[{"$f":"Clavet!A172","v":"  2019/03/07 22:00:00"},6.0140000000000002,-0.104,5.2380000000000004,5.133,0.16400000000000001,8.2129999999999992,0,-13.643000000000001,69.045000000000002,1.9450000000000001,102.926]
[{"$f":"Clavet!A173","v":"  2019/03/07 23:00:00"},2.379,2.1000000000000001E-2,5.1360000000000001,5.1559999999999997,8.4000000000000005E-2,7.71,0,-14.048999999999999,69.599999999999994,1.536,110.208]
[{"$f":"Clavet!A174","v":"  2019/03/08 00:00:00"},1.722,5.8000000000000003E-2,6.907,6.9640000000000004,0.13200000000000001,10.483000000000001,0,-14.97,70.081000000000003,0.67,113.24]
[{"$f":"Clavet!A175","v":"  2019/03/08 01:00:00"},1.2549999999999999,-0.04,6.34,6.298,0.14000000000000001,10.721,0,-14.837,72.105000000000004,1.1140000000000001,114.95]
[{"$f":"Clavet!A176","v":"  2019/03/08 02:00:00"},1.7709999999999999,0.61099999999999999,5.1159999999999997,5.726,0.14399999999999999,11.791,0,-14.083,71.715000000000003,1.1850000000000001,142.876]
[{"$f":"Clavet!A177","v":"  2019/03/08 03:00:00"},1.81,4.2000000000000003E-2,5.3150000000000004,5.3570000000000002,7.2999999999999995E-2,12.054,0,-14.058,71.912999999999997,1.403,109.297]
[{"$f":"Clavet!A178","v":"  2019/03/08 04:00:00"},2.4620000000000002,2.4E-2,5.46,5.484,7.1999999999999995E-2,11.840999999999999,0,-13.683999999999999,70.497,0.41299999999999998,121.861]
[{"$f":"Clavet!A179","v":"  2019/03/08 05:00:00"},1.913,-4.8000000000000001E-2,5.0860000000000003,5.0369999999999999,9.6000000000000002E-2,11.464,0,-13.609,70.257000000000005,0.76900000000000002,335.97399999999999]
[{"$f":"Clavet!A180","v":"  2019/03/08 06:00:00"},1.88,-5.2999999999999999E-2,5.532,5.4790000000000001,0.113,10.664999999999999,0,-13.853,72.679000000000002,1.163,331.19200000000001]
[{"$f":"Clavet!A181","v":"  2019/03/08 07:00:00"},1.643,5.2999999999999999E-2,7.0170000000000003,7.069,0.16400000000000001,9.5670000000000002,0,-14.099,74.122,1.4410000000000001,337.05599999999998]
[{"$f":"Clavet!A182","v":"  2019/03/08 08:00:00"},1.524,0.51100000000000001,7.7359999999999998,8.2460000000000004,0.23400000000000001,10.351000000000001,0,-13.788,73.102000000000004,1.157,336.774]
[{"$f":"Clavet!A183","v":"  2019/03/08 09:00:00"},2.0110000000000001,1.5209999999999999,7.069,8.59,0.14199999999999999,8.5510000000000002,0,-13.31,71.799000000000007,1.2669999999999999,318.452]
[{"$f":"Clavet!A184","v":"  2019/03/08 10:00:00"},2.4319999999999999,1.9950000000000001,5.6660000000000004,7.6609999999999996,8.3000000000000004E-2,7.2030000000000003,0,-12.927,70.037999999999997,1.327,306.64100000000002]
[{"$f":"Clavet!A185","v":"  2019/03/08 11:00:00"},3.61,3.6,6.2960000000000003,9.8949999999999996,4.5999999999999999E-2,6.226,0,-12.196999999999999,68.427000000000007,1.67,263.92599999999999]
[{"$f":"Clavet!A186","v":"  2019/03/08 12:00:00"},4.05,3.1509999999999998,5.0869999999999997,8.2379999999999995,8.6999999999999994E-2,4.0339999999999998,0,-11.691000000000001,67.09,2.5150000000000001,268.49]
[{"$f":"Clavet!A187","v":"  2019/03/08 13:00:00"},3.7559999999999998,3.9790000000000001,5.569,9.5470000000000006,-5.8000000000000003E-2,4.0759999999999996,0,-11.448,65.864999999999995,2.8719999999999999,261.173]
[{"$f":"Clavet!A188","v":"  2019/03/08 14:00:00"},3.0840000000000001,4.2969999999999997,6.3250000000000002,10.622999999999999,7.9000000000000001E-2,4.4359999999999999,0,-11.239000000000001,65.747,2.8239999999999998,261.76100000000002]
[{"$f":"Clavet!A189","v":"  2019/03/08 15:00:00"},"        Z","        Z","        Z","        Z","        Z",3.7440000000000002,0,-11.302,67.703000000000003,2.601,261.23500000000001]
[{"$f":"Clavet!A190","v":"  2019/03/08 16:00:00"},1.597,1.179,3.976,5.1559999999999997,0.30499999999999999,4.0789999999999997,0,-11.32,67.144000000000005,2.3860000000000001,257.81400000000002]
[{"$f":"Clavet!A191","v":"  2019/03/08 17:00:00"},1.56,0.86099999999999999,4.4459999999999997,5.3070000000000004,-2.4E-2,4.4580000000000002,0,-11.323,69.646000000000001,2.0470000000000002,256.12799999999999]
[{"$f":"Clavet!A192","v":"  2019/03/08 18:00:00"},0.86899999999999999,0.27500000000000002,4.819,5.093,-0.113,5.5810000000000004,0,-11.052,72.13,1.4590000000000001,256.88600000000002]
[{"$f":"Clavet!A193","v":"  2019/03/08 19:00:00"},0.47799999999999998,-8.5000000000000006E-2,5.202,5.117,-6.6000000000000003E-2,6.6,0,-10.635999999999999,72.713999999999999,1.0449999999999999,261.77999999999997]
[{"$f":"Clavet!A194","v":"  2019/03/08 20:00:00"},0.39900000000000002,-0.11,4.5679999999999996,4.46,-0.126,5.6340000000000003,0,-9.7100000000000009,74.034000000000006,1.9330000000000001,282.49099999999999]
[{"$f":"Clavet!A195","v":"  2019/03/08 21:00:00"},0.47499999999999998,4.0000000000000001E-3,3.8660000000000001,3.87,-8.1000000000000003E-2,3.073,0,-8.8889999999999993,70.787999999999997,3.206,317.78399999999999]
[{"$f":"Clavet!A196","v":"  2019/03/08 22:00:00"},0.437,2.5000000000000001E-2,3.2839999999999998,3.31,-8.7999999999999995E-2,2.4769999999999999,0,-8.7219999999999995,73.224000000000004,1.8819999999999999,324.84199999999998]
[{"$f":"Clavet!A197","v":"  2019/03/08 23:00:00"},0.26100000000000001,-4.9000000000000002E-2,3.6320000000000001,3.5840000000000001,-0.104,1.5760000000000001,0,-7.8490000000000002,72.408000000000001,2.258,293.01]
[{"$f":"Clavet!A198","v":"  2019/03/09 00:00:00"},0.39100000000000001,-2.7E-2,3.919,3.8929999999999998,-9.2999999999999999E-2,1.49,0,-8.0739999999999998,73.451999999999998,3.12,275.83699999999999]
[{"$f":"Clavet!A199","v":"  2019/03/09 01:00:00"},0.23499999999999999,5.3999999999999999E-2,3.2890000000000001,3.343,-5.6000000000000001E-2,1.9550000000000001,0,-7.8520000000000003,72.882000000000005,3.4140000000000001,291.60300000000001]
[{"$f":"Clavet!A200","v":"  2019/03/09 02:00:00"},0.16500000000000001,-0.105,3.5659999999999998,3.4630000000000001,-1.7000000000000001E-2,2.6230000000000002,0,-8.7210000000000001,71.06,2.5489999999999999,286.81299999999999]
[{"$f":"Clavet!A201","v":"  2019/03/09 03:00:00"},6.5000000000000002E-2,3.0000000000000001E-3,3.5680000000000001,3.573,-0.10100000000000001,4.1269999999999998,0,-10.153,70.540999999999997,1.889,305.726]
[{"$f":"Clavet!A202","v":"  2019/03/09 04:00:00"},-8.6999999999999994E-2,-4.1000000000000002E-2,3.5529999999999999,3.5129999999999999,-0.17499999999999999,5.0030000000000001,0,-11.461,72.356999999999999,2.0259999999999998,310.12200000000001]
[{"$f":"Clavet!A203","v":"  2019/03/09 05:00:00"},-0.02,-1.7999999999999999E-2,3.6360000000000001,3.6190000000000002,-0.16200000000000001,4.9189999999999996,0,-12.273999999999999,71.712999999999994,1.6359999999999999,306.68400000000003]
[{"$f":"Clavet!A204","v":"  2019/03/09 06:00:00"},2.8000000000000001E-2,4.5999999999999999E-2,3.827,3.8740000000000001,-0.159,5.3170000000000002,0,-13.442,73.284000000000006,2.0089999999999999,316.262]
[{"$f":"Clavet!A205","v":"  2019/03/09 07:00:00"},2.4E-2,7.9000000000000001E-2,4.6870000000000003,4.7679999999999998,-8.2000000000000003E-2,5.7389999999999999,0,-13.326000000000001,74.247,2.2709999999999999,319.71300000000002]
[{"$f":"Clavet!A206","v":"  2019/03/09 08:00:00"},3.2000000000000001E-2,0.56100000000000005,4.9889999999999999,5.5510000000000002,-9.2999999999999999E-2,5.0949999999999998,0,-13.596,72.962999999999994,2.0910000000000002,307.67200000000003]
[{"$f":"Clavet!A207","v":"  2019/03/09 09:00:00"},0.26700000000000002,1.5649999999999999,5.2729999999999997,6.84,1.7999999999999999E-2,4.1440000000000001,0,-12.868,70.215000000000003,1.47,320.61900000000003]
[{"$f":"Clavet!A208","v":"  2019/03/09 10:00:00"},0.51500000000000001,2.0430000000000001,3.8519999999999999,5.8970000000000002,-0.16700000000000001,2.3319999999999999,0,-11.231999999999999,64.257000000000005,2.2170000000000001,332.34199999999998]
[{"$f":"Clavet!A209","v":"  2019/03/09 11:00:00"},0.65400000000000003,1.421,2.653,4.0750000000000002,-0.113,1.25,0,-9.0609999999999999,57.747,2.661,322.29899999999998]
[{"$f":"Clavet!A210","v":"  2019/03/09 12:00:00"},0.434,1.018,2.2010000000000001,3.2210000000000001,-5.7000000000000002E-2,1.127,0,-8.0449999999999999,56.203000000000003,2.6360000000000001,316.71199999999999]
[{"$f":"Clavet!A211","v":"  2019/03/09 13:00:00"},0.122,0.61499999999999999,1.806,2.423,-8.4000000000000005E-2,1.331,0,-7.3010000000000002,54.807000000000002,2.7909999999999999,308.07]
[{"$f":"Clavet!A212","v":"  2019/03/09 14:00:00"},"        Z","        Z","        Z","        Z","        Z",1.2270000000000001,0,-6.4790000000000001,53.213999999999999,2.2909999999999999,306.834]
[{"$f":"Clavet!A213","v":"  2019/03/09 15:00:00"},3.9E-2,0.82199999999999995,2.2450000000000001,3.0670000000000002,0.26400000000000001,1.2629999999999999,0,-6.1219999999999999,53.430999999999997,2.1160000000000001,291.774]
[{"$f":"Clavet!A214","v":"  2019/03/09 16:00:00"},0.14399999999999999,0.67,2.5089999999999999,3.1789999999999998,0.03,1.3280000000000001,0,-6.4089999999999998,55.08,2.048,269.65499999999997]
[{"$f":"Clavet!A215","v":"  2019/03/09 17:00:00"},0.06,0.77900000000000003,3.153,3.9350000000000001,-1.2999999999999999E-2,2.17,0,-7.2140000000000004,56.59,2.1349999999999998,265.94400000000002]
[{"$f":"Clavet!A216","v":"  2019/03/09 18:00:00"},8.1000000000000003E-2,0.27600000000000002,3.35,3.629,-0.158,4.4859999999999998,0,-8.4550000000000001,56.395000000000003,1.1539999999999999,281.28399999999999]
[{"$f":"Clavet!A217","v":"  2019/03/09 19:00:00"},4.0000000000000001E-3,0.14199999999999999,4.78,4.9219999999999997,-8.7999999999999995E-2,8.2650000000000006,0,-13.222,63.381999999999998,0.43099999999999999,294.49799999999999]
[{"$f":"Clavet!A218","v":"  2019/03/09 20:00:00"},-0.20599999999999999,0.13,5.1959999999999997,5.3259999999999996,-5.8999999999999997E-2,10.433999999999999,0,-15.673999999999999,67.512,0.63100000000000001,290.66899999999998]
[{"$f":"Clavet!A219","v":"  2019/03/09 21:00:00"},-0.221,0.12,5.4269999999999996,5.5469999999999997,1.4E-2,10.37,0,-16.081,68.403000000000006,0.497,290.33800000000002]
[{"$f":"Clavet!A220","v":"  2019/03/09 22:00:00"},-0.27500000000000002,0.11600000000000001,6.2069999999999999,6.3239999999999998,-4.3999999999999997E-2,9.1959999999999997,0,-19.155999999999999,67.722999999999999,0.44500000000000001,280.577]
[{"$f":"Clavet!A221","v":"  2019/03/09 23:00:00"},-0.33800000000000002,0.20599999999999999,7.548,7.7549999999999999,7.9000000000000001E-2,8.1829999999999998,0,-20.071999999999999,63.554000000000002,0.14199999999999999,258.93700000000001]
[{"$f":"Clavet!A222","v":"  2019/03/10 00:00:00"},-0.46300000000000002,0.128,8.3689999999999998,8.4990000000000006,6.6000000000000003E-2,5.8490000000000002,0,-22.023,61.87,0.125,254.048]
[{"$f":"Clavet!A223","v":"  2019/03/10 01:00:00"},-0.499,0.114,8.4600000000000009,8.5749999999999993,0.121,5.0960000000000001,0,-22.222000000000001,60.170999999999999,0.504,295.346]
[{"$f":"Clavet!A224","v":"  2019/03/10 02:00:00"},-0.39300000000000002,0.215,9.8309999999999995,10.045999999999999,0.14699999999999999,4.72,0,-22.63,58.061999999999998,9.4E-2,255.24100000000001]
[{"$f":"Clavet!A225","v":"  2019/03/10 03:00:00"},-0.39900000000000002,0.126,10.755000000000001,10.882,0.12,4.9859999999999998,0,-24.645,60.441000000000003,0.17499999999999999,133.73500000000001]
[{"$f":"Clavet!A226","v":"  2019/03/10 04:00:00"},-0.40400000000000003,0.19600000000000001,11.252000000000001,11.446999999999999,0.183,4.8949999999999996,0,-24.12,55.401000000000003,0.14899999999999999,307.09699999999998]
[{"$f":"Clavet!A227","v":"  2019/03/10 05:00:00"},-0.48699999999999999,0.17799999999999999,10.736000000000001,10.912000000000001,0.23599999999999999,5.1870000000000003,0,-25.013999999999999,57.372999999999998,0.24,262.44]
[{"$f":"Clavet!A228","v":"  2019/03/10 06:00:00"},-0.49099999999999999,0.252,11.313000000000001,11.563000000000001,0.21199999999999999,12.029,0,-25.248000000000001,63.460999999999999,0.25600000000000001,158.23699999999999]
[{"$f":"Clavet!A229","v":"  2019/03/10 07:00:00"},-0.66200000000000003,0.41699999999999998,14.002000000000001,14.42,0.253,29.84,0,-25.103000000000002,69.399000000000001,5.7000000000000002E-2,346.22899999999998]
[{"$f":"Clavet!A230","v":"  2019/03/10 08:00:00"},-0.499,3.4289999999999998,11.989000000000001,15.419,0.33200000000000002,20.588999999999999,0,-24.9,70.492999999999995,6.0999999999999999E-2,250.32300000000001]
[{"$f":"Clavet!A231","v":"  2019/03/10 09:00:00"},-0.42399999999999999,9.3079999999999998,11.616,20.922999999999998,0.34300000000000003,8.4870000000000001,0,-22.798999999999999,72.135000000000005,0.41099999999999998,134.16200000000001]
[{"$f":"Clavet!A232","v":"  2019/03/10 10:00:00"},-0.32300000000000001,14.72,11.478,26.196999999999999,0.73599999999999999,2.4630000000000001,0,-20.591000000000001,72.233999999999995,0.92800000000000005,86.096000000000004]
[{"$f":"Clavet!A233","v":"  2019/03/10 11:00:00"},-8.1000000000000003E-2,14.164999999999999,10.798999999999999,24.963000000000001,1.0680000000000001,1.3740000000000001,0,-16.975999999999999,71.742000000000004,1.4770000000000001,89.941999999999993]
[{"$f":"Clavet!A234","v":"  2019/03/10 12:00:00"},0.13300000000000001,9.9049999999999994,8.3390000000000004,18.242000000000001,0.59499999999999997,1.2909999999999999,0,-14.004,64.34,1.982,94.998999999999995]
[{"$f":"Clavet!A235","v":"  2019/03/10 13:00:00"},"        Z","        Z","        Z","        Z","        Z",1.306,0,-11.295,59.677,2.08,93.725999999999999]
[{"$f":"Clavet!A236","v":"  2019/03/10 14:00:00"},3.8940000000000001,2.8879999999999999,4.492,7.3780000000000001,0.48399999999999999,1.5269999999999999,0,-9.4489999999999998,57.404000000000003,2.1150000000000002,102.889]
[{"$f":"Clavet!A237","v":"  2019/03/10 15:00:00"},0.86299999999999999,0.80600000000000005,3.1760000000000002,3.98,0.121,1.8460000000000001,0,-6.9640000000000004,53.113,2.3170000000000002,136.88900000000001]
[{"$f":"Clavet!A238","v":"  2019/03/10 16:00:00"},3.8210000000000002,1.4259999999999999,3.9980000000000002,5.4219999999999997,0.14499999999999999,1.5609999999999999,0,-7.532,56.218000000000004,2.4929999999999999,108.06]
[{"$f":"Clavet!A239","v":"  2019/03/10 17:00:00"},2.399,0.86799999999999999,4.0830000000000002,4.95,6.5000000000000002E-2,1.7969999999999999,0,-6.58,55.323999999999998,1.6659999999999999,146.642]
[{"$f":"Clavet!A240","v":"  2019/03/10 18:00:00"},0.94599999999999995,0.34799999999999998,4.274,4.62,-5.0000000000000001E-3,4.4580000000000002,0,-7.9630000000000001,60.192,2.456,165.87799999999999]
[{"$f":"Clavet!A241","v":"  2019/03/10 19:00:00"},0.58799999999999997,0.2,6.0309999999999997,6.23,2.5000000000000001E-2,9.0399999999999991,0,-10.786,66.941000000000003,1.4570000000000001,163.22499999999999]
[{"$f":"Clavet!A242","v":"  2019/03/10 20:00:00"},2.5000000000000001E-2,0.11,6.9169999999999998,7.0259999999999998,-7.5999999999999998E-2,12.73,0,-13.125999999999999,72.298000000000002,1.075,162.29900000000001]
[{"$f":"Clavet!A243","v":"  2019/03/10 21:00:00"},-0.13200000000000001,0.19600000000000001,8.2370000000000001,8.4320000000000004,-5.0000000000000001E-3,12.891999999999999,0,-15.337999999999999,75.406000000000006,1.204,159.459]
[{"$f":"Clavet!A244","v":"  2019/03/10 22:00:00"},-8.5999999999999993E-2,3.7999999999999999E-2,6.3630000000000004,6.4,0.127,14.749000000000001,0,-15.811999999999999,75.912000000000006,0.97299999999999998,156.54499999999999]
[{"$f":"Clavet!A245","v":"  2019/03/10 23:00:00"},2.8000000000000001E-2,8.2000000000000003E-2,6.6379999999999999,6.718,1.4999999999999999E-2,14.318,0,-15.612,75.84,1.073,148.40700000000001]
[{"$f":"Clavet!A246","v":"  2019/03/11 00:00:00"},8.5000000000000006E-2,9.9000000000000005E-2,6.6849999999999996,6.7839999999999998,0.151,13.948,0,-16.007999999999999,74.037000000000006,0.78400000000000003,153.47900000000001]
[{"$f":"Clavet!A247","v":"  2019/03/11 01:00:00"},0.17899999999999999,6.9000000000000006E-2,6.4749999999999996,6.5439999999999996,0.13400000000000001,13.138,0,-15.39,73.772000000000006,1.016,160.14699999999999]
[{"$f":"Clavet!A248","v":"  2019/03/11 02:00:00"},0.51800000000000002,0.104,5.98,6.085,5.0999999999999997E-2,14.667,0,-15.128,73.793000000000006,1.256,154.851]
[{"$f":"Clavet!A249","v":"  2019/03/11 03:00:00"},0.53900000000000003,5.8999999999999997E-2,5.9089999999999998,5.968,1.6E-2,19.440000000000001,0,-14.044,74.135000000000005,1.351,143.15799999999999]
[{"$f":"Clavet!A250","v":"  2019/03/11 04:00:00"},0.432,6.6000000000000003E-2,6.6749999999999998,6.7409999999999997,8.5000000000000006E-2,17.922999999999998,0,-14.462,74.349000000000004,1.2,150.833]
[{"$f":"Clavet!A251","v":"  2019/03/11 05:00:00"},0.45900000000000002,6.5000000000000002E-2,6.5060000000000002,6.5720000000000001,5.8999999999999997E-2,13.385,0,-14.161,74.097999999999999,1.101,140.54300000000001]
[{"$f":"Clavet!A252","v":"  2019/03/11 06:00:00"},1.0149999999999999,1E-3,5.5220000000000002,5.5220000000000002,3.7999999999999999E-2,11.367000000000001,0,-14.492000000000001,73.94,1.036,127.367]
[{"$f":"Clavet!A253","v":"  2019/03/11 07:00:00"},0.88,0.11899999999999999,5.9610000000000003,6.08,-9.7000000000000003E-2,11.837999999999999,0,-14.839,71.784000000000006,0.38300000000000001,151.69399999999999]
[{"$f":"Clavet!A254","v":"  2019/03/11 08:00:00"},0.87,0.52100000000000002,6.7350000000000003,7.258,3.7999999999999999E-2,11.176,0,-15.462,71.984999999999999,0.41499999999999998,145.738]
[{"$f":"Clavet!A255","v":"  2019/03/11 09:00:00"},1.2729999999999999,1.4450000000000001,6.4619999999999997,7.9080000000000004,0.104,9.9290000000000003,0,-14.042,68.644999999999996,0.60599999999999998,143.95500000000001]
[{"$f":"Clavet!A256","v":"  2019/03/11 10:00:00"},1.0900000000000001,4.3970000000000002,9.6,13.999000000000001,0.128,7.48,0,-12.226000000000001,66.977000000000004,0.93799999999999994,105.89]
[{"$f":"Clavet!A257","v":"  2019/03/11 11:00:00"},0.89500000000000002,3.2810000000000001,7.4109999999999996,10.694000000000001,0.108,5.2149999999999999,0,-8.4589999999999996,59.368000000000002,0.70099999999999996,138.803]
[{"$f":"Clavet!A258","v":"  2019/03/11 12:00:00"},"        Z","        Z","        Z","        Z","        Z",4.9050000000000002,0,-6.6749999999999998,57.615000000000002,2.1280000000000001,165.2]
[{"$f":"Clavet!A259","v":"  2019/03/11 13:00:00"},1.1279999999999999,2.4740000000000002,6.7779999999999996,9.2539999999999996,0.46500000000000002,6.62,0,-4.6619999999999999,53.930999999999997,1.5980000000000001,169.49100000000001]
[{"$f":"Clavet!A260","v":"  2019/03/11 14:00:00"},1.1950000000000001,1.8240000000000001,6.3849999999999998,8.2119999999999997,3.1E-2,5.9020000000000001,0,-3.3660000000000001,52.335999999999999,1.6020000000000001,100.40600000000001]
[{"$f":"Clavet!A261","v":"  2019/03/11 15:00:00"},4.7549999999999999,1.907,5.4550000000000001,7.3620000000000001,1.4999999999999999E-2,6.7640000000000002,0,-2.84,51.395000000000003,2.2320000000000002,123.986]
[{"$f":"Clavet!A262","v":"  2019/03/11 16:00:00"},8.2370000000000001,2.94,6.21,9.1519999999999992,0.11899999999999999,8.5709999999999997,0,-2.8570000000000002,51.573999999999998,2.516,133.351]
[{"$f":"Clavet!A263","v":"  2019/03/11 17:00:00"},1.94,0.31,5.1059999999999999,5.4180000000000001,0.08,10.050000000000001,0,-3.508,56.978000000000002,2.383,134.077]
[{"$f":"Clavet!A264","v":"  2019/03/11 18:00:00"},1.7250000000000001,0.21199999999999999,6.79,7.0019999999999998,0.06,13.353,0,-5.0780000000000003,63.542999999999999,2.1440000000000001,111.69499999999999]
[{"$f":"Clavet!A265","v":"  2019/03/11 19:00:00"},2.1779999999999999,3.6999999999999998E-2,7.1340000000000003,7.1719999999999997,8.1000000000000003E-2,14.304,0,-5.82,68.197000000000003,1.744,111.417]
[{"$f":"Clavet!A266","v":"  2019/03/11 20:00:00"},2.3149999999999999,-2.3E-2,6.0190000000000001,5.9980000000000002,0.128,11.178000000000001,0,-5.7350000000000003,70.465000000000003,1.7969999999999999,110.82899999999999]
[{"$f":"Clavet!A267","v":"  2019/03/11 21:00:00"},1.4890000000000001,-5.8999999999999997E-2,5.5250000000000004,5.468,0.16300000000000001,10.909000000000001,0,-5.8339999999999996,71.843000000000004,1.7090000000000001,120.946]
[{"$f":"Clavet!A268","v":"  2019/03/11 22:00:00"},1.8979999999999999,-5.1999999999999998E-2,6.617,6.5659999999999998,0.13800000000000001,13.494,0,-6.532,72.001999999999995,1.3480000000000001,109.43600000000001]
[{"$f":"Clavet!A269","v":"  2019/03/11 23:00:00"},5.5510000000000002,2.9000000000000001E-2,7.2469999999999999,7.2770000000000001,0.21199999999999999,13.172000000000001,0,-6.37,71.66,1.0620000000000001,135.55000000000001]
[{"$f":"Clavet!A270","v":"  2019/03/12 00:00:00"},5.0910000000000002,4.1000000000000002E-2,10.387,10.43,0.18,11.458,0,-6.1909999999999998,71.494,0.379,89.15]
[{"$f":"Clavet!A271","v":"  2019/03/12 01:00:00"},5.4539999999999997,5.8999999999999997E-2,7.3289999999999997,7.3869999999999996,0.2,11.795,0,-6.2809999999999997,70.430000000000007,0.28899999999999998,312.31700000000001]
[{"$f":"Clavet!A272","v":"  2019/03/12 02:00:00"},2.7829999999999999,0.14000000000000001,6.9509999999999996,7.0919999999999996,0.158,11.827999999999999,0,-7.1390000000000002,72.661000000000001,0.41599999999999998,323.93099999999998]
[{"$f":"Clavet!A273","v":"  2019/03/12 03:00:00"},2.19,5.7000000000000002E-2,7.7720000000000002,7.83,0.32800000000000001,13.423999999999999,0,-7.7880000000000003,74.34,1.034,330.01400000000001]
[{"$f":"Clavet!A274","v":"  2019/03/12 04:00:00"},1.8029999999999999,0.16900000000000001,7.8769999999999998,8.0449999999999999,0.35099999999999998,16.007000000000001,0,-7.8220000000000001,75.591999999999999,0.92100000000000004,318.505]
[{"$f":"Clavet!A275","v":"  2019/03/12 05:00:00"},1,0.14099999999999999,9.4309999999999992,9.5730000000000004,0.23,15.994,0,-8.1039999999999992,75.552000000000007,0.74399999999999999,309.76900000000001]
[{"$f":"Clavet!A276","v":"  2019/03/12 06:00:00"},0.875,6.8000000000000005E-2,8.7200000000000006,8.7889999999999997,0.23599999999999999,15.327999999999999,0,-6.8920000000000003,72.350999999999999,1.22,314.58600000000001]
[{"$f":"Clavet!A277","v":"  2019/03/12 07:00:00"},1.26,0.11700000000000001,7.1109999999999998,7.2290000000000001,0.23400000000000001,11.587999999999999,0,-3.883,63.82,2.5590000000000002,292.95999999999998]
[{"$f":"Clavet!A278","v":"  2019/03/12 08:00:00"},1.1679999999999999,0.83399999999999996,7.593,8.4269999999999996,0.26,9.7010000000000005,0,-4.9509999999999996,65.085999999999999,1.631,310.767]
[{"$f":"Clavet!A279","v":"  2019/03/12 09:00:00"},1.081,2.2519999999999998,8.31,10.561,0.32300000000000001,5.8890000000000002,0,-3.56,60.926000000000002,1.0820000000000001,358.57499999999999]
[{"$f":"Clavet!A280","v":"  2019/03/12 10:00:00"},1.25,2.8210000000000002,8.1530000000000005,10.974,0.26,2.6339999999999999,0,-0.92800000000000005,54.482999999999997,1.742,298.21100000000001]
[{"$f":"Clavet!A281","v":"  2019/03/12 11:00:00"},"        Z","        Z","        Z","        Z","        Z",1.651,0,0.17399999999999999,52.923000000000002,2.4780000000000002,309.40499999999997]
[{"$f":"Clavet!A282","v":"  2019/03/12 12:00:00"},1.198,1.8740000000000001,5.7629999999999999,7.6369999999999996,0.251,0.97199999999999998,0,1.667,52.91,2.6360000000000001,284.68099999999998]
[{"$f":"Clavet!A283","v":"  2019/03/12 13:00:00"},0.73199999999999998,1.33,5.3929999999999998,6.7229999999999999,0.104,0.95599999999999996,0,2.2890000000000001,55.104999999999997,1.931,261.84899999999999]
[{"$f":"Clavet!A284","v":"  2019/03/12 14:00:00"},0.64600000000000002,0.81499999999999995,4.9169999999999998,5.7309999999999999,5.1999999999999998E-2,0.47399999999999998,0,3.4889999999999999,53.920999999999999,2.7029999999999998,283.96699999999998]
[{"$f":"Clavet!A285","v":"  2019/03/12 15:00:00"},0.64300000000000002,0.47799999999999998,4.5049999999999999,4.984,1.2E-2,0.55000000000000004,0,3.149,57.401000000000003,3.26,294.04599999999999]
[{"$f":"Clavet!A286","v":"  2019/03/12 16:00:00"},0.54400000000000004,0.43099999999999999,4.2190000000000003,4.6500000000000004,6.5000000000000002E-2,0.44900000000000001,0,3.4119999999999999,58.220999999999997,3.2240000000000002,284.07100000000003]
[{"$f":"Clavet!A287","v":"  2019/03/12 17:00:00"},0.29099999999999998,0.27900000000000003,4.1989999999999998,4.4790000000000001,3.7999999999999999E-2,0.33100000000000002,0,3.3530000000000002,59.878,2.9159999999999999,282.00799999999998]
[{"$f":"Clavet!A288","v":"  2019/03/12 18:00:00"},0.33700000000000002,9.0999999999999998E-2,3.8239999999999998,3.9159999999999999,7.0999999999999994E-2,0.23,0,2.9319999999999999,61.915999999999997,2.5750000000000002,283.303]
[{"$f":"Clavet!A289","v":"  2019/03/12 19:00:00"},0.314,1.4999999999999999E-2,3.6360000000000001,3.6520000000000001,-2E-3,0.215,0,1.6040000000000001,64.872,2.8180000000000001,268.346]
[{"$f":"Clavet!A290","v":"  2019/03/12 20:00:00"},0.28499999999999998,-4.2999999999999997E-2,4.2249999999999996,4.181,4.8000000000000001E-2,0.21099999999999999,0,1.089,65.652000000000001,2.6459999999999999,273.34199999999998]
[{"$f":"Clavet!A291","v":"  2019/03/12 21:00:00"},0.248,-6.8000000000000005E-2,4.2839999999999998,4.2160000000000002,9.4E-2,0.32600000000000001,0,0.90500000000000003,67.260000000000005,2.6629999999999998,280.09399999999999]
[{"$f":"Clavet!A292","v":"  2019/03/12 22:00:00"},0.26600000000000001,-0.05,3.6949999999999998,3.6440000000000001,0.13600000000000001,0.44700000000000001,0,0.89300000000000002,67.406999999999996,2.738,283.37099999999998]
[{"$f":"Clavet!A293","v":"  2019/03/12 23:00:00"},0.17,-5.7000000000000002E-2,3.6139999999999999,3.556,0.13300000000000001,0.48799999999999999,0,0.48599999999999999,67.671000000000006,2.6930000000000001,277.83300000000003]
[{"$f":"Clavet!A294","v":"  2019/03/13 00:00:00"},0.18099999999999999,-5.1999999999999998E-2,3.9620000000000002,3.91,1.0999999999999999E-2,0.42399999999999999,0,-1.4E-2,68.712000000000003,2.0760000000000001,300.38200000000001]
[{"$f":"Clavet!A295","v":"  2019/03/13 01:00:00"},0.115,-4.2000000000000003E-2,4.4710000000000001,4.43,-8.9999999999999993E-3,0.35,0,-0.58799999999999997,68.635000000000005,0.85299999999999998,320.678]
[{"$f":"Clavet!A296","v":"  2019/03/13 02:00:00"},0.20100000000000001,0.05,4.4809999999999999,4.5309999999999997,-4.0000000000000001E-3,0.222,0,-1.167,67.658000000000001,1.71,283.01799999999997]
[{"$f":"Clavet!A297","v":"  2019/03/13 03:00:00"},6.2E-2,-5.0000000000000001E-3,4.6079999999999997,4.6029999999999998,0.17599999999999999,0.21,0,-1.9750000000000001,68.738,1.6739999999999999,306.06799999999998]
[{"$f":"Clavet!A298","v":"  2019/03/13 04:00:00"},0.25700000000000001,5.2999999999999999E-2,4.742,4.7949999999999999,0.10299999999999999,0.17199999999999999,0,-1.9350000000000001,69.19,1.8009999999999999,308.06799999999998]
[{"$f":"Clavet!A299","v":"  2019/03/13 05:00:00"},0.33100000000000002,-4.2999999999999997E-2,4.4260000000000002,4.383,0.247,0.12,0,-1.829,69.858999999999995,1.599,309.74599999999998]
[{"$f":"Clavet!A300","v":"  2019/03/13 06:00:00"},0.28000000000000003,-2.5999999999999999E-2,4.9189999999999996,4.8929999999999998,0.16400000000000001,5.3999999999999999E-2,0,-1.8879999999999999,69.67,2.173,315.65499999999997]
[{"$f":"Clavet!A301","v":"  2019/03/13 07:00:00"},0.151,0.11799999999999999,5.3019999999999996,5.42,9.8000000000000004E-2,0.21099999999999999,0,-3.6970000000000001,70.94,2.0209999999999999,313.70100000000002]
[{"$f":"Clavet!A302","v":"  2019/03/13 08:00:00"},0.19900000000000001,0.96599999999999997,5.8150000000000004,6.7809999999999997,0.34300000000000003,-0.20899999999999999,0,-5.4249999999999998,73.073999999999998,1.9139999999999999,313.91500000000002]
[{"$f":"Clavet!A303","v":"  2019/03/13 09:00:00"},0.26500000000000001,2.3180000000000001,5.6710000000000003,7.9889999999999999,0.17499999999999999,-0.01,0,-4.6319999999999997,69.203999999999994,2.3079999999999998,317.05599999999998]
[{"$f":"Clavet!A304","v":"  2019/03/13 10:00:00"},"        Z","        Z","        Z","        Z","        Z",0.13500000000000001,0,-2.74,64.905000000000001,2.3879999999999999,315.58800000000002]
[{"$f":"Clavet!A305","v":"  2019/03/13 11:00:00"},0.432,3.3290000000000002,4.6900000000000004,8.0190000000000001,0.193,0.15,0,-0.82599999999999996,59.335999999999999,2.4169999999999998,310.09199999999998]
[{"$f":"Clavet!A306","v":"  2019/03/13 12:00:00"},0.29499999999999998,2.2490000000000001,3.8370000000000002,6.0860000000000003,0.107,0.23899999999999999,0,0.217,56.62,2.508,308.51499999999999]
[{"$f":"Clavet!A307","v":"  2019/03/13 13:00:00"},7.9000000000000001E-2,1.752,3.573,5.3259999999999996,0.125,0.38200000000000001,0,1.149,55.100999999999999,1.371,323.125]
[{"$f":"Clavet!A308","v":"  2019/03/13 14:00:00"},0.14099999999999999,1.329,3.52,4.851,0.193,0.67,0,1.4339999999999999,58.097000000000001,2.827,283.45600000000002]
[{"$f":"Clavet!A309","v":"  2019/03/13 15:00:00"},0.23799999999999999,1.276,3.8340000000000001,5.1109999999999998,0.20499999999999999,1.028,0,1.393,59.765999999999998,3.4820000000000002,294.17700000000002]
[{"$f":"Clavet!A310","v":"  2019/03/13 16:00:00"},0.48,1.343,4.423,5.766,0.158,1.6839999999999999,0,1.1619999999999999,61.25,3.169,288.327]
[{"$f":"Clavet!A311","v":"  2019/03/13 17:00:00"},0.61099999999999999,1.1120000000000001,5.0270000000000001,6.14,0.16900000000000001,2.3149999999999999,0,0.628,62.006,2.407,284.30599999999998]
[{"$f":"Clavet!A312","v":"  2019/03/13 18:00:00"},0.72399999999999998,0.22900000000000001,4.008,4.2359999999999998,0.1,2.6659999999999999,0,-4.1000000000000002E-2,63.128999999999998,3.008,284.51799999999997]
[{"$f":"Clavet!A313","v":"  2019/03/13 19:00:00"},0.78300000000000003,8.8999999999999996E-2,4.3550000000000004,4.444,5.1999999999999998E-2,4.66,0,-0.751,62.686999999999998,3.133,286.85199999999998]
[{"$f":"Clavet!A314","v":"  2019/03/13 20:00:00"},0.57799999999999996,7.0000000000000001E-3,5.0609999999999999,5.069,1.4999999999999999E-2,6.5640000000000001,0,-1.5640000000000001,62.661000000000001,3.5369999999999999,282.07100000000003]
[{"$f":"Clavet!A315","v":"  2019/03/13 21:00:00"},0.61099999999999999,0.01,5.3579999999999997,5.3680000000000003,0.182,5.8230000000000004,0,-2.1789999999999998,61.444000000000003,3.0579999999999998,280.77499999999998]
[{"$f":"Clavet!A316","v":"  2019/03/13 22:00:00"},0.46400000000000002,0.04,5.3209999999999997,5.3609999999999998,0.27700000000000002,5.0170000000000003,0,-3.0030000000000001,60.838000000000001,3.11,280.8]
[{"$f":"Clavet!A317","v":"  2019/03/13 23:00:00"},0.48,1.4E-2,5.681,5.6950000000000003,0.16600000000000001,5.4180000000000001,0,-3.9460000000000002,62.588999999999999,2.9689999999999999,284.08100000000002]
[{"$f":"Clavet!A318","v":"  2019/03/14 00:00:00"},0.45600000000000002,2.9000000000000001E-2,5.0860000000000003,5.1150000000000002,6.9000000000000006E-2,5.4039999999999999,0,-4.8,64.265000000000001,3.343,283.54199999999997]
[{"$f":"Clavet!A319","v":"  2019/03/14 01:00:00"},0.69299999999999995,-7.3999999999999996E-2,5.048,4.9729999999999999,4.3999999999999997E-2,4.53,0,-5.3490000000000002,64.283000000000001,2.7759999999999998,281.51]
[{"$f":"Clavet!A320","v":"  2019/03/14 02:00:00"},0.73899999999999999,-3.9E-2,5.3879999999999999,5.35,-2.4E-2,4.2779999999999996,0,-5.915,65.355999999999995,1.4570000000000001,290.44900000000001]
[{"$f":"Clavet!A321","v":"  2019/03/14 03:00:00"},0.80400000000000005,6.9000000000000006E-2,7.0759999999999996,7.1449999999999996,0.189,5.0190000000000001,0,-5.9820000000000002,64.177000000000007,0.68,292.18200000000002]
[{"$f":"Clavet!A322","v":"  2019/03/14 04:00:00"},0.78300000000000003,0.02,6.274,6.2930000000000001,0.17299999999999999,4.53,0,-6.7279999999999998,64.53,1.41,290.00599999999997]
[{"$f":"Clavet!A323","v":"  2019/03/14 05:00:00"},0.63100000000000001,4.9000000000000002E-2,6.3109999999999999,6.36,-4.0000000000000001E-3,5.0640000000000001,0,-6.859,65.078999999999994,1.5509999999999999,293.601]
[{"$f":"Clavet!A324","v":"  2019/03/14 06:00:00"},0.40200000000000002,0.113,6.4649999999999999,6.5780000000000003,0.107,7.4180000000000001,0,-6.87,67.367999999999995,1.292,309.77]
[{"$f":"Clavet!A325","v":"  2019/03/14 07:00:00"},0.39700000000000002,0.254,6.5270000000000001,6.782,0.23300000000000001,9.3010000000000002,0,-7.0890000000000004,68.004999999999995,1.278,308.56700000000001]
[{"$f":"Clavet!A326","v":"  2019/03/14 08:00:00"},0.308,1.3080000000000001,8.0340000000000007,9.3420000000000005,0.216,9.5679999999999996,0,-7.0209999999999999,66.614000000000004,1.327,320.36799999999999]
[{"$f":"Clavet!A327","v":"  2019/03/14 09:00:00"},"        Z","        Z","        Z","        Z","        Z",5.2060000000000004,0,-5.8540000000000001,63.723999999999997,2.1669999999999998,315.09800000000001]
[{"$f":"Clavet!A328","v":"  2019/03/14 10:00:00"},0.51100000000000001,3.1920000000000002,6.375,9.5660000000000007,0.36299999999999999,2.056,0,-3.4769999999999999,58.603999999999999,2.7480000000000002,302.73200000000003]
[{"$f":"Clavet!A329","v":"  2019/03/14 11:00:00"},0.41299999999999998,2.448,4.9459999999999997,7.3929999999999998,0.123,1.3340000000000001,0,-1.5169999999999999,56.081000000000003,2.734,311.37700000000001]
[{"$f":"Clavet!A330","v":"  2019/03/14 12:00:00"},0.40200000000000002,2.4969999999999999,4.67,7.1669999999999998,5.2999999999999999E-2,1.212,0,-0.43,56.514000000000003,2.4420000000000002,324.35700000000003]
[{"$f":"Clavet!A331","v":"  2019/03/14 13:00:00"},0.21099999999999999,1.7909999999999999,3.992,5.7830000000000004,0.14599999999999999,1.0569999999999999,0,0.89900000000000002,55.902999999999999,2.4750000000000001,291.78500000000003]
[{"$f":"Clavet!A332","v":"  2019/03/14 14:00:00"},0.16400000000000001,1.37,4.0129999999999999,5.3849999999999998,0.125,1.7589999999999999,0,1.1819999999999999,58.305,2.2200000000000002,282.43700000000001]
[{"$f":"Clavet!A333","v":"  2019/03/14 15:00:00"},0.129,1.3029999999999999,4.343,5.6470000000000002,8.7999999999999995E-2,1.593,0,1.4990000000000001,59.555999999999997,2.4470000000000001,274.01799999999997]
[{"$f":"Clavet!A334","v":"  2019/03/14 16:00:00"},0.11600000000000001,1.554,5.1230000000000002,6.6790000000000003,0.106,2.089,0,1.4279999999999999,60.485999999999997,2.3370000000000002,269.35300000000001]
[{"$f":"Clavet!A335","v":"  2019/03/14 17:00:00"},0.14199999999999999,0.97699999999999998,4.7590000000000003,5.7380000000000004,4.3999999999999997E-2,1.9630000000000001,0,1.0529999999999999,60.578000000000003,1.6739999999999999,268.14400000000001]
[{"$f":"Clavet!A336","v":"  2019/03/14 18:00:00"},0.154,0.60499999999999998,5.0780000000000003,5.6829999999999998,8.0000000000000002E-3,1.8169999999999999,0,-0.375,63.491,1.546,268.68200000000002]
[{"$f":"Clavet!A337","v":"  2019/03/14 19:00:00"},9.2999999999999999E-2,9.2999999999999999E-2,6.0860000000000003,6.18,1.4E-2,5.3419999999999996,0,-2.0870000000000002,65.629000000000005,2.02,271.09399999999999]
[{"$f":"Clavet!A338","v":"  2019/03/14 20:00:00"},0.216,0.11799999999999999,6.1580000000000004,6.2779999999999996,-2E-3,9.2460000000000004,0,-3.137,65.253,2.387,270.26600000000002]
[{"$f":"Clavet!A339","v":"  2019/03/14 21:00:00"},0.151,3.4000000000000002E-2,5.335,5.3719999999999999,5.8999999999999997E-2,10.497999999999999,0,-4.18,64.703000000000003,1.56,252.33]
[{"$f":"Clavet!A340","v":"  2019/03/14 22:00:00"},0.253,4.4999999999999998E-2,5.298,5.3470000000000004,-3.5999999999999997E-2,11.007999999999999,0,-5.09,65.781999999999996,1.54,258.75]
[{"$f":"Clavet!A341","v":"  2019/03/14 23:00:00"},0.23,2.8000000000000001E-2,6.8529999999999998,6.883,-9.6000000000000002E-2,11.337999999999999,0,-6.2439999999999998,65.864999999999995,0.61099999999999999,239.83199999999999]
[{"$f":"Clavet!A342","v":"  2019/03/15 00:00:00"},-5.2999999999999999E-2,6.9000000000000006E-2,7.6159999999999997,7.6870000000000003,-0.04,15.646000000000001,0,-9.9480000000000004,73.632999999999996,0.36599999999999999,160.38200000000001]
[{"$f":"Clavet!A343","v":"  2019/03/15 01:00:00"},-0.13900000000000001,0.16900000000000001,11.211,11.382999999999999,7.3999999999999996E-2,16.544,0,-9.8369999999999997,76.040000000000006,0.35599999999999998,178.93199999999999]
[{"$f":"Clavet!A344","v":"  2019/03/15 02:00:00"},-0.109,0.21099999999999999,12.593,12.808,3.6999999999999998E-2,18.2,0,-10.564,76.141999999999996,0.41699999999999998,174.35499999999999]
[{"$f":"Clavet!A345","v":"  2019/03/15 03:00:00"},-7.6999999999999999E-2,0.27300000000000002,15.147,15.423,0.192,19.216000000000001,0,-10.496,76.734999999999999,0.58599999999999997,160.53100000000001]
[{"$f":"Clavet!A346","v":"  2019/03/15 04:00:00"},-6.0999999999999999E-2,0.11700000000000001,19.716999999999999,19.838000000000001,0.41899999999999998,16.332000000000001,0,-10.210000000000001,76.703999999999994,0.47099999999999997,167.32900000000001]
[{"$f":"Clavet!A347","v":"  2019/03/15 05:00:00"},-4.2000000000000003E-2,0.14499999999999999,13.863,14.012,0.60699999999999998,13.391999999999999,0,-10.009,75.692999999999998,0.69299999999999995,169.40600000000001]
[{"$f":"Clavet!A348","v":"  2019/03/15 06:00:00"},-9.0999999999999998E-2,0.192,7.7560000000000002,7.9509999999999996,0.153,11.379,0,-10.839,76.298000000000002,0.84099999999999997,146.70500000000001]
[{"$f":"Clavet!A349","v":"  2019/03/15 07:00:00"},-0.10199999999999999,0.13300000000000001,6.1589999999999998,6.2960000000000003,1.4E-2,10.693,0,-10.571999999999999,76.188000000000002,0.95199999999999996,116.197]
[{"$f":"Clavet!A350","v":"  2019/03/15 08:00:00"},"        Z","        Z","        Z","        Z","        Z",10.896000000000001,0,-10.102,75.070999999999998,0.83099999999999996,121.081]
[{"$f":"Clavet!A351","v":"  2019/03/15 09:00:00"},"        Z","        Z","        Z","        Z","        Z",10.122999999999999,0,-8.3390000000000004,68.578999999999994,0.35599999999999998,42.136000000000003]
[{"$f":"Clavet!A352","v":"  2019/03/15 10:00:00"},"        C","        C","        C","        C","        C","        C",0,-6.5190000000000001,63.975000000000001,"        C","        C"]
[{"$f":"Clavet!A353","v":"  2019/03/15 11:00:00"},"        C","        C","        C","        C","        C","        C",0,-4.3970000000000002,63.640999999999998,"        C","        C"]
[{"$f":"Clavet!A354","v":"  2019/03/15 12:00:00"},"        C","        C","        C","        C","        C","        C",0,-2.3199999999999998,63.454000000000001,"        C","        C"]
[{"$f":"Clavet!A355","v":"  2019/03/15 13:00:00"},"        C","        C","        C","        C","        C","        C",0,-0.754,59.317999999999998,2.0760000000000001,258.01900000000001]
[{"$f":"Clavet!A356","v":"  2019/03/15 14:00:00"},"        C","        C","        C","        C","        C","        C",0,0.42,57.381999999999998,1.9139999999999999,247.81399999999999]
[{"$f":"Clavet!A357","v":"  2019/03/15 15:00:00"},"        C","        C","        C","        C","        C","        C",0,1.833,58.485999999999997,1.236,218.566]
[{"$f":"Clavet!A358","v":"  2019/03/15 16:00:00"},"        C","        C","        C","        C","        C","        C",0,2.9140000000000001,52.113999999999997,2.028,280.55099999999999]
[{"$f":"Clavet!A359","v":"  2019/03/15 17:00:00"},0.13500000000000001,1.427,4.0039999999999996,5.4340000000000002,-0.52300000000000002,3.4020000000000001,0,2.726,54.613,3.2,288.61900000000003]
[{"$f":"Clavet!A360","v":"  2019/03/15 18:00:00"},0.2,0.379,3.3969999999999998,3.778,-0.45700000000000002,2.9929999999999999,0,1.8480000000000001,57.146000000000001,3.8919999999999999,287.91899999999998]
[{"$f":"Clavet!A361","v":"  2019/03/15 19:00:00"},9.6000000000000002E-2,0.219,3.3690000000000002,3.5910000000000002,-0.501,2.472,0,0.56399999999999995,59.432000000000002,3.3610000000000002,282.94799999999998]
[{"$f":"Clavet!A362","v":"  2019/03/15 20:00:00"},1.0999999999999999E-2,0.151,3.4590000000000001,3.613,-0.40699999999999997,2.4830000000000001,0,-0.308,60.776000000000003,3.48,275.48500000000001]
[{"$f":"Clavet!A363","v":"  2019/03/15 21:00:00"},0.13200000000000001,0.111,3.53,3.6440000000000001,-0.46600000000000003,2.5529999999999999,0,-1.4770000000000001,61.774000000000001,3.19,261.53699999999998]
[{"$f":"Clavet!A364","v":"  2019/03/15 22:00:00"},0.53400000000000003,0.159,4.0780000000000003,4.2389999999999999,-0.41899999999999998,2.879,0,-2.19,62.295999999999999,2.843,269.887]
[{"$f":"Clavet!A365","v":"  2019/03/15 23:00:00"},0.91300000000000003,0.186,5.1710000000000003,5.3579999999999997,-0.39900000000000002,3.3780000000000001,0,-3.2010000000000001,63.286999999999999,3.9390000000000001,260.86200000000002]
[{"$f":"Clavet!A366","v":"  2019/03/16 00:00:00"},0.68700000000000006,0.122,4.7670000000000003,4.8920000000000003,-0.214,3.8130000000000002,0,-3.6019999999999999,61.841999999999999,4.59,262.226]
[{"$f":"Clavet!A367","v":"  2019/03/16 01:00:00"},0.71499999999999997,0.123,4.7880000000000003,4.915,-0.14499999999999999,5.665,0,-4.141,61.281999999999996,4.6900000000000004,262.57400000000001]
[{"$f":"Clavet!A368","v":"  2019/03/16 02:00:00"},0.67200000000000004,0.158,4.0819999999999999,4.242,-0.17599999999999999,5.2240000000000002,0,-4.9219999999999997,61.701000000000001,3.1549999999999998,265.721]
[{"$f":"Clavet!A369","v":"  2019/03/16 03:00:00"},0.624,0.105,4.7300000000000004,4.8380000000000001,-0.20499999999999999,6.78,0,-5.548,61.603000000000002,3.5649999999999999,261.96499999999997]
[{"$f":"Clavet!A370","v":"  2019/03/16 04:00:00"},0.45,0.16200000000000001,3.9350000000000001,4.0990000000000002,-0.13400000000000001,5.4850000000000003,0,-6.8090000000000002,62.786999999999999,3.9790000000000001,260.28500000000003]
[{"$f":"Clavet!A371","v":"  2019/03/16 05:00:00"},0.58199999999999996,0.11600000000000001,4.5529999999999999,4.6719999999999997,-4.2999999999999997E-2,4.8129999999999997,0,-7.093,62.100999999999999,3.6930000000000001,265.529]
[{"$f":"Clavet!A372","v":"  2019/03/16 06:00:00"},0.57299999999999995,0.16300000000000001,5.3529999999999998,5.5170000000000003,-6.3E-2,4.5890000000000004,0,-8.7080000000000002,64.295000000000002,0.47199999999999998,341.57400000000001]
[{"$f":"Clavet!A373","v":"  2019/03/16 07:00:00"},"        Z","        Z","        Z","        Z","        Z",5.1319999999999997,0,-9.7140000000000004,65.822000000000003,0.82099999999999995,352.07600000000002]
[{"$f":"Clavet!A374","v":"  2019/03/16 08:00:00"},0.54,1.222,6.91,8.1329999999999991,0.316,3.153,0,-8.3680000000000003,61.152999999999999,0.56799999999999995,329.80700000000002]
[{"$f":"Clavet!A375","v":"  2019/03/16 09:00:00"},0.44900000000000001,2.3679999999999999,5.92,8.2889999999999997,0.155,2.6320000000000001,0,-6.1580000000000004,55.57,1.831,305.58300000000003]
[{"$f":"Clavet!A376","v":"  2019/03/16 10:00:00"},0.81100000000000005,3.1419999999999999,5.8239999999999998,8.9670000000000005,9.4E-2,3.6579999999999999,0,-4.431,52.101999999999997,2.2389999999999999,308.315]
[{"$f":"Clavet!A377","v":"  2019/03/16 11:00:00"},1.1659999999999999,3.8460000000000001,5.74,9.5879999999999992,0.112,2.581,0,-2.593,51.204000000000001,2.0529999999999999,314.96199999999999]
[{"$f":"Clavet!A378","v":"  2019/03/16 12:00:00"},1.3109999999999999,3.43,5.6440000000000001,9.0749999999999993,0.108,2.7530000000000001,0,-0.997,50.677,1.52,316.55399999999997]
[{"$f":"Clavet!A379","v":"  2019/03/16 13:00:00"},1.0920000000000001,2.5339999999999998,4.9610000000000003,7.4960000000000004,4.2999999999999997E-2,2.9220000000000002,0,0.67900000000000005,51.521000000000001,2.0569999999999999,295.596]
[{"$f":"Clavet!A380","v":"  2019/03/16 14:00:00"},0.626,1.3919999999999999,3.8239999999999998,5.2169999999999996,2.3E-2,2.573,0,2.1629999999999998,50.965000000000003,2.496,290.63400000000001]
[{"$f":"Clavet!A381","v":"  2019/03/16 15:00:00"},0.56799999999999995,0.97,3.5430000000000001,4.5129999999999999,-2.1999999999999999E-2,2.226,0,2.9849999999999999,48.679000000000002,1.8779999999999999,296.04899999999998]
[{"$f":"Clavet!A382","v":"  2019/03/16 16:00:00"},0.81799999999999995,1.0680000000000001,3.9740000000000002,5.0430000000000001,-6.4000000000000001E-2,2.609,0,2.7930000000000001,51.414000000000001,1.488,290.637]
[{"$f":"Clavet!A383","v":"  2019/03/16 17:00:00"},0.441,0.995,3.7509999999999999,4.7450000000000001,4.9000000000000002E-2,2.944,0,1.9590000000000001,52.720999999999997,3.1,292.572]
[{"$f":"Clavet!A384","v":"  2019/03/16 18:00:00"},0.379,0.433,4.109,4.5419999999999998,8.0000000000000002E-3,4.99,0,0.98,55.378,2.9319999999999999,290.54599999999999]
[{"$f":"Clavet!A385","v":"  2019/03/16 19:00:00"},0.54100000000000004,0.22700000000000001,5.1779999999999999,5.4050000000000002,1E-3,8.2249999999999996,0,-0.27200000000000002,58.853999999999999,2.9990000000000001,277.67099999999999]
[{"$f":"Clavet!A386","v":"  2019/03/16 20:00:00"},0.68600000000000005,2.3E-2,5.1630000000000003,5.1870000000000003,3.1E-2,11.358000000000001,0,-1.179,61.488999999999997,2.8839999999999999,277.26100000000002]
[{"$f":"Clavet!A387","v":"  2019/03/16 21:00:00"},0.62,3.5999999999999997E-2,6.4189999999999996,6.4550000000000001,6.7000000000000004E-2,14.733000000000001,0,-3.4039999999999999,65.968000000000004,1.4,320.13099999999997]
[{"$f":"Clavet!A388","v":"  2019/03/16 22:00:00"},0.33500000000000002,7.3999999999999996E-2,7.5289999999999999,7.6020000000000003,6.0000000000000001E-3,19.145,0,-4.8390000000000004,69.563000000000002,0.91300000000000003,322.22500000000002]
[{"$f":"Clavet!A389","v":"  2019/03/16 23:00:00"},9.6000000000000002E-2,0.153,6.6550000000000002,6.806,0.10299999999999999,17.358000000000001,0,-6.6660000000000004,71.272000000000006,1.659,323.089]
[{"$f":"Clavet!A390","v":"  2019/03/17 00:00:00"},1.7000000000000001E-2,8.5999999999999993E-2,6.7039999999999997,6.7889999999999997,0.30599999999999999,19.074999999999999,0,-7.9880000000000004,74.052000000000007,1.569,323.71699999999998]
[{"$f":"Clavet!A391","v":"  2019/03/17 01:00:00"},0.16500000000000001,0.151,7.4960000000000004,7.6449999999999996,0.19800000000000001,17.713999999999999,0,-7.492,72.093000000000004,2.3879999999999999,330.45]
[{"$f":"Clavet!A392","v":"  2019/03/17 02:00:00"},8.5999999999999993E-2,3.6999999999999998E-2,8.0380000000000003,8.0739999999999998,0.4,18.86,0,-9.8119999999999994,73.709999999999994,0.159,351.78899999999999]
[{"$f":"Clavet!A393","v":"  2019/03/17 03:00:00"},-1.9E-2,7.0000000000000007E-2,7.806,7.8760000000000003,0.152,18.721,0,-11.445,72.254999999999995,7.0999999999999994E-2,285.596]
[{"$f":"Clavet!A394","v":"  2019/03/17 04:00:00"},-7.1999999999999995E-2,0.191,7.6619999999999999,7.851,0.22700000000000001,17.036999999999999,0,-13.314,72.084000000000003,5.7000000000000002E-2,201.79900000000001]
[{"$f":"Clavet!A395","v":"  2019/03/17 05:00:00"},-0.184,0.17799999999999999,7.7519999999999998,7.9290000000000003,0.28499999999999998,14.95,0,-14.298999999999999,70.463999999999999,0.10299999999999999,172.62299999999999]
[{"$f":"Clavet!A396","v":"  2019/03/17 06:00:00"},"        Z","        Z","        Z","        Z","        Z",13.103,0,-15.031000000000001,70.995999999999995,0.27900000000000003,156.86099999999999]
[{"$f":"Clavet!A397","v":"  2019/03/17 07:00:00"},-0.17899999999999999,0.83799999999999997,14.753,15.587999999999999,0.57199999999999995,13.007,0,-15.644,72.78,0.753,158.16800000000001]
[{"$f":"Clavet!A398","v":"  2019/03/17 08:00:00"},5.1999999999999998E-2,4.9859999999999998,18.631,23.614000000000001,0.53300000000000003,13.507999999999999,0,-13.002000000000001,73.959999999999994,0.72599999999999998,152.63499999999999]
[{"$f":"Clavet!A399","v":"  2019/03/17 09:00:00"},0.309,6.4359999999999999,14.247,20.681000000000001,0.70499999999999996,9.94,0,-9.6020000000000003,69.334000000000003,1.129,130.054]
[{"$f":"Clavet!A400","v":"  2019/03/17 10:00:00"},0.505,2.726,8.0790000000000006,10.803000000000001,0.60299999999999998,6.5140000000000002,0,-5.9630000000000001,64.402000000000001,1.871,142.17400000000001]
[{"$f":"Clavet!A401","v":"  2019/03/17 11:00:00"},1.7170000000000001,2.0099999999999998,6.766,8.7750000000000004,0.29199999999999998,4.2809999999999997,0,-2.1339999999999999,58.509,2.5070000000000001,158.298]
[{"$f":"Clavet!A402","v":"  2019/03/17 12:00:00"},3.0019999999999998,1.81,6.0069999999999997,7.8150000000000004,0.157,2.8679999999999999,0,0.62,54.814,2.0299999999999998,159.10300000000001]
[{"$f":"Clavet!A403","v":"  2019/03/17 13:00:00"},1.569,1.534,5.54,7.0720000000000001,0.19500000000000001,3.274,0,1.5209999999999999,53.521000000000001,1.4330000000000001,162.09100000000001]
[{"$f":"Clavet!A404","v":"  2019/03/17 14:00:00"},1.2130000000000001,0.92100000000000004,5.3929999999999998,6.3120000000000003,0.14699999999999999,6.1360000000000001,0,2.6120000000000001,55.968000000000004,2.274,197.119]
[{"$f":"Clavet!A405","v":"  2019/03/17 15:00:00"},0.73099999999999998,0.98099999999999998,6.2009999999999996,7.1790000000000003,0.188,7.8339999999999996,0,3.41,58.728999999999999,1.9059999999999999,201.863]
[{"$f":"Clavet!A406","v":"  2019/03/17 16:00:00"},0.44600000000000001,0.91400000000000003,7.0119999999999996,7.9240000000000004,8.6999999999999994E-2,8.5549999999999997,0,3.6880000000000002,60.652000000000001,1.623,201.358]
[{"$f":"Clavet!A407","v":"  2019/03/17 17:00:00"},0.38500000000000001,0.44400000000000001,6.0880000000000001,6.53,5.1999999999999998E-2,9.2100000000000009,0,3.996,59.86,1.256,262.18]
[{"$f":"Clavet!A408","v":"  2019/03/17 18:00:00"},0.42199999999999999,0.25900000000000001,6.5369999999999999,6.7930000000000001,0.106,9.6829999999999998,0,3.44,62.003,0.46300000000000002,313.709]
[{"$f":"Clavet!A409","v":"  2019/03/17 19:00:00"},0.42399999999999999,0.16600000000000001,6.1360000000000001,6.2990000000000004,0.157,12.305,0,2.214,67.801000000000002,0.752,250.078]
[{"$f":"Clavet!A410","v":"  2019/03/17 20:00:00"},0.39800000000000002,5.2999999999999999E-2,5.8520000000000003,5.9039999999999999,3.9E-2,11.693,0,1.698,70.691000000000003,1.121,252.47399999999999]
[{"$f":"Clavet!A411","v":"  2019/03/17 21:00:00"},0.40300000000000002,9.4E-2,5.766,5.8570000000000002,0.13600000000000001,11.074,0,1.4139999999999999,71.537000000000006,1.403,256.084]
[{"$f":"Clavet!A412","v":"  2019/03/17 22:00:00"},0.28699999999999998,0.10299999999999999,5.681,5.782,0.156,9.9009999999999998,0,1.4079999999999999,70.866,1.8169999999999999,285.154]
[{"$f":"Clavet!A413","v":"  2019/03/17 23:00:00"},0.30499999999999999,0.02,5.12,5.1390000000000002,0.11,8.7129999999999992,0,0.63900000000000001,70.742999999999995,0.91600000000000004,310.06299999999999]
[{"$f":"Clavet!A414","v":"  2019/03/18 00:00:00"},0.06,0.125,5.9809999999999999,6.1050000000000004,0.22500000000000001,9.4429999999999996,0,-0.621,73.025999999999996,1.002,276.51299999999998]
[{"$f":"Clavet!A415","v":"  2019/03/18 01:00:00"},0.24,8.5000000000000006E-2,5.4459999999999997,5.5279999999999996,0.27800000000000002,7.57,0,-0.70299999999999996,71.078999999999994,1.637,295.53800000000001]
[{"$f":"Clavet!A416","v":"  2019/03/18 02:00:00"},0.28999999999999998,8.4000000000000005E-2,5.6790000000000003,5.7619999999999996,0.16,6.8540000000000001,0,-1.7090000000000001,71.754000000000005,1.399,314.16399999999999]
[{"$f":"Clavet!A417","v":"  2019/03/18 03:00:00"},0.318,0.122,5.7160000000000002,5.8369999999999997,0.251,6.1210000000000004,0,-2.0169999999999999,71.525999999999996,1.5529999999999999,308.14800000000002]
[{"$f":"Clavet!A418","v":"  2019/03/18 04:00:00"},0.38200000000000001,9.6000000000000002E-2,5.4870000000000001,5.5810000000000004,0.28999999999999998,5.1130000000000004,0,-1.4930000000000001,68.751000000000005,2.8809999999999998,292.77300000000002]
[{"$f":"Clavet!A419","v":"  2019/03/18 05:00:00"},"        Z","        Z","        Z","        Z","        Z",5.4420000000000002,0,-2.806,70.823999999999998,1.3420000000000001,317.38900000000001]
[{"$f":"Clavet!A420","v":"  2019/03/18 06:00:00"},0.158,8.1000000000000003E-2,5.47,5.55,0.32800000000000001,5.9089999999999998,0,-3.536,72.578999999999994,1.216,303.22199999999998]
[{"$f":"Clavet!A421","v":"  2019/03/18 07:00:00"},0.218,8.3000000000000004E-2,5.3769999999999998,5.4569999999999999,0.16700000000000001,5.31,0,-3.5710000000000002,71.998999999999995,1.248,301.48700000000002]
[{"$f":"Clavet!A422","v":"  2019/03/18 08:00:00"},0.28799999999999998,0.90800000000000003,6.0880000000000001,6.9939999999999998,0.22700000000000001,3.2170000000000001,0,-2.7360000000000002,68.614999999999995,1.966,311.62]
[{"$f":"Clavet!A423","v":"  2019/03/18 09:00:00"},0.28299999999999997,1.75,5.5979999999999999,7.3449999999999998,0.32900000000000001,1.605,0,-0.83399999999999996,64.305999999999997,2.7170000000000001,315.32299999999998]
[{"$f":"Clavet!A424","v":"  2019/03/18 10:00:00"},0.252,2.2370000000000001,4.9960000000000004,7.2309999999999999,9.1999999999999998E-2,0.83899999999999997,0,1.1220000000000001,60.692999999999998,3.0430000000000001,305.60000000000002]
[{"$f":"Clavet!A425","v":"  2019/03/18 11:00:00"},0.38700000000000001,1.8080000000000001,4.2270000000000003,6.0339999999999998,0.105,0.61799999999999999,0,3.298,55.494999999999997,2.9390000000000001,292.387]
[{"$f":"Clavet!A426","v":"  2019/03/18 12:00:00"},0.41699999999999998,2.1139999999999999,4.548,6.66,5.5E-2,0.80700000000000005,0,4.2560000000000002,54.84,1.9550000000000001,278.82799999999997]
[{"$f":"Clavet!A427","v":"  2019/03/18 13:00:00"},0.27600000000000002,1.7470000000000001,4.0259999999999998,5.7709999999999999,0.112,1.0489999999999999,0,4.9530000000000003,54.622,1.821,259.00200000000001]
[{"$f":"Clavet!A428","v":"  2019/03/18 14:00:00"},0.34100000000000003,1.302,3.9630000000000001,5.2629999999999999,4.2999999999999997E-2,1.238,0,5.0449999999999999,55.472999999999999,2.1339999999999999,277.983]
[{"$f":"Clavet!A429","v":"  2019/03/18 15:00:00"},0.191,1.196,4.4260000000000002,5.62,-2.3E-2,2.5870000000000002,0,5.2919999999999998,55.427999999999997,1.4039999999999999,284.68099999999998]
[{"$f":"Clavet!A430","v":"  2019/03/18 16:00:00"},8.4000000000000005E-2,0.85599999999999998,4.1230000000000002,4.9790000000000001,-1.6E-2,2.6720000000000002,0,4.9820000000000002,56.363,2.9340000000000002,282.459]
[{"$f":"Clavet!A431","v":"  2019/03/18 17:00:00"},0.27700000000000002,0.97599999999999998,5.718,6.6909999999999998,5.7000000000000002E-2,4.524,0,4.0960000000000001,60.542000000000002,2.9910000000000001,268.32499999999999]
[{"$f":"Clavet!A432","v":"  2019/03/18 18:00:00"},0.19400000000000001,0.28999999999999998,4.617,4.9059999999999997,1.4E-2,6.13,0,3.04,64.007000000000005,2.5619999999999998,268.52699999999999]
[{"$f":"Clavet!A433","v":"  2019/03/18 19:00:00"},0.112,0.17100000000000001,6.6449999999999996,6.8140000000000001,-1.0999999999999999E-2,7.2990000000000004,0,2.0230000000000001,65.801000000000002,1.4350000000000001,265.12400000000002]
[{"$f":"Clavet!A434","v":"  2019/03/18 20:00:00"},3.7999999999999999E-2,-4.8000000000000001E-2,4.0469999999999997,3.9969999999999999,-6.8000000000000005E-2,6.1139999999999999,0,2.1589999999999998,64.793999999999997,1.7749999999999999,286.33999999999997]
[{"$f":"Clavet!A435","v":"  2019/03/18 21:00:00"},0.13500000000000001,1.7000000000000001E-2,3.8140000000000001,3.8290000000000002,-0.105,6.492,0,1.657,65.576999999999998,1.5069999999999999,296.66699999999997]
[{"$f":"Clavet!A436","v":"  2019/03/18 22:00:00"},0.27200000000000002,-1.6E-2,5.3780000000000001,5.36,-0.122,7.5149999999999997,0,1.329,66.158000000000001,0.81499999999999995,283.291]
[{"$f":"Clavet!A437","v":"  2019/03/18 23:00:00"},0.27400000000000002,3.3000000000000002E-2,4.8029999999999999,4.8339999999999996,-0.10100000000000001,8.5719999999999992,0,0,68.436999999999998,0.33500000000000002,221.96199999999999]
[{"$f":"Clavet!A438","v":"  2019/03/19 00:00:00"},0.253,-3.3000000000000002E-2,5.6959999999999997,5.6619999999999999,-5.8000000000000003E-2,9.7919999999999998,0,-1.351,71.650999999999996,0.51200000000000001,207.36699999999999]
[{"$f":"Clavet!A439","v":"  2019/03/19 01:00:00"},0.39300000000000002,5.5E-2,4.5620000000000003,4.6139999999999999,-0.13200000000000001,7.1870000000000003,0,0.316,65.849000000000004,0.78800000000000003,278.68299999999999]
[{"$f":"Clavet!A440","v":"  2019/03/19 02:00:00"},0.34300000000000003,1.81,5.6760000000000002,7.484,-0.20899999999999999,8.3629999999999995,0,-0.875,69.301000000000002,0.58199999999999996,211.76300000000001]
[{"$f":"Clavet!A441","v":"  2019/03/19 03:00:00"},0.498,2.5000000000000001E-2,5.4459999999999997,5.4690000000000003,-0.186,11.186999999999999,0,-1.59,70.293999999999997,0.17199999999999999,284.60700000000003]
[{"$f":"Clavet!A442","v":"  2019/03/19 04:00:00"},"        Z","        Z","        Z","        Z","        Z",13.476000000000001,0,-2.1339999999999999,72.010000000000005,0.36399999999999999,268.55099999999999]
[{"$f":"Clavet!A443","v":"  2019/03/19 05:00:00"},0.59,-5.2999999999999999E-2,4.9290000000000003,4.8739999999999997,1.4E-2,12.04,0,-0.82099999999999995,67.867000000000004,1.4139999999999999,270.41000000000003]
[{"$f":"Clavet!A444","v":"  2019/03/19 06:00:00"},0.92100000000000004,5.8000000000000003E-2,5.1070000000000002,5.1639999999999997,-0.127,10.220000000000001,0,6.9000000000000006E-2,64.117999999999995,2.0920000000000001,284.29700000000003]
[{"$f":"Clavet!A445","v":"  2019/03/19 07:00:00"},0.75800000000000001,-1E-3,5.67,5.6660000000000004,-4.9000000000000002E-2,9.0470000000000006,0,0.36899999999999999,62.561999999999998,2.5910000000000002,283.83800000000002]
[{"$f":"Clavet!A446","v":"  2019/03/19 08:00:00"},0.69599999999999995,0.65100000000000002,7.0890000000000004,7.7389999999999999,-2.8000000000000001E-2,7.016,0,0.69,61.707999999999998,3.0059999999999998,291.56299999999999]
[{"$f":"Clavet!A447","v":"  2019/03/19 09:00:00"},0.85799999999999998,1.679,7.57,9.2490000000000006,-2E-3,4.33,0,2.173,59.277000000000001,3.1059999999999999,288.51799999999997]
[{"$f":"Clavet!A448","v":"  2019/03/19 10:00:00"},0.9,2.3079999999999998,6.9889999999999999,9.2940000000000005,-7.0000000000000001E-3,2.6040000000000001,0,3.82,56.686999999999998,3.2149999999999999,281.87299999999999]
[{"$f":"Clavet!A449","v":"  2019/03/19 11:00:00"},0.82099999999999995,2.423,6.4690000000000003,8.891,0.01,1.6160000000000001,0,5.4820000000000002,53.715000000000003,1.02,267.98599999999999]
[{"$f":"Clavet!A450","v":"  2019/03/19 12:00:00"},0.749,1.73,5.2930000000000001,7.0229999999999997,2.8000000000000001E-2,1.4510000000000001,0,6.7089999999999996,50.53,1.6379999999999999,278.596]
[{"$f":"Clavet!A451","v":"  2019/03/19 13:00:00"},0.72499999999999998,1.286,4.5309999999999997,5.8170000000000002,-7.2999999999999995E-2,1.43,0,7.91,46.1,2.617,287.45]
[{"$f":"Clavet!A452","v":"  2019/03/19 14:00:00"},0.73399999999999999,1.0620000000000001,4.5659999999999998,5.625,-0.113,1.802,0,7.27,48.734000000000002,2.9889999999999999,287.71600000000001]
[{"$f":"Clavet!A453","v":"  2019/03/19 15:00:00"},0.73899999999999999,1.3919999999999999,5.5270000000000001,6.9180000000000001,-0.111,2.6230000000000002,0,6.8470000000000004,50.741999999999997,3.2730000000000001,289.97899999999998]
[{"$f":"Clavet!A454","v":"  2019/03/19 16:00:00"},0.68500000000000005,1.337,6.157,7.4930000000000003,-5.8000000000000003E-2,3.0209999999999999,0,7.4349999999999996,49.728999999999999,2.2959999999999998,276.61399999999998]
[{"$f":"Clavet!A455","v":"  2019/03/19 17:00:00"},0.64900000000000002,1.2350000000000001,7.0430000000000001,8.2769999999999992,-1.7000000000000001E-2,3.9359999999999999,0,6.6130000000000004,52.790999999999997,2.5819999999999999,273.262]
[{"$f":"Clavet!A456","v":"  2019/03/19 18:00:00"},0.68100000000000005,0.55400000000000005,7.6970000000000001,8.2490000000000006,-0.03,5.4290000000000003,0,5.476,57.627000000000002,0.76300000000000001,226.69800000000001]
[{"$f":"Clavet!A457","v":"  2019/03/19 19:00:00"},0.753,9.6000000000000002E-2,8.4309999999999992,8.5269999999999992,-3.4000000000000002E-2,7.2729999999999997,0,4.4119999999999999,60.503,1.7569999999999999,279.947]
[{"$f":"Clavet!A458","v":"  2019/03/19 20:00:00"},0.82299999999999995,0.159,10.233000000000001,10.391,0.13,8.7319999999999993,0,3.5379999999999998,63.39,1.6559999999999999,321.20800000000003]
[{"$f":"Clavet!A459","v":"  2019/03/19 21:00:00"},0.61299999999999999,8.1000000000000003E-2,9.5370000000000008,9.6180000000000003,0.16600000000000001,9.6639999999999997,0,2.4350000000000001,66.382000000000005,1.7,315.3]
[{"$f":"Clavet!A460","v":"  2019/03/19 22:00:00"},0.64400000000000002,6.9000000000000006E-2,9.1739999999999995,9.2430000000000003,0.22600000000000001,10.861000000000001,0,1.7370000000000001,67.495999999999995,1.633,329.12599999999998]
[{"$f":"Clavet!A461","v":"  2019/03/19 23:00:00"},0.54,8.1000000000000003E-2,9.4969999999999999,9.577,0.44700000000000001,13.098000000000001,0,0.55200000000000005,69.563000000000002,0.61899999999999999,316.27699999999999]
[{"$f":"Clavet!A462","v":"  2019/03/20 00:00:00"},0.45400000000000001,0.13900000000000001,8.7309999999999999,8.8689999999999998,0.252,16.483000000000001,0,8.5999999999999993E-2,69.546999999999997,0.26500000000000001,333.14800000000002]
[{"$f":"Clavet!A463","v":"  2019/03/20 01:00:00"},0.46400000000000002,0.123,8.8949999999999996,9.0180000000000007,0.245,17.341000000000001,0,0.24399999999999999,68.016999999999996,0.48899999999999999,305.25400000000002]
[{"$f":"Clavet!A464","v":"  2019/03/20 02:00:00"},0.19800000000000001,0.127,8.0050000000000008,8.1319999999999997,0.34,22.212,0,-2.6579999999999999,75.305999999999997,0.112,239.26900000000001]
[{"$f":"Clavet!A465","v":"  2019/03/20 03:00:00"},"        Z","        Z","        Z","        Z","        Z",27.030999999999999,0,-3.274,77.451999999999998,0.40899999999999997,161.87700000000001]
[{"$f":"Clavet!A466","v":"  2019/03/20 04:00:00"},0.10299999999999999,0.185,11.614000000000001,11.798,0.79100000000000004,26.343,0,-3.4710000000000001,75.63,0.155,136.017]
[{"$f":"Clavet!A467","v":"  2019/03/20 05:00:00"},0.09,0.19700000000000001,10.858000000000001,11.055999999999999,0.40100000000000002,25.823,0,-5.1740000000000004,77.046000000000006,0.14000000000000001,146.922]
[{"$f":"Clavet!A468","v":"  2019/03/20 06:00:00"},0.03,0.186,12.423999999999999,12.609,0.35899999999999999,25.052,0,-5.1740000000000004,77.436000000000007,0.28699999999999998,276.86200000000002]
[{"$f":"Clavet!A469","v":"  2019/03/20 07:00:00"},-7.0000000000000001E-3,0.57199999999999995,11.106,11.679,0.53400000000000003,24.446999999999999,0,-5.4349999999999996,75.745999999999995,0.27700000000000002,147.93]
[{"$f":"Clavet!A470","v":"  2019/03/20 08:00:00"},0.26300000000000001,3.444,13.105,16.547999999999998,0.88200000000000001,19.087,0,-4.0910000000000002,71.757999999999996,0.495,133.375]
[{"$f":"Clavet!A471","v":"  2019/03/20 09:00:00"},0.41099999999999998,6.1769999999999996,15.073,21.248999999999999,0.86599999999999999,13.426,0,-1.1180000000000001,66.790000000000006,0.76800000000000002,122.054]
[{"$f":"Clavet!A472","v":"  2019/03/20 10:00:00"},0.76700000000000002,6.9809999999999999,15.08,22.061,0.73499999999999999,10.4,0,1.0529999999999999,62.860999999999997,0.82599999999999996,75.991]
[{"$f":"Clavet!A473","v":"  2019/03/20 11:00:00"},0.879,6.0670000000000002,14.206,20.273,0.65900000000000003,9.8320000000000007,0,3.7730000000000001,54.746000000000002,0.629,148.422]
[{"$f":"Clavet!A474","v":"  2019/03/20 12:00:00"},1.27,4.4960000000000004,12.435,16.931000000000001,0.29799999999999999,10.686999999999999,0,5.8369999999999997,50.677999999999997,1.093,202.27699999999999]
[{"$f":"Clavet!A475","v":"  2019/03/20 13:00:00"},1.254,3.1859999999999999,11.590999999999999,14.776999999999999,0.161,15.94,0,6.5430000000000001,49.780999999999999,1.3049999999999999,182.67400000000001]
[{"$f":"Clavet!A476","v":"  2019/03/20 14:00:00"},1.1479999999999999,0.79400000000000004,10.55,11.343999999999999,0.14199999999999999,29.841000000000001,0,8.1020000000000003,45.662999999999997,0.98399999999999999,199.44300000000001]
[{"$f":"Clavet!A477","v":"  2019/03/20 15:00:00"},1.1100000000000001,1.069,11.401999999999999,12.47,2.9000000000000001E-2,25.657,0,8.3279999999999994,45.613,1.429,187.702]
[{"$f":"Clavet!A478","v":"  2019/03/20 16:00:00"},1.006,1.3180000000000001,9.718,11.036,0.03,15.909000000000001,0,8.766,45.470999999999997,1.292,187.86699999999999]
[{"$f":"Clavet!A479","v":"  2019/03/20 17:00:00"},1.1279999999999999,1.034,10.959,11.993,3.1E-2,13.763999999999999,0,8.6150000000000002,46.262999999999998,0.98499999999999999,198.40600000000001]
[{"$f":"Clavet!A480","v":"  2019/03/20 18:00:00"},1.222,0.45,11.276,11.727,-2.5999999999999999E-2,14.026,0,7.984,48.188000000000002,0.36099999999999999,185.994]
[{"$f":"Clavet!A481","v":"  2019/03/20 19:00:00"},0.86499999999999999,0.24099999999999999,12.709,12.951000000000001,0.124,15.538,0,4.5830000000000002,60.454000000000001,0.34,232.65700000000001]
[{"$f":"Clavet!A482","v":"  2019/03/20 20:00:00"},0.53900000000000003,0.20499999999999999,12.701000000000001,12.907,0.185,17.506,0,1.7549999999999999,68.754999999999995,0.185,289.65800000000002]
[{"$f":"Clavet!A483","v":"  2019/03/20 21:00:00"},0.188,0.82299999999999995,13.417999999999999,14.241,0.13200000000000001,21.189,0,0.41499999999999998,72.375,0.26,140.886]
[{"$f":"Clavet!A484","v":"  2019/03/20 22:00:00"},0.22500000000000001,0.218,13.926,14.144,0.16600000000000001,24.878,0,-0.20899999999999999,73.718999999999994,0.224,259.77300000000002]
[{"$f":"Clavet!A485","v":"  2019/03/20 23:00:00"},0.13100000000000001,0.253,12.129,12.382,0.28699999999999998,25.588999999999999,0,-1.4870000000000001,75.394000000000005,7.1999999999999995E-2,301.73599999999999]
[{"$f":"Clavet!A486","v":"  2019/03/21 00:00:00"},9.6000000000000002E-2,0.25700000000000001,11.887,12.144,0.627,29.317,0,-2.137,76.951999999999998,0.79500000000000004,317.60500000000002]
[{"$f":"Clavet!A487","v":"  2019/03/21 01:00:00"},8.1000000000000003E-2,0.316,12.994,13.308999999999999,1.69,29.952000000000002,0,-2.7269999999999999,76.38,0.48599999999999999,314.90300000000002]
[{"$f":"Clavet!A488","v":"  2019/03/21 02:00:00"},"        Z","        Z","        Z","        Z","        Z",31.433,0,-3.7629999999999999,77.204999999999998,0.27900000000000003,283.00200000000001]
[{"$f":"Clavet!A489","v":"  2019/03/21 03:00:00"},1.0999999999999999E-2,0.16700000000000001,12.196999999999999,12.363,1.8120000000000001,33.813000000000002,0,-4.0179999999999998,78.894000000000005,1.0640000000000001,311.30599999999998]
[{"$f":"Clavet!A490","v":"  2019/03/21 04:00:00"},0.11,0.27800000000000002,11.885,12.163,0.88700000000000001,33.253,0,-2.3969999999999998,76.082999999999998,1.919,321.834]
[{"$f":"Clavet!A491","v":"  2019/03/21 05:00:00"},0.33600000000000002,0.17499999999999999,11.042999999999999,11.218,0.33500000000000002,22.53,0,-1.8979999999999999,70.491,1.421,328.95600000000002]
[{"$f":"Clavet!A492","v":"  2019/03/21 06:00:00"},0.36699999999999999,0.182,10.346,10.528,0.39300000000000002,19.013999999999999,0,-3.23,71.456999999999994,0.90900000000000003,330.14299999999997]
[{"$f":"Clavet!A493","v":"  2019/03/21 07:00:00"},0.122,1.6930000000000001,12.395,14.087999999999999,0.48499999999999999,17.582999999999998,0,-4.54,74.13,0.433,310.27300000000002]
[{"$f":"Clavet!A494","v":"  2019/03/21 08:00:00"},0.30199999999999999,6.0540000000000003,20.818999999999999,26.873000000000001,0.42499999999999999,12.343999999999999,0,-2.1150000000000002,67.762,0.375,312.21100000000001]
[{"$f":"Clavet!A495","v":"  2019/03/21 09:00:00"},1.1040000000000001,7.625,16.794,24.419,0.41099999999999998,6.55,0,2.1909999999999998,58.427999999999997,0.66700000000000004,103.048]
[{"$f":"Clavet!A496","v":"  2019/03/21 10:00:00"},1.532,1.1160000000000001,7.1909999999999998,8.3070000000000004,0.26300000000000001,3.73,0,2.782,58.692,2.23,103.919]
[{"$f":"Clavet!A497","v":"  2019/03/21 11:00:00"},0.72499999999999998,0.50600000000000001,4.407,4.9130000000000003,0.221,2.2930000000000001,0,4.7220000000000004,52.527999999999999,3.0990000000000002,113]
[{"$f":"Clavet!A498","v":"  2019/03/21 12:00:00"},0.38700000000000001,0.23899999999999999,3.1179999999999999,3.3570000000000002,0.18,1.306,0,6.077,49.253,3.218,115.676]
[{"$f":"Clavet!A499","v":"  2019/03/21 13:00:00"},0.20699999999999999,0.38100000000000001,2.948,3.3290000000000002,0.13300000000000001,1.099,0,6.0860000000000003,51.523000000000003,3.1949999999999998,108.831]
[{"$f":"Clavet!A500","v":"  2019/03/21 14:00:00"},0.29799999999999999,0.33600000000000002,2.7549999999999999,3.0910000000000002,0.152,1.006,0,5.82,54.125,3.246,103.867]
[{"$f":"Clavet!A501","v":"  2019/03/21 15:00:00"},0.32300000000000001,0.52400000000000002,3.0449999999999999,3.57,8.6999999999999994E-2,1.161,0,5.9640000000000004,54.152000000000001,3.19,105.73]
[{"$f":"Clavet!A502","v":"  2019/03/21 16:00:00"},0.57199999999999995,0.28399999999999997,2.802,3.0859999999999999,-5.2999999999999999E-2,1.385,0,6.9,50.18,3.097,123.23]
[{"$f":"Clavet!A503","v":"  2019/03/21 17:00:00"},1.724,0.27,3.024,3.294,0.127,1.444,0,6.5839999999999996,52.360999999999997,2.411,129.315]
[{"$f":"Clavet!A504","v":"  2019/03/21 18:00:00"},6.0839999999999996,0.19900000000000001,3.5790000000000002,3.778,0.151,1.66,0,5.649,56.225000000000001,2.3010000000000002,117.741]
[{"$f":"Clavet!A505","v":"  2019/03/21 19:00:00"},0.71799999999999997,5.6000000000000001E-2,3.5720000000000001,3.629,0.16200000000000001,1.663,0,3.5739999999999998,63.63,1.4610000000000001,115.601]
[{"$f":"Clavet!A506","v":"  2019/03/21 20:00:00"},0.27800000000000002,-5.0000000000000001E-3,3.6429999999999998,3.6379999999999999,0.23400000000000001,1.9059999999999999,0,1.9259999999999999,68.414000000000001,1.218,114.07]
[{"$f":"Clavet!A507","v":"  2019/03/21 21:00:00"},9.7000000000000003E-2,-2.5000000000000001E-2,4.29,4.2649999999999997,0.26200000000000001,1.94,0,1.5509999999999999,69.257999999999996,1.478,135.97200000000001]
[{"$f":"Clavet!A508","v":"  2019/03/21 22:00:00"},0.81200000000000006,-1.4999999999999999E-2,3.4849999999999999,3.4689999999999999,0.16300000000000001,1.7629999999999999,0,1.5269999999999999,69.709999999999994,1.605,134.28700000000001]
[{"$f":"Clavet!A509","v":"  2019/03/21 23:00:00"},3.056,6.2E-2,5.0369999999999999,5.101,0.16400000000000001,2.0419999999999998,0,0.68700000000000006,72.471999999999994,1.5269999999999999,132.28899999999999]
[{"$f":"Clavet!A510","v":"  2019/03/22 00:00:00"},2.8010000000000002,-4.0000000000000001E-3,4.5750000000000002,4.57,0.26200000000000001,2.2269999999999999,0,-0.59699999999999998,76.301000000000002,0.91200000000000003,113.078]
[{"$f":"Clavet!A511","v":"  2019/03/22 01:00:00"},"        Z","        Z","        Z","        Z","        Z",2.6970000000000001,0,-1.2490000000000001,78.316999999999993,1.3859999999999999,116.247]
[{"$f":"Clavet!A512","v":"  2019/03/22 02:00:00"},0.28299999999999997,0.04,6.6630000000000003,6.7030000000000003,0.439,3.444,0,-1.726,79.926000000000002,1.552,123.55200000000001]
[{"$f":"Clavet!A513","v":"  2019/03/22 03:00:00"},2.8000000000000001E-2,1.2999999999999999E-2,4.0339999999999998,4.0469999999999997,0.435,5.2990000000000004,0,-2.0409999999999999,82.037000000000006,1.669,129.876]
[{"$f":"Clavet!A514","v":"  2019/03/22 04:00:00"},0.14699999999999999,7.1999999999999995E-2,3.754,3.8260000000000001,0.29799999999999999,5.5629999999999997,0,-2.347,82.438999999999993,1.8560000000000001,128.279]
[{"$f":"Clavet!A515","v":"  2019/03/22 05:00:00"},0.218,9.4E-2,4.5350000000000001,4.6280000000000001,0.30099999999999999,6.306,0,-2.1800000000000002,82.084999999999994,2.3540000000000001,135.602]
[{"$f":"Clavet!A516","v":"  2019/03/22 06:00:00"},2.2749999999999999,5.0999999999999997E-2,5.1120000000000001,5.1630000000000003,0.159,7.2610000000000001,0,-2.5030000000000001,82.269000000000005,1.827,142.881]
[{"$f":"Clavet!A517","v":"  2019/03/22 07:00:00"},3.2149999999999999,0.32700000000000001,6.617,6.9429999999999996,0.23200000000000001,8.2010000000000005,0,-3.5670000000000002,82.432000000000002,0.82799999999999996,148.40100000000001]
[{"$f":"Clavet!A518","v":"  2019/03/22 08:00:00"},2.1989999999999998,0.89200000000000002,4.5579999999999998,5.45,0.41299999999999998,7.0910000000000002,0,-2.2709999999999999,81.051000000000002,1.82,144.49]
[{"$f":"Clavet!A519","v":"  2019/03/22 09:00:00"},0.94699999999999995,1.01,3.5539999999999998,4.5640000000000001,0.246,3.8879999999999999,0,-0.20399999999999999,76.363,2.343,148.45099999999999]
[{"$f":"Clavet!A520","v":"  2019/03/22 10:00:00"},0.61,1.2789999999999999,3.9209999999999998,5.2009999999999996,0.104,2.5529999999999999,0,1.629,71.084999999999994,1.984,130.97499999999999]
[{"$f":"Clavet!A521","v":"  2019/03/22 11:00:00"},0.50900000000000001,1.3380000000000001,3.9039999999999999,5.2409999999999997,0.23,2.5049999999999999,0,3.6480000000000001,65.787000000000006,2.0459999999999998,132.958]
[{"$f":"Clavet!A522","v":"  2019/03/22 12:00:00"},0.318,0.75600000000000001,3.6040000000000001,4.3609999999999998,0.17499999999999999,3.1619999999999999,0,4.9909999999999997,62.935000000000002,2.012,131.423]
[{"$f":"Clavet!A523","v":"  2019/03/22 13:00:00"},1.286,1.6539999999999999,4.8730000000000002,6.5279999999999996,0.17299999999999999,3.4220000000000002,0,5.3079999999999998,64.265000000000001,1.913,89.162000000000006]
[{"$f":"Clavet!A524","v":"  2019/03/22 14:00:00"},5.0410000000000004,0.72099999999999997,4.4370000000000003,5.1580000000000004,0.189,3.2789999999999999,0,6.9340000000000002,58.228999999999999,2.206,109.55500000000001]
[{"$f":"Clavet!A525","v":"  2019/03/22 15:00:00"},3.9180000000000001,0.52600000000000002,4.2039999999999997,4.7290000000000001,8.9999999999999993E-3,3.8460000000000001,0,7.9450000000000003,55.107999999999997,2.1589999999999998,119.532]
[{"$f":"Clavet!A526","v":"  2019/03/22 16:00:00"},0.81,0.442,4.2149999999999999,4.657,9.7000000000000003E-2,4.0510000000000002,0,8.1669999999999998,55.49,2.0070000000000001,114.789]
[{"$f":"Clavet!A527","v":"  2019/03/22 17:00:00"},2.8140000000000001,0.56499999999999995,4.4020000000000001,4.968,0.13600000000000001,4.0940000000000003,0,7.2279999999999998,59.518999999999998,1.411,103.369]
[{"$f":"Clavet!A528","v":"  2019/03/22 18:00:00"},1.2450000000000001,0.154,4.593,4.7469999999999999,7.0999999999999994E-2,"       AF",0,6.57,60.384,1.099,110.815]
[{"$f":"Clavet!A529","v":"  2019/03/22 19:00:00"},0.41599999999999998,0.189,5.8730000000000002,6.0629999999999997,0.25600000000000001,"       AF",0,4.0069999999999997,70.385000000000005,0.61699999999999999,127.71299999999999]
[{"$f":"Clavet!A530","v":"  2019/03/22 20:00:00"},0.65,0.13200000000000001,8.2279999999999998,8.359,0.39700000000000002,"       AF",0,2.0779999999999998,75.686999999999998,0.2,307.49599999999998]
[{"$f":"Clavet!A531","v":"  2019/03/22 21:00:00"},0.152,0.17499999999999999,11.147,11.321,0.25900000000000001,"       AF",0,0.74199999999999999,79.225999999999999,0.64800000000000002,308.70100000000002]
[{"$f":"Clavet!A532","v":"  2019/03/22 22:00:00"},-2.7E-2,0.219,8.5289999999999999,8.7490000000000006,0.19500000000000001,"       AF",0,-0.70599999999999996,81.063999999999993,0.85,317.33100000000002]
[{"$f":"Clavet!A533","v":"  2019/03/22 23:00:00"},0.17399999999999999,0.26300000000000001,10.179,10.44,0.23799999999999999,"       AF",0,-0.91400000000000003,83.177999999999997,1.401,325.87299999999999]
[{"$f":"Clavet!A534","v":"  2019/03/23 00:00:00"},"        Z","        Z","        Z","        Z","        Z","       AF",0,-1.3879999999999999,83.498999999999995,1.3560000000000001,325.06900000000002]
[{"$f":"Clavet!A535","v":"  2019/03/23 01:00:00"},0.26500000000000001,0.126,9.1229999999999993,9.2479999999999993,0.69699999999999995,"       AF",0,-2.3029999999999999,82.692999999999998,0.79900000000000004,317.47500000000002]
[{"$f":"Clavet!A536","v":"  2019/03/23 02:00:00"},8.6999999999999994E-2,0.16200000000000001,9.0809999999999995,9.2430000000000003,0.434,"       AF",0,-2.7549999999999999,82.66,0.42799999999999999,315.47000000000003]
[{"$f":"Clavet!A537","v":"  2019/03/23 03:00:00"},1.4999999999999999E-2,0.19700000000000001,9.5790000000000006,9.7769999999999992,0.60799999999999998,"       AF",0,-3.157,81.691999999999993,0.93799999999999994,325.952]
[{"$f":"Clavet!A538","v":"  2019/03/23 04:00:00"},1.6E-2,0.17399999999999999,10.074999999999999,10.247999999999999,0.81699999999999995,"       AF",0,-3.6280000000000001,81.608999999999995,0.121,306.14100000000002]
[{"$f":"Clavet!A539","v":"  2019/03/23 05:00:00"},-5.0000000000000001E-3,0.24099999999999999,9.2230000000000008,9.4640000000000004,0.72399999999999998,"       AF",0,-4.0190000000000001,83.325000000000003,1.351,324.59899999999999]
[{"$f":"Clavet!A540","v":"  2019/03/23 06:00:00"},8.0000000000000002E-3,9.1999999999999998E-2,9.49,9.5830000000000002,0.66600000000000004,"       AF",0,-3.919,84.591999999999999,1.548,336.57499999999999]
[{"$f":"Clavet!A541","v":"  2019/03/23 07:00:00"},-1E-3,0.64800000000000002,9.798,10.446999999999999,0.318,"       AF",0,-2.9780000000000002,85.25,2.0289999999999999,323.33300000000003]
[{"$f":"Clavet!A542","v":"  2019/03/23 08:00:00"},7.4999999999999997E-2,5.266,12.436999999999999,17.704999999999998,0.33300000000000002,"       AF",0,-2.0830000000000002,83.656000000000006,2.8780000000000001,329.64699999999999]
[{"$f":"Clavet!A543","v":"  2019/03/23 09:00:00"},0.307,2.8260000000000001,7.4240000000000004,10.249000000000001,0.25,"       AF",0,0.66500000000000004,80.676000000000002,2.2989999999999999,333.88600000000002]
[{"$f":"Clavet!A544","v":"  2019/03/23 10:00:00"},0.437,2.31,7.0970000000000004,9.407,0.19600000000000001,"       AF",0,3.0710000000000002,74.272999999999996,2.6749999999999998,356.99099999999999]
[{"$f":"Clavet!A545","v":"  2019/03/23 11:00:00"},0.38800000000000001,0.59399999999999997,4.1500000000000004,4.7450000000000001,0.125,"       AF",0,6.2939999999999996,62.19,2.044,13.42]
[{"$f":"Clavet!A546","v":"  2019/03/23 12:00:00"},0.30599999999999999,0.30599999999999999,3.242,3.5489999999999999,5.3999999999999999E-2,"       AF",0,8.3309999999999995,52.930999999999997,2.6579999999999999,51.112000000000002]
[{"$f":"Clavet!A547","v":"  2019/03/23 13:00:00"},0.35199999999999998,0.223,2.6219999999999999,2.8450000000000002,4.7E-2,"       AF",0,8.99,49.558,3.61,69.727999999999994]
[{"$f":"Clavet!A548","v":"  2019/03/23 14:00:00"},0.219,0.14099999999999999,2.0579999999999998,2.2000000000000002,-2.5000000000000001E-2,"       AF",0,8.8010000000000002,50.695999999999998,3.2389999999999999,81.870999999999995]
[{"$f":"Clavet!A549","v":"  2019/03/23 15:00:00"},0.151,9.7000000000000003E-2,1.7689999999999999,1.867,7.0999999999999994E-2,"       AF",0,9.5749999999999993,45.551000000000002,3.879,67.108999999999995]
[{"$f":"Clavet!A550","v":"  2019/03/23 16:00:00"},6.4000000000000001E-2,9.4E-2,1.4850000000000001,1.579,-4.2000000000000003E-2,"       AF",0,9.218,44.793999999999997,3.266,76.850999999999999]
[{"$f":"Clavet!A551","v":"  2019/03/23 17:00:00"},3.3000000000000002E-2,0.30599999999999999,2.1469999999999998,2.4540000000000002,1.4E-2,"       AF",0,8.7829999999999995,47.302999999999997,1.877,88.474000000000004]
[{"$f":"Clavet!A552","v":"  2019/03/23 18:00:00"},-1.6E-2,0.22800000000000001,2.399,2.6280000000000001,-8.1000000000000003E-2,"       AF",0,7.3620000000000001,51.604999999999997,1.089,83.445999999999998]
[{"$f":"Clavet!A553","v":"  2019/03/23 19:00:00"},7.8E-2,9.1999999999999998E-2,3.0950000000000002,3.1890000000000001,4.1000000000000002E-2,"       AF",0,6.0259999999999998,52.42,1.3120000000000001,42.146000000000001]
[{"$f":"Clavet!A554","v":"  2019/03/23 20:00:00"},0.109,2.4E-2,1.357,1.3839999999999999,8.7999999999999995E-2,"       AF",0,5.1040000000000001,54.875,3.3010000000000002,60.676000000000002]
[{"$f":"Clavet!A555","v":"  2019/03/23 21:00:00"},-2.1999999999999999E-2,3.4000000000000002E-2,1.1930000000000001,1.2290000000000001,5.0999999999999997E-2,"       AF",0,2.8620000000000001,65.796000000000006,3.9889999999999999,67.978999999999999]
[{"$f":"Clavet!A556","v":"  2019/03/23 22:00:00"},-4.0000000000000001E-3,7.0000000000000001E-3,0.78600000000000003,0.79500000000000004,-7.5999999999999998E-2,"       AF",0,1.212,70.503,3.6840000000000002,66.587999999999994]
[{"$f":"Clavet!A557","v":"  2019/03/23 23:00:00"},"        Z","        Z","        Z","        Z","        Z","       AF",0,9.2999999999999999E-2,73.123000000000005,2.6059999999999999,60.048999999999999]
[{"$f":"Clavet!A558","v":"  2019/03/24 00:00:00"},0.17599999999999999,0.06,1.19,1.2509999999999999,4.4999999999999998E-2,"       AF",0,-0.99399999999999999,75.822999999999993,1.454,67.528999999999996]
[{"$f":"Clavet!A559","v":"  2019/03/24 01:00:00"},0.19,5.3999999999999999E-2,3.681,3.7360000000000002,-3.9E-2,"       AF",0,-1.774,73.697000000000003,1.5289999999999999,111.023]
[{"$f":"Clavet!A560","v":"  2019/03/24 02:00:00"},0.154,0.107,1.8169999999999999,1.9259999999999999,0.12,"       AF",0,-2.6509999999999998,74.495000000000005,1.3939999999999999,113.405]
[{"$f":"Clavet!A561","v":"  2019/03/24 03:00:00"},0.121,3.1E-2,2.27,2.3010000000000002,0.13600000000000001,"       AF",0,-3.274,76.144999999999996,1.0089999999999999,115.798]
[{"$f":"Clavet!A562","v":"  2019/03/24 04:00:00"},0.27500000000000002,0.06,1.246,1.306,7.8E-2,"       AF",0,-2.492,77.453000000000003,1.903,120.33199999999999]
[{"$f":"Clavet!A563","v":"  2019/03/24 05:00:00"},0.55100000000000005,8.5000000000000006E-2,0.96899999999999997,1.054,2.1999999999999999E-2,"       AF",0,-2.3919999999999999,78.447000000000003,2.621,146.44800000000001]
[{"$f":"Clavet!A564","v":"  2019/03/24 06:00:00"},0.39,0.08,0.76100000000000001,0.84099999999999997,0.111,"       AF",0,-2.6709999999999998,79.575000000000003,2.2149999999999999,127.38200000000001]
[{"$f":"Clavet!A565","v":"  2019/03/24 07:00:00"},0.52100000000000002,4.5999999999999999E-2,0.82899999999999996,0.876,0.11700000000000001,"       AF",0,-2.8740000000000001,78.63,2.3980000000000001,125.682]
[{"$f":"Clavet!A566","v":"  2019/03/24 08:00:00"},0.77100000000000002,0.60099999999999998,1.0269999999999999,1.6279999999999999,6.7000000000000004E-2,"       AF",0,-3.016,77.141000000000005,2.2589999999999999,130.304]
[{"$f":"Clavet!A567","v":"  2019/03/24 09:00:00"},1.47,0.26600000000000001,0.93200000000000005,1.1970000000000001,6.7000000000000004E-2,"       AF",0,-3.1509999999999998,76.218999999999994,2.5059999999999998,111.941]
[{"$f":"Clavet!A568","v":"  2019/03/24 10:00:00"},0.51100000000000001,0.11899999999999999,0.57099999999999995,0.68700000000000006,-2E-3,"       AF",0,-2.8490000000000002,74.534000000000006,2.3940000000000001,114.998]
[{"$f":"Clavet!A569","v":"  2019/03/24 11:00:00"},0.32800000000000001,0.128,0.76,0.88600000000000001,7.0000000000000007E-2,"       AF",0,-2.66,73.373000000000005,2.464,113.935]
[{"$f":"Clavet!A570","v":"  2019/03/24 12:00:00"},0.52100000000000002,0.311,0.88700000000000001,1.196,9.2999999999999999E-2,"       AF",0,-2.048,71.227000000000004,2.2879999999999998,106.761]
[{"$f":"Clavet!A571","v":"  2019/03/24 13:00:00"},0.59899999999999998,0.32900000000000001,0.86599999999999999,1.1919999999999999,7.3999999999999996E-2,"       AF",0,-1.4219999999999999,68.647000000000006,1.923,110.89400000000001]
[{"$f":"Clavet!A572","v":"  2019/03/24 14:00:00"},0.70299999999999996,0.254,0.88500000000000001,1.1359999999999999,0.159,4.0010000000000003,0,-0.56200000000000006,65.44,1.8160000000000001,120.22799999999999]
[{"$f":"Clavet!A573","v":"  2019/03/24 15:00:00"},1.1319999999999999,0.33100000000000002,0.86599999999999999,1.194,-2.5999999999999999E-2,3.1269999999999998,0,5.6000000000000001E-2,62.116,2.351,156.97999999999999]
[{"$f":"Clavet!A574","v":"  2019/03/24 16:00:00"},3.4889999999999999,0.32600000000000001,1.0720000000000001,1.3959999999999999,3.5999999999999997E-2,2.6269999999999998,0,0.49099999999999999,61.148000000000003,2.2410000000000001,171.048]
[{"$f":"Clavet!A575","v":"  2019/03/24 17:00:00"},2.2090000000000001,0.23400000000000001,0.92400000000000004,1.1539999999999999,0.02,2.3380000000000001,0,0.40500000000000003,60.420999999999999,2.464,149.16800000000001]
[{"$f":"Clavet!A576","v":"  2019/03/24 18:00:00"},0.188,0.24299999999999999,0.86299999999999999,1.1020000000000001,8.6999999999999994E-2,2.093,0,-0.08,60.005000000000003,2.0840000000000001,134.33799999999999]
[{"$f":"Clavet!A577","v":"  2019/03/24 19:00:00"},0.14899999999999999,0.61199999999999999,2.2240000000000002,2.8330000000000002,1.7000000000000001E-2,2.4169999999999998,0,-1.43,64.328999999999994,0.76500000000000001,130.26]
[{"$f":"Clavet!A578","v":"  2019/03/24 20:00:00"},0.30099999999999999,6.9000000000000006E-2,2.67,2.7349999999999999,0.154,2.5499999999999998,0,-3.2120000000000002,71.02,0.42799999999999999,149.875]
[{"$f":"Clavet!A579","v":"  2019/03/24 21:00:00"},0.59199999999999997,0.22700000000000001,4.4800000000000004,4.7039999999999997,0.22900000000000001,8.4320000000000004,0,-4.1280000000000001,74.200999999999993,0.373,184.476]
[{"$f":"Clavet!A580","v":"  2019/03/24 22:00:00"},"        Z","        Z","        Z","        Z","        Z",10.742000000000001,0,-4.6769999999999996,75.709999999999994,0.14899999999999999,195.333]
[{"$f":"Clavet!A581","v":"  2019/03/24 23:00:00"},0.27600000000000002,0.20300000000000001,5.7,5.899,0.28599999999999998,11.281000000000001,0,-5.492,77.671000000000006,0.249,173.369]
[{"$f":"Clavet!A582","v":"  2019/03/25 00:00:00"},7.1999999999999995E-2,0.18,7.4050000000000002,7.58,0.97199999999999998,12.906000000000001,0,-6.0039999999999996,78.316999999999993,0.28299999999999997,181.07900000000001]
[{"$f":"Clavet!A583","v":"  2019/03/25 01:00:00"},0.107,0.11700000000000001,7.1180000000000003,7.23,0.86899999999999999,11.929,0,-6.5369999999999999,79.423000000000002,0.434,176.02799999999999]
[{"$f":"Clavet!A584","v":"  2019/03/25 02:00:00"},0.1,0.127,6.2389999999999999,6.3639999999999999,0.82,8.2509999999999994,0,-7.0140000000000002,78.902000000000001,0.51100000000000001,155.21199999999999]
[{"$f":"Clavet!A585","v":"  2019/03/25 03:00:00"},0.11899999999999999,8.5999999999999993E-2,5.2190000000000003,5.3019999999999996,1.694,7.032,0,-7.875,79.113,0.58299999999999996,162.69900000000001]
[{"$f":"Clavet!A586","v":"  2019/03/25 04:00:00"},0.14399999999999999,9.8000000000000004E-2,5.6420000000000003,5.7370000000000001,0.96699999999999997,7.0789999999999997,0,-8.0649999999999995,79.861000000000004,0.57799999999999996,155.52799999999999]
[{"$f":"Clavet!A587","v":"  2019/03/25 05:00:00"},4.8000000000000001E-2,0.128,4.8529999999999998,4.9800000000000004,1.4830000000000001,5.9859999999999998,0,-8.1859999999999999,80,0.80400000000000005,138.14599999999999]
[{"$f":"Clavet!A588","v":"  2019/03/25 06:00:00"},8.7999999999999995E-2,5.8999999999999997E-2,3.6389999999999998,3.6960000000000002,1.0589999999999999,5.4130000000000003,0,-8.4740000000000002,80.055000000000007,0.92300000000000004,120.83199999999999]
[{"$f":"Clavet!A589","v":"  2019/03/25 07:00:00"},0.26500000000000001,0.27700000000000002,3.109,3.3839999999999999,0.749,5.0990000000000002,0,-8.5190000000000001,80.762,1.5720000000000001,109.631]
[{"$f":"Clavet!A590","v":"  2019/03/25 08:00:00"},0.66800000000000004,0.878,2.35,3.2280000000000002,0.56100000000000005,4.1859999999999999,0,-7.2290000000000001,79.528999999999996,1.792,119.68300000000001]
[{"$f":"Clavet!A591","v":"  2019/03/25 09:00:00"},1.7829999999999999,1.1719999999999999,1.9339999999999999,3.105,5.8000000000000003E-2,2.4279999999999999,0,-4.8440000000000003,73.536000000000001,2.444,129.916]
[{"$f":"Clavet!A592","v":"  2019/03/25 10:00:00"},0.38600000000000001,0.90700000000000003,1.617,2.5230000000000001,-3.0000000000000001E-3,1.9790000000000001,0,-3.101,67.484999999999999,2.7330000000000001,139.52099999999999]
[{"$f":"Clavet!A593","v":"  2019/03/25 11:00:00"},0.27800000000000002,0.90100000000000002,1.538,2.4380000000000002,0.03,2.2309999999999999,0,-1.0069999999999999,63.649000000000001,2.8559999999999999,136.06899999999999]
[{"$f":"Clavet!A594","v":"  2019/03/25 12:00:00"},0.245,0.66800000000000004,1.39,2.0569999999999999,-5.0999999999999997E-2,2.1970000000000001,0,0.92400000000000004,61.143000000000001,3.1429999999999998,128.87700000000001]
[{"$f":"Clavet!A595","v":"  2019/03/25 13:00:00"},0.25,0.46500000000000002,1.4350000000000001,1.9,-0.129,2.331,0,2.6829999999999998,58.347999999999999,3.2570000000000001,132.02799999999999]
[{"$f":"Clavet!A596","v":"  2019/03/25 14:00:00"},0.20100000000000001,0.216,1.3779999999999999,1.5940000000000001,-6.5000000000000002E-2,2.577,0,3.726,57.895000000000003,3.427,139.69399999999999]
[{"$f":"Clavet!A597","v":"  2019/03/25 15:00:00"},0.1,0.215,1.385,1.6,8.6999999999999994E-2,2.548,0,4.18,57.502000000000002,3.698,169.51900000000001]
[{"$f":"Clavet!A598","v":"  2019/03/25 16:00:00"},0.159,0.157,1.411,1.57,8.4000000000000005E-2,2.2909999999999999,0,4.0640000000000001,58.244,3.544,171.09800000000001]
[{"$f":"Clavet!A599","v":"  2019/03/25 17:00:00"},0.17499999999999999,0.60399999999999998,1.482,2.0859999999999999,1.4999999999999999E-2,2.2109999999999999,0,3.7170000000000001,59.792999999999999,2.9940000000000002,164.35]
[{"$f":"Clavet!A600","v":"  2019/03/25 18:00:00"},0.26900000000000002,0.29699999999999999,2.5219999999999998,2.8210000000000002,-4.1000000000000002E-2,2.5880000000000001,0,3.3490000000000002,62.064999999999998,2.145,149.48099999999999]
[{"$f":"Clavet!A601","v":"  2019/03/25 19:00:00"},0.27100000000000002,0.11899999999999999,2.5649999999999999,2.6859999999999999,-0.1,3.4550000000000001,0,2.4260000000000002,66.287000000000006,1.4039999999999999,123.92700000000001]
[{"$f":"Clavet!A602","v":"  2019/03/25 20:00:00"},0.23899999999999999,1E-3,3.6320000000000001,3.6349999999999998,0.55800000000000005,4.3159999999999998,0,1.466,71.399000000000001,1.4059999999999999,116.541]
[{"$f":"Clavet!A603","v":"  2019/03/25 21:00:00"},"        Z","        Z","        Z","        Z","        Z",4.6470000000000002,0,1.5489999999999999,71.320999999999998,1.4830000000000001,125.11499999999999]
[{"$f":"Clavet!A604","v":"  2019/03/25 22:00:00"},0.30499999999999999,0.71099999999999997,4.2409999999999997,4.9550000000000001,0.24199999999999999,3.8929999999999998,0,1.2589999999999999,73.42,1.6060000000000001,146.85599999999999]
[{"$f":"Clavet!A605","v":"  2019/03/25 23:00:00"},0.154,3.9E-2,2.867,2.9079999999999999,0.13500000000000001,3.3450000000000002,0,1.6120000000000001,73.331999999999994,1.661,154.422]
[{"$f":"Clavet!A606","v":"  2019/03/26 00:00:00"},0.183,7.8E-2,2.79,2.8690000000000002,4.3999999999999997E-2,4.5049999999999999,0,1.4670000000000001,74.150999999999996,0.96099999999999997,126.583]
[{"$f":"Clavet!A607","v":"  2019/03/26 01:00:00"},0.24299999999999999,0.154,3.657,3.8119999999999998,0.14499999999999999,5.2190000000000003,0,1.083,76.328999999999994,1.099,123.303]
[{"$f":"Clavet!A608","v":"  2019/03/26 02:00:00"},0.63500000000000001,0.13400000000000001,4.6429999999999998,4.7779999999999996,0.55800000000000005,5.2320000000000002,0,0.66800000000000004,77.381,0.96399999999999997,121.137]
[{"$f":"Clavet!A609","v":"  2019/03/26 03:00:00"},0.46,0.08,4.4210000000000003,4.5030000000000001,0.51900000000000002,7.54,0,-0.223,79.47,0.42699999999999999,339.79199999999997]
[{"$f":"Clavet!A610","v":"  2019/03/26 04:00:00"},0.221,0.23,4.4480000000000004,4.6790000000000003,0.19700000000000001,11.446999999999999,0,-0.73499999999999999,81.335999999999999,0.251,329.37200000000001]
[{"$f":"Clavet!A611","v":"  2019/03/26 05:00:00"},0.308,0.16500000000000001,5.734,5.9,2E-3,13.888999999999999,0,-1.3460000000000001,83.025999999999996,0.873,143.95599999999999]
[{"$f":"Clavet!A612","v":"  2019/03/26 06:00:00"},0.17199999999999999,0.25700000000000001,5.0919999999999996,5.3490000000000002,0.48799999999999999,15.135999999999999,0,-1.7729999999999999,84.674000000000007,0.67600000000000005,124.46299999999999]
[{"$f":"Clavet!A613","v":"  2019/03/26 07:00:00"},0.23200000000000001,0.65400000000000003,5.2889999999999997,5.944,0.80200000000000005,15.036,0,-1.637,84.052000000000007,0.46400000000000002,90.474000000000004]
[{"$f":"Clavet!A614","v":"  2019/03/26 08:00:00"},0.63200000000000001,1.607,4.9359999999999999,6.5430000000000001,0.22900000000000001,13.898999999999999,0,-1.0129999999999999,86.007999999999996,1.5980000000000001,110.334]
[{"$f":"Clavet!A615","v":"  2019/03/26 09:00:00"},1.5680000000000001,1.25,3.2629999999999999,4.5140000000000002,0.17699999999999999,12.561,0,-0.63500000000000001,86.201999999999998,0.749,72.599000000000004]
[{"$f":"Clavet!A616","v":"  2019/03/26 10:00:00"},0.93200000000000005,1.1060000000000001,2.851,3.9569999999999999,0.23599999999999999,14.016999999999999,0,-0.24199999999999999,85.807000000000002,1.361,353.87700000000001]
[{"$f":"Clavet!A617","v":"  2019/03/26 11:00:00"},0.70499999999999996,0.98299999999999998,2.6059999999999999,3.589,0.23400000000000001,11.452999999999999,0,0.186,85.001000000000005,1.323,21.266999999999999]
[{"$f":"Clavet!A618","v":"  2019/03/26 12:00:00"},0.54,1.421,2.9279999999999999,4.3479999999999999,0.154,8.9380000000000006,0,1.256,81.527000000000001,2.0369999999999999,22.042000000000002]
[{"$f":"Clavet!A619","v":"  2019/03/26 13:00:00"},0.46400000000000002,0.91900000000000004,2.65,3.5670000000000002,0.24199999999999999,5.63,0,3.181,74.769000000000005,1.19,29.341000000000001]
[{"$f":"Clavet!A620","v":"  2019/03/26 14:00:00"},0.45400000000000001,1.0569999999999999,2.7429999999999999,3.798,0.13800000000000001,5.1260000000000003,0,4.2409999999999997,70.876000000000005,1.071,178.029]
[{"$f":"Clavet!A621","v":"  2019/03/26 15:00:00"},0.48499999999999999,0.93200000000000005,3.0019999999999998,3.9319999999999999,0.155,5.0410000000000004,0,5.3490000000000002,67.585999999999999,1.466,190.25200000000001]
[{"$f":"Clavet!A622","v":"  2019/03/26 16:00:00"},0.34899999999999998,1.0169999999999999,3.3780000000000001,4.3940000000000001,0.158,7.0430000000000001,0,4.45,72.751000000000005,2.339,200.19499999999999]
[{"$f":"Clavet!A623","v":"  2019/03/26 17:00:00"},0.32800000000000001,1.2849999999999999,4.7709999999999999,6.0549999999999997,0.44700000000000001,8.4960000000000004,0,4.6459999999999999,72.897000000000006,1.5049999999999999,240.86799999999999]
[{"$f":"Clavet!A624","v":"  2019/03/26 18:00:00"},0.33500000000000002,0.45,3.7269999999999999,4.1749999999999998,0.248,5.3849999999999998,0,5.3970000000000002,68.802000000000007,1.518,344.37200000000001]
[{"$f":"Clavet!A625","v":"  2019/03/26 19:00:00"},0.192,0.46500000000000002,2.9609999999999999,3.4239999999999999,6.0999999999999999E-2,6.1210000000000004,0,3.8069999999999999,71.703999999999994,3.004,349.92899999999997]
[{"$f":"Clavet!A626","v":"  2019/03/26 20:00:00"},"        Z","        Z","        Z","        Z","        Z",10.505000000000001,0,2.556,79.085999999999999,3.0059999999999998,350.66800000000001]
[{"$f":"Clavet!A627","v":"  2019/03/26 21:00:00"},0.14799999999999999,0.30599999999999999,3.0529999999999999,3.355,9.0999999999999998E-2,10.73,0,2.0920000000000001,80.731999999999999,2.2669999999999999,348.76100000000002]
[{"$f":"Clavet!A628","v":"  2019/03/26 22:00:00"},0.20899999999999999,0.27800000000000002,3.726,4,0.189,8.6620000000000008,0,1.9410000000000001,81.052000000000007,1.478,340.13]
[{"$f":"Clavet!A629","v":"  2019/03/26 23:00:00"},0.13200000000000001,0.22700000000000001,2.5249999999999999,2.7490000000000001,0.111,6.2140000000000004,0,1.875,81.385999999999996,1.9930000000000001,328.375]
[{"$f":"Clavet!A630","v":"  2019/03/27 00:00:00"},0.17299999999999999,0.16500000000000001,2.8119999999999998,2.9729999999999999,0.14000000000000001,7.8650000000000002,0,1.476,81.188000000000002,2.468,329.05399999999997]
[{"$f":"Clavet!A631","v":"  2019/03/27 01:00:00"},0.185,0.24299999999999999,3.29,3.53,0.09,9.3680000000000003,0,1.641,80.308999999999997,1.5980000000000001,313.625]
[{"$f":"Clavet!A632","v":"  2019/03/27 02:00:00"},0.16900000000000001,9.0999999999999998E-2,3.8319999999999999,3.92,0.111,10.14,0,1.7030000000000001,79.484999999999999,1.476,321.10599999999999]
[{"$f":"Clavet!A633","v":"  2019/03/27 03:00:00"},8.8999999999999996E-2,5.3999999999999999E-2,5.0149999999999997,5.0659999999999998,3.5000000000000003E-2,11.48,0,1.5029999999999999,80.156000000000006,1.972,281.49099999999999]
[{"$f":"Clavet!A634","v":"  2019/03/27 04:00:00"},1.7999999999999999E-2,0.31900000000000001,4.907,5.2229999999999999,3.7999999999999999E-2,12.082000000000001,0,1.548,80.084999999999994,2.5739999999999998,338.85599999999999]
[{"$f":"Clavet!A635","v":"  2019/03/27 05:00:00"},7.0000000000000007E-2,0.23200000000000001,3.702,3.9329999999999998,-0.05,7.7549999999999999,0,1.3240000000000001,78.716999999999999,2.5299999999999998,339.64400000000001]
[{"$f":"Clavet!A636","v":"  2019/03/27 06:00:00"},0.08,9.2999999999999999E-2,2.2959999999999998,2.3860000000000001,-6.6000000000000003E-2,3.706,0,1.1739999999999999,75.899000000000001,2.488,332.34800000000001]
[{"$f":"Clavet!A637","v":"  2019/03/27 07:00:00"},0.13600000000000001,0.36699999999999999,2.657,3.0209999999999999,-7.0999999999999994E-2,2.254,0,1.17,73.358000000000004,2.528,326.92500000000001]
[{"$f":"Clavet!A638","v":"  2019/03/27 08:00:00"},0.123,0.17499999999999999,1.393,1.5660000000000001,7.0000000000000001E-3,1.823,0,1.2629999999999999,71.209000000000003,2.71,327.41800000000001]
[{"$f":"Clavet!A639","v":"  2019/03/27 09:00:00"},6.5000000000000002E-2,0.20899999999999999,1.272,1.4790000000000001,-7.0000000000000007E-2,1.819,0,1.3169999999999999,66.754999999999995,3.5590000000000002,334.45100000000002]
[{"$f":"Clavet!A640","v":"  2019/03/27 10:00:00"},0.3,0.28199999999999997,1.3640000000000001,1.6419999999999999,-4.5999999999999999E-2,2.57,0,1.585,60.109000000000002,4.3600000000000003,333.73599999999999]
[{"$f":"Clavet!A641","v":"  2019/03/27 11:00:00"},0.32800000000000001,0.30199999999999999,1.141,1.44,7.5999999999999998E-2,1.8779999999999999,0,2.2389999999999999,55.426000000000002,4.4130000000000003,339.07600000000002]
[{"$f":"Clavet!A642","v":"  2019/03/27 12:00:00"},8.8999999999999996E-2,0.45100000000000001,1.4470000000000001,1.895,-0.123,1.3740000000000001,0,2.6789999999999998,51.908000000000001,4.8739999999999997,346.27699999999999]
[{"$f":"Clavet!A643","v":"  2019/03/27 13:00:00"},0.313,0.39600000000000002,1.4810000000000001,1.8740000000000001,-9.9000000000000005E-2,2.12,0,2.58,52.747,4.843,342.11599999999999]
[{"$f":"Clavet!A644","v":"  2019/03/27 14:00:00"},0.47099999999999997,0.53900000000000003,1.9490000000000001,2.484,-5.2999999999999999E-2,2.6150000000000002,0,2.2749999999999999,55.841000000000001,4.2249999999999996,342.178]
[{"$f":"Clavet!A645","v":"  2019/03/27 15:00:00"},0.502,0.22900000000000001,1.268,1.494,-0.02,2.859,0,2.363,54.76,4.234,329.30200000000002]
[{"$f":"Clavet!A646","v":"  2019/03/27 16:00:00"},0.21199999999999999,0.23699999999999999,1.0960000000000001,1.33,-0.124,2.3980000000000001,0,2.7730000000000001,52.143000000000001,3.5710000000000002,323.28500000000003]
[{"$f":"Clavet!A647","v":"  2019/03/27 17:00:00"},0.27400000000000002,0.40300000000000002,1.5629999999999999,1.962,-0.17299999999999999,1.9330000000000001,0,3.2650000000000001,50.256,2.8220000000000001,315.089]
[{"$f":"Clavet!A648","v":"  2019/03/27 18:00:00"},0.14799999999999999,3.6999999999999998E-2,1.1379999999999999,1.17,-6.0999999999999999E-2,1.7350000000000001,0,3.1629999999999998,50.627000000000002,1.722,318.322]
[{"$f":"Clavet!A649","v":"  2019/03/27 19:00:00"},"        Z","        Z","        Z","        Z","        Z",1.85,0,2.3849999999999998,55.978999999999999,1.242,301.26400000000001]
[{"$f":"Clavet!A650","v":"  2019/03/27 20:00:00"},0.19500000000000001,1.7999999999999999E-2,3.218,3.2330000000000001,2.3E-2,1.913,0,2.0190000000000001,59.747999999999998,1.9890000000000001,314.11599999999999]
[{"$f":"Clavet!A651","v":"  2019/03/27 21:00:00"},2.1999999999999999E-2,5.7000000000000002E-2,1.859,1.9119999999999999,-7.5999999999999998E-2,1.83,0,0.66500000000000004,67.088999999999999,1.472,336.66]
[{"$f":"Clavet!A652","v":"  2019/03/27 22:00:00"},1E-3,3.5999999999999997E-2,3.6909999999999998,3.7240000000000002,-3.2000000000000001E-2,2.6520000000000001,0,-1.641,73.863,0.28000000000000003,331.85500000000002]
[{"$f":"Clavet!A653","v":"  2019/03/27 23:00:00"},4.2999999999999997E-2,2.1000000000000001E-2,3.637,3.6549999999999998,1.7000000000000001E-2,3.1389999999999998,0,-2.1560000000000001,74.143000000000001,0.52800000000000002,319.565]
[{"$f":"Clavet!A654","v":"  2019/03/28 00:00:00"},-2.4E-2,5.2999999999999999E-2,3.6909999999999998,3.7429999999999999,0.10100000000000001,3.1760000000000002,0,-3.516,77.656999999999996,0.27700000000000002,316.15499999999997]
[{"$f":"Clavet!A655","v":"  2019/03/28 01:00:00"},-3.4000000000000002E-2,7.6999999999999999E-2,3.3340000000000001,3.411,0.221,3.4729999999999999,0,-4.2530000000000001,78.332999999999998,0.47499999999999998,316.03800000000001]
[{"$f":"Clavet!A656","v":"  2019/03/28 02:00:00"},-9.1999999999999998E-2,-5.7000000000000002E-2,3.7450000000000001,3.6880000000000002,0.19700000000000001,3.8279999999999998,0,-4.8890000000000002,78.137,0.46300000000000002,307.91800000000001]
[{"$f":"Clavet!A657","v":"  2019/03/28 03:00:00"},-7.2999999999999995E-2,4.2000000000000003E-2,5.2359999999999998,5.2779999999999996,0.30499999999999999,4.2030000000000003,0,-5.5529999999999999,79.433000000000007,0.33800000000000002,293.05500000000001]
[{"$f":"Clavet!A658","v":"  2019/03/28 04:00:00"},-0.02,0.04,4.9770000000000003,5.0170000000000003,0.19800000000000001,4.4279999999999999,0,-6.0730000000000004,77.507000000000005,0.433,290.94499999999999]
[{"$f":"Clavet!A659","v":"  2019/03/28 05:00:00"},-6.2E-2,8.2000000000000003E-2,6.9260000000000002,7.0069999999999997,0.38700000000000001,5.4219999999999997,0,-6.6139999999999999,80.394000000000005,0.42799999999999999,149.97900000000001]
[{"$f":"Clavet!A660","v":"  2019/03/28 06:00:00"},-5.2999999999999999E-2,8.5000000000000006E-2,9.2449999999999992,9.33,0.69799999999999995,6.2649999999999997,0,-6.6980000000000004,78.748000000000005,6.6000000000000003E-2,201.53200000000001]
[{"$f":"Clavet!A661","v":"  2019/03/28 07:00:00"},-6.0999999999999999E-2,1.349,8.1229999999999993,9.4719999999999995,1.518,6.8,0,-6.85,79.198999999999998,0.33100000000000002,122.667]
[{"$f":"Clavet!A662","v":"  2019/03/28 08:00:00"},-6.0000000000000001E-3,4.6379999999999999,8.7370000000000001,13.377000000000001,1.3260000000000001,3.9060000000000001,0,-3.8039999999999998,80.403000000000006,1.5509999999999999,159.607]
[{"$f":"Clavet!A663","v":"  2019/03/28 09:00:00"},0.23100000000000001,2.5499999999999998,5.82,8.3719999999999999,0.57799999999999996,2.4409999999999998,0,-0.71,73.697999999999993,2.629,176.46199999999999]
[{"$f":"Clavet!A664","v":"  2019/03/28 10:00:00"},0.32100000000000001,1.248,3.0009999999999999,4.25,0.29099999999999998,1.8759999999999999,0,0.94799999999999995,69.209000000000003,2.5249999999999999,194.21899999999999]
[{"$f":"Clavet!A665","v":"  2019/03/28 11:00:00"},0.104,0.89600000000000002,2.8239999999999998,3.7229999999999999,0.307,1.7310000000000001,0,2.6659999999999999,65.774000000000001,2.3319999999999999,195.35499999999999]
[{"$f":"Clavet!A666","v":"  2019/03/28 12:00:00"},0.27,0.59299999999999997,2.1949999999999998,2.7909999999999999,0.11799999999999999,2.246,0,4.3479999999999999,59.892000000000003,2.7679999999999998,248.22]
[{"$f":"Clavet!A667","v":"  2019/03/28 13:00:00"},0.95299999999999996,1.147,3.052,4.2009999999999996,8.5000000000000006E-2,2.9769999999999999,0,6.0940000000000003,55.222000000000001,3.149,270.51799999999997]
[{"$f":"Clavet!A668","v":"  2019/03/28 14:00:00"},1.3480000000000001,0.59899999999999998,2.762,3.3650000000000002,7.0000000000000007E-2,2.032,0,6.5190000000000001,50.076000000000001,3.7850000000000001,296.197]
[{"$f":"Clavet!A669","v":"  2019/03/28 15:00:00"},0.623,0.23300000000000001,1.7350000000000001,1.9710000000000001,-2.4E-2,1.603,0,6.8760000000000003,45.72,4.0960000000000001,296.75700000000001]
[{"$f":"Clavet!A670","v":"  2019/03/28 16:00:00"},0.56599999999999995,0.25600000000000001,1.6950000000000001,1.956,-0.05,1.6719999999999999,0,6.4379999999999997,46.945999999999998,4.1859999999999999,296.18900000000002]
[{"$f":"Clavet!A671","v":"  2019/03/28 17:00:00"},0.57299999999999995,0.157,1.7729999999999999,1.9330000000000001,-4.1000000000000002E-2,1.7050000000000001,0,6.18,47.384999999999998,3.915,295.20499999999998]
[{"$f":"Clavet!A672","v":"  2019/03/28 18:00:00"},"        Z","        Z","        Z","        Z","        Z",2.1280000000000001,0,5.617,51.290999999999997,3.278,295.71100000000001]
[{"$f":"Clavet!A673","v":"  2019/03/28 19:00:00"},0.45600000000000002,1.2E-2,2.5619999999999998,2.577,0.112,3.2280000000000002,0,3.8969999999999998,57.643999999999998,2.6779999999999999,297.22699999999998]
[{"$f":"Clavet!A674","v":"  2019/03/28 20:00:00"},0.33700000000000002,0.60399999999999998,3.81,4.4180000000000001,8.3000000000000004E-2,5.3970000000000002,0,2.621,63.295000000000002,2.0339999999999998,296.24700000000001]
[{"$f":"Clavet!A675","v":"  2019/03/28 21:00:00"},0.30099999999999999,-0.111,3.286,3.1779999999999999,0.188,5.7859999999999996,0,2.4129999999999998,63.951000000000001,2.5609999999999999,293.54199999999997]
[{"$f":"Clavet!A676","v":"  2019/03/28 22:00:00"},0.35599999999999998,-8.1000000000000003E-2,3.7280000000000002,3.6509999999999998,0.13,5.7140000000000004,0,2.5910000000000002,62.914999999999999,2.875,298.149]
[{"$f":"Clavet!A677","v":"  2019/03/28 23:00:00"},0.497,-4.8000000000000001E-2,4.0590000000000002,4.0140000000000002,0.29499999999999998,5.2549999999999999,0,2.323,63.064,3.089,295.762]
[{"$f":"Clavet!A678","v":"  2019/03/29 00:00:00"},0.47299999999999998,-8.9999999999999993E-3,4.66,4.6529999999999996,0.20699999999999999,7.226,0,1.6639999999999999,65.019000000000005,2.5299999999999998,299.76600000000002]
[{"$f":"Clavet!A679","v":"  2019/03/29 01:00:00"},0.56499999999999995,7.0000000000000001E-3,5.3129999999999997,5.3209999999999997,0.29799999999999999,8.0210000000000008,0,0.91400000000000003,66.36,1.468,314.21800000000002]
[{"$f":"Clavet!A680","v":"  2019/03/29 02:00:00"},0.432,-2.7E-2,4.0190000000000001,3.9940000000000002,0.14199999999999999,6.81,0,0.41699999999999998,68.242999999999995,2.3010000000000002,356.49400000000003]
[{"$f":"Clavet!A681","v":"  2019/03/29 03:00:00"},0.113,-9.1999999999999998E-2,1.2949999999999999,1.2050000000000001,7.2999999999999995E-2,3.1429999999999998,0,9.5000000000000001E-2,65.486000000000004,2.5299999999999998,2.9340000000000002]
[{"$f":"Clavet!A682","v":"  2019/03/29 04:00:00"},-0.03,4.7E-2,2.6389999999999998,2.6890000000000001,0.11700000000000001,3.226,0,-1.3240000000000001,65.344999999999999,1.6080000000000001,354.76799999999997]
[{"$f":"Clavet!A683","v":"  2019/03/29 05:00:00"},-4.9000000000000002E-2,-7.0000000000000001E-3,1.7729999999999999,1.768,0.186,3.46,0,-2.9609999999999999,70.356999999999999,1.3240000000000001,339.553]
[{"$f":"Clavet!A684","v":"  2019/03/29 06:00:00"},-5.8000000000000003E-2,-4.4999999999999998E-2,2.3719999999999999,2.3290000000000002,0.151,3.7879999999999998,0,-3.7730000000000001,73.498999999999995,0.96599999999999997,330.95400000000001]
[{"$f":"Clavet!A685","v":"  2019/03/29 07:00:00"},-7.0000000000000001E-3,0.14899999999999999,2.1539999999999999,2.3039999999999998,0.151,3.8090000000000002,0,-2.758,70.795000000000002,1.871,336.17399999999998]
[{"$f":"Clavet!A686","v":"  2019/03/29 08:00:00"},-7.0000000000000001E-3,0.23699999999999999,1.7230000000000001,1.96,0.13500000000000001,2.0270000000000001,0,-0.67400000000000004,64.375,2.476,330.09699999999998]
[{"$f":"Clavet!A687","v":"  2019/03/29 09:00:00"},0.03,0.32700000000000001,1.76,2.0870000000000002,7.0000000000000007E-2,1.363,0,-0.26500000000000001,61.246000000000002,3.206,341.596]
[{"$f":"Clavet!A688","v":"  2019/03/29 10:00:00"},0.01,0.16500000000000001,1.097,1.2609999999999999,0.17,1.292,0,3.5999999999999997E-2,56.838000000000001,3.1560000000000001,353.04399999999998]
[{"$f":"Clavet!A689","v":"  2019/03/29 11:00:00"},-4.5999999999999999E-2,0.152,0.85899999999999999,1.0109999999999999,0.23400000000000001,1.268,0,0.29599999999999999,53.570999999999998,3.2080000000000002,348.46600000000001]
[{"$f":"Clavet!A690","v":"  2019/03/29 12:00:00"},1E-3,0.11799999999999999,0.60399999999999998,0.72199999999999998,0.108,1.3049999999999999,0,0.94599999999999995,50.537999999999997,2.2709999999999999,352.59]
[{"$f":"Clavet!A691","v":"  2019/03/29 13:00:00"},3.3000000000000002E-2,0.13200000000000001,0.70099999999999996,0.83,0.26400000000000001,1.373,0,1.524,49.402999999999999,2.1179999999999999,343.87900000000002]
[{"$f":"Clavet!A692","v":"  2019/03/29 14:00:00"},8.0000000000000002E-3,1.454,1.5349999999999999,2.9870000000000001,0.23300000000000001,1.4339999999999999,0,2.2669999999999999,45.96,1.9570000000000001,328.19499999999999]
[{"$f":"Clavet!A693","v":"  2019/03/29 15:00:00"},-1.9E-2,0.21299999999999999,0.63900000000000001,0.85,7.9000000000000001E-2,1.496,0,2.8450000000000002,44.432000000000002,1.881,329.76499999999999]
[{"$f":"Clavet!A694","v":"  2019/03/29 16:00:00"},6.9000000000000006E-2,0.16,0.68600000000000005,0.84399999999999997,7.4999999999999997E-2,1.4790000000000001,0,3.282,42.73,1.9179999999999999,313.63]
[{"$f":"Clavet!A695","v":"  2019/03/29 17:00:00"},"        Z","        Z","        Z","        Z","        Z",1.488,0,3.6030000000000002,41.661000000000001,1.52,327.53800000000001]
[{"$f":"Clavet!A696","v":"  2019/03/29 18:00:00"},0.27100000000000002,9.6000000000000002E-2,0.92600000000000005,1.0209999999999999,0.248,1.536,0,3.7919999999999998,41.156999999999996,0.76900000000000002,294.69799999999998]
[{"$f":"Clavet!A697","v":"  2019/03/29 19:00:00"},0.13500000000000001,7.8E-2,1.2789999999999999,1.3560000000000001,0.224,2.375,0,1.3089999999999999,54.307000000000002,0.63400000000000001,235.4]
[{"$f":"Clavet!A698","v":"  2019/03/29 20:00:00"},0.109,0.186,5.3,5.4850000000000003,0.16700000000000001,5.5860000000000003,0,-0.24099999999999999,63.256,0.84299999999999997,249.16300000000001]
[{"$f":"Clavet!A699","v":"  2019/03/29 21:00:00"},0.152,6.0999999999999999E-2,4.4370000000000003,4.4960000000000004,0.21299999999999999,5.2169999999999996,0,-0.17199999999999999,63.246000000000002,0.83399999999999996,213.87299999999999]
[{"$f":"Clavet!A700","v":"  2019/03/29 22:00:00"},0.19,0.112,4.4320000000000004,4.5439999999999996,0.22900000000000001,4.5570000000000004,0,-0.25600000000000001,65.932000000000002,0.53700000000000003,172.05099999999999]
[{"$f":"Clavet!A701","v":"  2019/03/29 23:00:00"},0.38400000000000001,0.154,5.1849999999999996,5.3390000000000004,0.28899999999999998,3.8559999999999999,0,-2.3E-2,65.415999999999997,0.98499999999999999,183.76400000000001]
[{"$f":"Clavet!A702","v":"  2019/03/30 00:00:00"},1.0289999999999999,4.9000000000000002E-2,2.444,2.492,0.24,4.67,0,0.109,64.760000000000005,1.7669999999999999,187.179]
[{"$f":"Clavet!A703","v":"  2019/03/30 01:00:00"},0.74199999999999999,5.5E-2,2.206,2.2599999999999998,0.48,5.5869999999999997,0,0,65.730999999999995,2.0329999999999999,188.12799999999999]
[{"$f":"Clavet!A704","v":"  2019/03/30 02:00:00"},0.36199999999999999,2.7E-2,1.726,1.7509999999999999,0.372,4.7869999999999999,0,0.06,65.402000000000001,2.7789999999999999,184.61500000000001]
[{"$f":"Clavet!A705","v":"  2019/03/30 03:00:00"},0.23100000000000001,0.05,1.2809999999999999,1.33,0.10199999999999999,4.6280000000000001,0,9.7000000000000003E-2,65.590999999999994,2.0920000000000001,172.857]
[{"$f":"Clavet!A706","v":"  2019/03/30 04:00:00"},0.20300000000000001,7.5999999999999998E-2,1.7549999999999999,1.831,9.7000000000000003E-2,4.3440000000000003,0,0.20899999999999999,66.703000000000003,2.4020000000000001,183.45500000000001]
[{"$f":"Clavet!A707","v":"  2019/03/30 05:00:00"},0.25600000000000001,5.0999999999999997E-2,1.76,1.8120000000000001,7.5999999999999998E-2,4.0579999999999998,0,0.34499999999999997,66.626000000000005,2.2869999999999999,181.05]
[{"$f":"Clavet!A708","v":"  2019/03/30 06:00:00"},0.34,0.13200000000000001,1.879,2.0110000000000001,0.23100000000000001,4.1390000000000002,0,0.26100000000000001,64.397000000000006,1.6779999999999999,160.58699999999999]
[{"$f":"Clavet!A709","v":"  2019/03/30 07:00:00"},0.35499999999999998,0.30199999999999999,2.5019999999999998,2.8050000000000002,-5.0000000000000001E-3,3.9009999999999998,0,-0.25,65.271000000000001,1.9330000000000001,157.6]
[{"$f":"Clavet!A710","v":"  2019/03/30 08:00:00"},0.36199999999999999,0.747,2.8809999999999998,3.629,-1.2E-2,2.903,0,1.2230000000000001,60.17,1.8,151.13800000000001]
[{"$f":"Clavet!A711","v":"  2019/03/30 09:00:00"},0.33900000000000002,0.83799999999999997,2.3580000000000001,3.198,-7.6999999999999999E-2,2.0209999999999999,0.01,3.4580000000000002,54.44,0.72299999999999998,209.74799999999999]
[{"$f":"Clavet!A712","v":"  2019/03/30 10:00:00"},0.57699999999999996,0.79400000000000004,2.0350000000000001,2.8290000000000002,-7.4999999999999997E-2,2.0510000000000002,0,4.4269999999999996,53.314999999999998,1.7430000000000001,297.46600000000001]
[{"$f":"Clavet!A713","v":"  2019/03/30 11:00:00"},0.76500000000000001,0.96499999999999997,2.5019999999999998,3.4689999999999999,-0.05,2.3839999999999999,0,5.7009999999999996,52.249000000000002,2.411,315.63499999999999]
[{"$f":"Clavet!A714","v":"  2019/03/30 12:00:00"},0.81200000000000006,0.91100000000000003,2.4289999999999998,3.3420000000000001,9.2999999999999999E-2,2.6469999999999998,0,6.8449999999999998,51.142000000000003,3.4670000000000001,319.108]
[{"$f":"Clavet!A715","v":"  2019/03/30 13:00:00"},0.745,0.63600000000000001,2.2949999999999999,2.9329999999999998,-3.6999999999999998E-2,2.72,0,7.9480000000000004,48.804000000000002,3.6389999999999998,326.45]
[{"$f":"Clavet!A716","v":"  2019/03/30 14:00:00"},0.61199999999999999,0.60099999999999998,2.0470000000000002,2.649,-7.9000000000000001E-2,2.2400000000000002,0,9.9109999999999996,43.015000000000001,4.5270000000000001,334.81]
[{"$f":"Clavet!A717","v":"  2019/03/30 15:00:00"},0.47099999999999997,0.45800000000000002,1.6359999999999999,2.0950000000000002,-0.24299999999999999,1.839,0,9.5879999999999992,39.738,5.6280000000000001,338.89600000000002]
[{"$f":"Clavet!A718","v":"  2019/03/30 16:00:00"},"        Z","        Z","        Z","        Z","        Z",1.9239999999999999,0,9.1479999999999997,38.203000000000003,4.7670000000000003,344.58699999999999]
[{"$f":"Clavet!A719","v":"  2019/03/30 17:00:00"},0.501,0.44800000000000001,1.274,1.7250000000000001,-7.3999999999999996E-2,2.222,0,8.8149999999999995,36.802999999999997,4.8840000000000003,348.399]
[{"$f":"Clavet!A720","v":"  2019/03/30 18:00:00"},0.34899999999999998,0.14699999999999999,0.86,1.008,-9.8000000000000004E-2,2.63,0,6.8209999999999997,42.176000000000002,3.9089999999999998,11.417]
[{"$f":"Clavet!A721","v":"  2019/03/30 19:00:00"},0.29399999999999998,0.157,0.86,1.0189999999999999,-0.17899999999999999,3.7639999999999998,0,4.6020000000000003,49.295999999999999,3.089,11.166]
[{"$f":"Clavet!A722","v":"  2019/03/30 20:00:00"},0.26300000000000001,0.16700000000000001,0.85299999999999998,1.022,-0.111,4.8390000000000004,0,2.5710000000000002,56.792999999999999,2.4820000000000002,18.821999999999999]
[{"$f":"Clavet!A723","v":"  2019/03/30 21:00:00"},0.13600000000000001,0.22700000000000001,3.0619999999999998,3.2909999999999999,-0.04,5.78,0,0.38700000000000001,64.718000000000004,0.97499999999999998,355.96899999999999]
[{"$f":"Clavet!A724","v":"  2019/03/30 22:00:00"},0.11600000000000001,0.19900000000000001,3.585,3.7869999999999999,2.1000000000000001E-2,6.4930000000000003,0,-0.21099999999999999,66.960999999999999,0.89700000000000002,354.089]
[{"$f":"Clavet!A725","v":"  2019/03/30 23:00:00"},0.17199999999999999,0.17599999999999999,3.9590000000000001,4.1369999999999996,-3.3000000000000002E-2,6.5419999999999998,0,-0.97899999999999998,69.286000000000001,0.49299999999999999,359.262]
[{"$f":"Clavet!A726","v":"  2019/03/31 00:00:00"},0.121,0.22800000000000001,1.7849999999999999,2.0129999999999999,-9.9000000000000005E-2,7.8680000000000003,0,-2.984,75.340999999999994,0.17199999999999999,16.359000000000002]
[{"$f":"Clavet!A727","v":"  2019/03/31 01:00:00"},0.159,0.104,2.3450000000000002,2.4510000000000001,-0.121,8.9329999999999998,0,-3.8650000000000002,77.644999999999996,0.28799999999999998,341.40800000000002]
[{"$f":"Clavet!A728","v":"  2019/03/31 02:00:00"},0.129,0.19900000000000001,3.1059999999999999,3.3069999999999999,5.1999999999999998E-2,8.8550000000000004,0,-4.2789999999999999,77.712999999999994,0.28000000000000003,343.173]
[{"$f":"Clavet!A729","v":"  2019/03/31 03:00:00"},0.21099999999999999,0.246,3.2050000000000001,3.4529999999999998,4.0000000000000001E-3,8.2149999999999999,0,-4.9109999999999996,77.105999999999995,0.12,34.779000000000003]
[{"$f":"Clavet!A730","v":"  2019/03/31 04:00:00"},0.128,0.53,2.7250000000000001,3.2559999999999998,-7.2999999999999995E-2,7.5549999999999997,0,-4.4130000000000003,74.453000000000003,0.78100000000000003,346.459]
[{"$f":"Clavet!A731","v":"  2019/03/31 05:00:00"},0.14699999999999999,0.14299999999999999,3.3370000000000002,3.4820000000000002,-0.05,5.17,0,-4.3680000000000003,72.980999999999995,0.69199999999999995,343.71800000000002]
[{"$f":"Clavet!A732","v":"  2019/03/31 06:00:00"},0.11799999999999999,0.30099999999999999,5.3369999999999997,5.641,-2.4E-2,3.9380000000000002,0,-4.7009999999999996,73.02,0.88800000000000001,357.46899999999999]
[{"$f":"Clavet!A733","v":"  2019/03/31 07:00:00"},4.2999999999999997E-2,0.39400000000000002,2.7349999999999999,3.13,0.02,3.4159999999999999,0,-4.6790000000000003,73.802999999999997,0.66500000000000004,340.22899999999998]
[{"$f":"Clavet!A734","v":"  2019/03/31 08:00:00"},0.17699999999999999,0.91400000000000003,3.7130000000000001,4.6280000000000001,0.01,2.4870000000000001,0,-3.0590000000000002,68.650999999999996,1.677,346.07]
[{"$f":"Clavet!A735","v":"  2019/03/31 09:00:00"},0.16700000000000001,0.66400000000000003,1.8440000000000001,2.5110000000000001,2.1000000000000001E-2,1.5609999999999999,0,-1.8580000000000001,62.331000000000003,2.1190000000000002,359.68200000000002]
[{"$f":"Clavet!A736","v":"  2019/03/31 10:00:00"},3.5000000000000003E-2,0.40899999999999997,0.96899999999999997,1.3779999999999999,-4.7E-2,1.3620000000000001,0,-0.53100000000000003,54.997,1.78,0.109]
[{"$f":"Clavet!A737","v":"  2019/03/31 11:00:00"},7.5999999999999998E-2,0.29099999999999998,0.68300000000000005,0.97799999999999998,-8.8999999999999996E-2,1.329,0,0.81699999999999995,46.292000000000002,1.097,347.875]
[{"$f":"Clavet!A738","v":"  2019/03/31 12:00:00"},0.106,0.33900000000000002,0.57499999999999996,0.91600000000000004,1.2E-2,1.3340000000000001,0,1.637,44.154000000000003,1.131,316.08600000000001]
[{"$f":"Clavet!A739","v":"  2019/03/31 13:00:00"},0.20699999999999999,0.23100000000000001,0.51700000000000002,0.749,-5.1999999999999998E-2,1.3839999999999999,0,2.15,40.287999999999997,1.5069999999999999,313.44200000000001]
[{"$f":"Clavet!A740","v":"  2019/03/31 14:00:00"},0.16900000000000001,0.28999999999999998,0.64500000000000002,0.93799999999999994,-3.0000000000000001E-3,1.4650000000000001,0,2.6309999999999998,38.670999999999999,1.0840000000000001,330.37599999999998]
[{"$f":"Clavet!A741","v":"  2019/03/31 15:00:00"},"        Z","        Z","        Z","        Z","        Z",1.591,0,3.2690000000000001,38.438000000000002,1.524,231.334]
[{"$f":"Clavet!A742","v":"  2019/03/31 16:00:00"},0.28899999999999998,0.38800000000000001,1.216,1.6060000000000001,0.01,1.623,0,3.4689999999999999,39.125,1.8819999999999999,237.34299999999999]
[{"$f":"Clavet!A743","v":"  2019/03/31 17:00:00"},0.27200000000000002,0.32800000000000001,1.137,1.4670000000000001,3.9E-2,1.66,0,3.593,38.210999999999999,2.2360000000000002,250.935]
[{"$f":"Clavet!A744","v":"  2019/03/31 18:00:00"},1.355,0.39,2.1909999999999998,2.5819999999999999,-6.2E-2,1.962,0,3.5390000000000001,40.259,1.3260000000000001,265.09500000000003]
[{"$f":"Clavet!A745","v":"  2019/03/31 19:00:00"},1.7230000000000001,0.17199999999999999,2.6709999999999998,2.843,0.05,3.0049999999999999,0,2.0619999999999998,48.305999999999997,0.82899999999999996,260.70600000000002]
[{"$f":"Clavet!A746","v":"  2019/03/31 20:00:00"},1.0449999999999999,0.159,3.2240000000000002,3.383,0.11799999999999999,3.9540000000000002,0,1.234,52.341000000000001,1.4159999999999999,262.22000000000003]
[{"$f":"Clavet!A747","v":"  2019/03/31 21:00:00"},0.441,0.128,3.645,3.7730000000000001,8.5999999999999993E-2,5.58,0,0.39200000000000002,59.395000000000003,1.3169999999999999,245.22900000000001]
[{"$f":"Clavet!A748","v":"  2019/03/31 22:00:00"},0.313,0.13,5.0960000000000001,5.2270000000000003,0.06,5.3289999999999997,0,-0.224,65.697999999999993,1.133,231.08699999999999]
[{"$f":"Clavet!A749","v":"  2019/03/31 23:00:00"},0.23899999999999999,0.115,5.0549999999999997,5.17,0.26500000000000001,5.86,0,-0.29599999999999999,68.450999999999993,0.83899999999999997,236.881]
[]
["Minimum",{"$f":"MIN(B6:B749)","v":-0.66200000000000003},{"$f":"MIN(C6:C749)","v":-0.111},{"$f":"MIN(D6:D749)","v":0.17199999999999999},{"$f":"MIN(E6:E749)","v":0.377},{"$f":"MIN(F6:F749)","v":-0.52300000000000002},-0.41199999999999998,{"$f":"MIN(H6:H749)","v":0},-30.628,{"$f":"MIN(J6:J749)","v":36.802999999999997},{"$f":"MIN(K6:K749)","v":5.7000000000000002E-2},{"$f":"MIN(L6:L749)","v":0.109}]
["MinDate",{"$f":"INDEX($A6:$A749,MATCH(MIN(B6:B749),B6:B749,0))","v":"  2019/03/10 07:00:00"},{"$f":"INDEX($A6:$A749,MATCH(MIN(C6:C749),C6:C749,0))","v":"  2019/03/28 21:00:00"},{"$f":"INDEX($A6:$A749,MATCH(MIN(D6:D749),D6:D749,0))","v":"  2019/03/02 07:00:00"},{"$f":"INDEX($A6:$A749,MATCH(MIN(E6:E749),E6:E749,0))","v":"  2019/03/02 06:00:00"},{"$f":"INDEX($A6:$A749,MATCH(MIN(F6:F749),F6:F749,0))","v":"  2019/03/15 17:00:00"},"  2019/03/06 05:00:00",{"$f":"INDEX($A6:$A749,MATCH(MIN(H6:H749),H6:H749,0))","v":"  2019/03/01 00:00:00"},"  2019/03/02 08:00:00","  2019/03/30 17:00:00",{"$f":"INDEX($A6:$A749,MATCH(MIN(K6:K749),K6:K749,0))","v":"  2019/03/10 07:00:00"},"  2019/03/31 10:00:00"]
["Maximum",{"$f":"MAX(B6:B749)","v":8.2370000000000001},{"$f":"MAX(C6:C749)","v":14.72},{"$f":"MAX(D6:D749)","v":20.818999999999999},{"$f":"MAX(E6:E749)","v":26.873000000000001},{"$f":"MAX(F6:F749)","v":1.8120000000000001},33.813000000000002,{"$f":"MAX(H6:H749)","v":0.01},9.9109999999999996,86.201999999999998,{"$f":"MAX(K6:K749)","v":5.8579999999999997},359.68200000000002]
["MaxDate",{"$f":"INDEX($A6:$A749,MATCH(MAX(B6:B749),B6:B749,0))","v":"  2019/03/11 16:00:00"},{"$f":"INDEX($A6:$A749,MATCH(MAX(C6:C749),C6:C749,0))","v":"  2019/03/10 10:00:00"},{"$f":"INDEX($A6:$A749,MATCH(MAX(D6:D749),D6:D749,0))","v":"  2019/03/21 08:00:00"},{"$f":"INDEX($A6:$A749,MATCH(MAX(E6:E749),E6:E749,0))","v":"  2019/03/21 08:00:00"},{"$f":"INDEX($A6:$A749,MATCH(MAX(F6:F749),F6:F749,0))","v":"  2019/03/21 03:00:00"},"  2019/03/21 03:00:00",{"$f":"INDEX($A6:$A749,MATCH(MAX(H6:H749),H6:H749,0))","v":"  2019/03/30 09:00:00"},"  2019/03/30 14:00:00","  2019/03/26 09:00:00",{"$f":"INDEX($A6:$A749,MATCH(MAX(K6:K749),K6:K749,0))","v":"  2019/03/04 13:00:00"},"  2019/03/31 09:00:00"]
["Avg",{"$f":"AVERAGE(B6:B749)","v":0.53671164772727231},{"$f":"AVERAGE(C6:C749)","v":0.65895028409090872},{"$f":"AVERAGE(D6:D749)","v":4.5790923295454595},{"$f":"AVERAGE(E6:E749)","v":5.2381051136363608},{"$f":"AVERAGE(F6:F749)","v":0.11128267045454544},5.7922886002886047,{"$f":"AVERAGE(H6:H749)","v":1.3440860215053763E-5},-5.9625026881720498,64.217173387096778,{"$f":"AVERAGE(K6:K749)","v":2.0514143049932523},240.41138461538475]
["Num",{"$f":"COUNT(B6:B749)","v":704},{"$f":"COUNT(C6:C749)","v":704},{"$f":"COUNT(D6:D749)","v":704},{"$f":"COUNT(E6:E749)","v":704},{"$f":"COUNT(F6:F749)","v":704},693,{"$f":"COUNT(H6:H749)","v":744},744,744,{"$f":"COUNT(K6:K749)","v":741},741]
["Data[%]",{"$f":"(B756/(COUNTA(B6:B749)))*100","v":94.623655913978496},{"$f":"(C756/(COUNTA(C6:C749)))*100","v":94.623655913978496},{"$f":"(D756/(COUNTA(D6:D749)))*100","v":94.623655913978496},{"$f":"(E756/(COUNTA(E6:E749)))*100","v":94.623655913978496},{"$f":"(F756/(COUNTA(F6:F749)))*100","v":94.623655913978496},93.145161290322577,{"$f":"(H756/(COUNTA(H6:H749)))*100","v":100},100,{"$f":"(J756/(COUNTA(J6:J749)))*100","v":100},{"$f":"(K756/(COUNTA(K6:K749)))*100","v":99.596774193548384},{"$f":"(L756/(COUNTA(L6:L749)))*100","v":99.596774193548384}]
["STD",{"$f":"_xlfn.STDEV.P(B6:B749)","v":0.92302409082899661},1.3216518091504286,3.1324821833905627,3.793389231053061,0.2502110380525272,5.5966474793057008,"No Data",{"$f":"_xlfn.STDEV.P(I6:I749)","v":9.2685568397925806},{"$f":"_xlfn.STDEV.P(J6:J749)","v":9.9219356533078251},{"$f":"_xlfn.STDEV.P(K6:K749)","v":1.2423030503211381},"No Data"]

{"sheet":"Meadow Lake","index":3,"n_rows":760,"n_cols":11,"rows_kept":760,"cut":false,"hidden":false,"merged":[]}
[{"$f":"Kerrobert!A1","v":"Group: Global WYAMZ - Monthly Monthly: 01/2019  Type: AVG 1 Hr."}]
[]
["Date & Time","Meadow Lake","Meadow Lake","Meadow Lake","Meadow Lake","Meadow Lake","Meadow Lake","Meadow Lake","Meadow Lake","Meadow Lake","Meadow Lake"]
[null,"NO","NO2","NOX","O3","PM25","PRECIP","TEMPERAT","WS","WD","RH"]
[null,"ppb","ppb","ppb","ppb","ug/m3(L)","mm","C°","m/s","Deg","%RH"]
[{"$f":"Clavet!A6","v":"  2019/03/01 00:00:00"},0.16300000000000001,0.59599999999999997,0.75600000000000001,24.933,4.8230000000000004,0,-18.625,1.383,4.0720000000000001,71.817999999999998]
[{"$f":"Clavet!A7","v":"  2019/03/01 01:00:00"},0.78,2.617,3.3969999999999998,22.398,4.7839999999999998,0,-18.687000000000001,0.69199999999999995,304.71600000000001,68.322999999999993]
[{"$f":"Clavet!A8","v":"  2019/03/01 02:00:00"},0.23200000000000001,1.093,1.325,23.158000000000001,5.2370000000000001,0,-20.291,1.667,351.072,72.070999999999998]
[{"$f":"Clavet!A9","v":"  2019/03/01 03:00:00"},0.23200000000000001,0.311,0.54200000000000004,19.113,8.2850000000000001,0,-21.158000000000001,3.4180000000000001,354.78500000000003,70.742000000000004]
[{"$f":"Clavet!A10","v":"  2019/03/01 04:00:00"},0.17799999999999999,0.17499999999999999,0.35399999999999998,15.606,10.211,0,-22.111999999999998,3.6549999999999998,352.60599999999999,68.477000000000004]
[{"$f":"Clavet!A11","v":"  2019/03/01 05:00:00"},0.16400000000000001,0.33400000000000002,0.499,15.686,9.4139999999999997,0,-22.882999999999999,1.413,313.363,67.850999999999999]
[{"$f":"Clavet!A12","v":"  2019/03/01 06:00:00"},0.185,0.27400000000000002,0.45900000000000002,17.027000000000001,8.1989999999999998,0,-23.2,1.8,317.51600000000002,67.433000000000007]
[{"$f":"Clavet!A13","v":"  2019/03/01 07:00:00"},6.7000000000000004E-2,0.29399999999999998,0.36099999999999999,21.981000000000002,5.7939999999999996,0,-24.251000000000001,2.9529999999999998,337.36900000000003,66.144999999999996]
[{"$f":"Clavet!A14","v":"  2019/03/01 08:00:00"},8.7999999999999995E-2,0.46100000000000002,0.55000000000000004,26.751999999999999,4.1050000000000004,0,-25.23,2.8330000000000002,343.55500000000001,65.376000000000005]
[{"$f":"Clavet!A15","v":"  2019/03/01 09:00:00"},0.16200000000000001,0.42699999999999999,0.58899999999999997,28.692,3.262,0,-25.545000000000002,3.2909999999999999,337.79599999999999,63.835000000000001]
[{"$f":"Clavet!A16","v":"  2019/03/01 10:00:00"},0.315,0.28999999999999998,0.60599999999999998,31.683,2.1320000000000001,0,-25.321000000000002,3.4910000000000001,338.34199999999998,60.877000000000002]
[{"$f":"Clavet!A17","v":"  2019/03/01 11:00:00"},0.10100000000000001,0.24199999999999999,0.34300000000000003,31.675999999999998,1.595,0,-24.742999999999999,3.0579999999999998,335.92399999999998,59.167999999999999]
[{"$f":"Clavet!A18","v":"  2019/03/01 12:00:00"},0.114,0.34300000000000003,0.45900000000000002,32.137,1.0660000000000001,0,-23.606999999999999,2.895,330.08699999999999,56.354999999999997]
[{"$f":"Clavet!A19","v":"  2019/03/01 13:00:00"},8.1000000000000003E-2,0.30199999999999999,0.38500000000000001,32.378999999999998,1.105,0,-22.917000000000002,3.5579999999999998,350.839,56.305999999999997]
[{"$f":"Clavet!A20","v":"  2019/03/01 14:00:00"},0.127,0.28199999999999997,0.40899999999999997,32.713000000000001,1.107,0,-22.335999999999999,3.4049999999999998,337.517,53.192999999999998]
[{"$f":"Clavet!A21","v":"  2019/03/01 15:00:00"},9.2999999999999999E-2,0.32800000000000001,0.42199999999999999,32.804000000000002,1.341,0,-21.748999999999999,2.8540000000000001,326.738,51.752000000000002]
[{"$f":"Clavet!A22","v":"  2019/03/01 16:00:00"},0.20200000000000001,0.435,0.63900000000000001,32.606999999999999,2.8540000000000001,0,-21.18,2.9809999999999999,314.73,51.527999999999999]
[{"$f":"Clavet!A23","v":"  2019/03/01 17:00:00"},7.3999999999999996E-2,0.32600000000000001,0.40400000000000003,32.484000000000002,1.2809999999999999,0,-21.577000000000002,2.976,339.55799999999999,56.634]
[{"$f":"Clavet!A24","v":"  2019/03/01 18:00:00"},6.4000000000000001E-2,0.27800000000000002,0.34399999999999997,32.814,1.5660000000000001,0,-22.082000000000001,2.6869999999999998,327.714,51.892000000000003]
[{"$f":"Clavet!A25","v":"  2019/03/01 19:00:00"},-0.16500000000000001,0.33800000000000002,0.17499999999999999,32.572000000000003,2.742,0,-23.452999999999999,1.71,323.77600000000001,58.213999999999999]
[{"$f":"Clavet!A26","v":"  2019/03/01 20:00:00"},-0.17699999999999999,0.39,0.215,32.33,3.7349999999999999,0,-24.609000000000002,1.1870000000000001,314.32400000000001,59.71]
[{"$f":"Clavet!A27","v":"  2019/03/01 21:00:00"},-0.107,0.51300000000000001,0.40699999999999997,32.082000000000001,4.577,0,-25.402999999999999,1.3169999999999999,282.69900000000001,62.292999999999999]
[{"$f":"Clavet!A28","v":"  2019/03/01 22:00:00"},"        Z","        Z","        Z","        Z",7.6,0,-26.405000000000001,1.621,270.226,63.847000000000001]
[{"$f":"Clavet!A29","v":"  2019/03/01 23:00:00"},5.1999999999999998E-2,1.151,1.2050000000000001,31.324000000000002,16.292999999999999,0,-26.738,1.819,266.738,62.411999999999999]
[{"$f":"Clavet!A30","v":"  2019/03/02 00:00:00"},-0.11,1.1919999999999999,1.083,31.135000000000002,6.59,0,-27.151,1.86,277.78699999999998,63.018000000000001]
[{"$f":"Clavet!A31","v":"  2019/03/02 01:00:00"},-3.0000000000000001E-3,1.5620000000000001,1.5589999999999999,30.526,4.3129999999999997,0,-27.844999999999999,2.0910000000000002,272.142,64.331000000000003]
[{"$f":"Clavet!A32","v":"  2019/03/02 02:00:00"},7.3999999999999996E-2,1.706,1.7809999999999999,29.815000000000001,2.88,0,-28.065999999999999,2.1219999999999999,252.71,63.661000000000001]
[{"$f":"Clavet!A33","v":"  2019/03/02 03:00:00"},-5.3999999999999999E-2,2.2120000000000002,2.1579999999999999,29.965,2.9009999999999998,0,-28.25,2.4710000000000001,260.47699999999998,64.317999999999998]
[{"$f":"Clavet!A34","v":"  2019/03/02 04:00:00"},-1.0999999999999999E-2,2.3029999999999999,2.2930000000000001,29.946000000000002,2.8260000000000001,0,-28.161999999999999,2.5579999999999998,272.47899999999998,64.271000000000001]
[{"$f":"Clavet!A35","v":"  2019/03/02 05:00:00"},0.06,2.3050000000000002,2.367,29.513000000000002,2.5649999999999999,0,-28.966999999999999,1.984,284.39600000000002,65.460999999999999]
[{"$f":"Clavet!A36","v":"  2019/03/02 06:00:00"},5.0000000000000001E-3,2.2610000000000001,2.2669999999999999,29.163,2.8029999999999999,0,-29.117999999999999,1.863,281.19600000000003,66.209999999999994]
[{"$f":"Clavet!A37","v":"  2019/03/02 07:00:00"},0.104,2.7309999999999999,2.8359999999999999,28.602,2.2959999999999998,0,-28.896000000000001,2.7429999999999999,263.65300000000002,66.441000000000003]
[{"$f":"Clavet!A38","v":"  2019/03/02 08:00:00"},0.17699999999999999,2.8140000000000001,2.99,28.449000000000002,1.853,0,-28.507999999999999,3.6760000000000002,257.553,65.41]
[{"$f":"Clavet!A39","v":"  2019/03/02 09:00:00"},0.89800000000000002,2.0960000000000001,2.9950000000000001,29.297999999999998,1.421,0,-27.542999999999999,3.633,261.721,62.441000000000003]
[{"$f":"Clavet!A40","v":"  2019/03/02 10:00:00"},1.794,1.9079999999999999,3.702,29.2,1.794,0,-26.507999999999999,3.327,268.33199999999999,59.817]
[{"$f":"Clavet!A41","v":"  2019/03/02 11:00:00"},1.7629999999999999,1.5349999999999999,3.2970000000000002,30.329000000000001,1.8,0,-25.302,3.6219999999999999,276.76299999999998,59.005000000000003]
[{"$f":"Clavet!A42","v":"  2019/03/02 12:00:00"},1.4930000000000001,1.3160000000000001,2.8090000000000002,31.68,1.4930000000000001,0,-24.183,4.07,277.07900000000001,57.204999999999998]
[{"$f":"Clavet!A43","v":"  2019/03/02 13:00:00"},1.5,1.419,2.9169999999999998,32.103000000000002,1.3939999999999999,0,-22.783999999999999,3.6469999999999998,267.00700000000001,55.197000000000003]
[{"$f":"Clavet!A44","v":"  2019/03/02 14:00:00"},1.456,1.321,2.7770000000000001,33.005000000000003,1.157,0,-21.361000000000001,3.895,262.52499999999998,52.822000000000003]
[{"$f":"Clavet!A45","v":"  2019/03/02 15:00:00"},0.999,1.2070000000000001,2.2050000000000001,34.593000000000004,0.78800000000000003,0,-20.175999999999998,3.8690000000000002,258.69299999999998,52.057000000000002]
[{"$f":"Clavet!A46","v":"  2019/03/02 16:00:00"},0.52200000000000002,1.083,1.6040000000000001,36.171999999999997,0.58099999999999996,0,-18.658999999999999,3.698,270.09199999999998,50.648000000000003]
[{"$f":"Clavet!A47","v":"  2019/03/02 17:00:00"},0.29099999999999998,0.77500000000000002,1.0640000000000001,37.302999999999997,0.67,0,-17.433,3.5270000000000001,281.87,51.820999999999998]
[{"$f":"Clavet!A48","v":"  2019/03/02 18:00:00"},0.24099999999999999,1.0609999999999999,1.3,37.191000000000003,1.9590000000000001,0,-16.922000000000001,3.6,309.68099999999998,51.941000000000003]
[{"$f":"Clavet!A49","v":"  2019/03/02 19:00:00"},5.0999999999999997E-2,1.0609999999999999,1.1100000000000001,37.218000000000004,0.498,0,-16.937000000000001,3.5910000000000002,318.85599999999999,49.070999999999998]
[{"$f":"Clavet!A50","v":"  2019/03/02 20:00:00"},0.14299999999999999,1.2629999999999999,1.405,37.527000000000001,0.36599999999999999,0,-17.603000000000002,3.7919999999999998,321.89,46.292999999999999]
[{"$f":"Clavet!A51","v":"  2019/03/02 21:00:00"},"        Z","        Z","        Z","        Z",0.373,0,-18.408000000000001,3.5529999999999999,318.334,48.167000000000002]
[{"$f":"Clavet!A52","v":"  2019/03/02 22:00:00"},0.152,1.865,2.0139999999999998,36.106000000000002,0.55700000000000005,0,-19.66,2.8079999999999998,307.04300000000001,51.426000000000002]
[{"$f":"Clavet!A53","v":"  2019/03/02 23:00:00"},0.127,2.2949999999999999,2.419,35.218000000000004,1.0189999999999999,0,-21.082999999999998,2.68,268.63299999999998,54.515999999999998]
[{"$f":"Clavet!A54","v":"  2019/03/03 00:00:00"},0.113,2.7850000000000001,2.8959999999999999,34.682000000000002,1.1339999999999999,0,-21.292999999999999,3.2109999999999999,258.71100000000001,54.536000000000001]
[{"$f":"Clavet!A55","v":"  2019/03/03 01:00:00"},5.6000000000000001E-2,2.508,2.5630000000000002,35.03,1.0940000000000001,0,-21.606999999999999,3.181,257.08600000000001,54.555]
[{"$f":"Clavet!A56","v":"  2019/03/03 02:00:00"},5.5E-2,2.0659999999999998,2.117,35.74,0.80500000000000005,0,-21.524999999999999,2.9630000000000001,263.613,54.448999999999998]
[{"$f":"Clavet!A57","v":"  2019/03/03 03:00:00"},4.7E-2,1.9279999999999999,1.972,35.235999999999997,0.89600000000000002,0,-21.513000000000002,3.601,267.25200000000001,55.975999999999999]
[{"$f":"Clavet!A58","v":"  2019/03/03 04:00:00"},0.18,2.6269999999999998,2.8050000000000002,33.554000000000002,1.732,0,-20.96,4.0039999999999996,269.113,56.533999999999999]
[{"$f":"Clavet!A59","v":"  2019/03/03 05:00:00"},6.0999999999999999E-2,2.4809999999999999,2.5390000000000001,33.744999999999997,1.3260000000000001,0,-20.904,3.9929999999999999,260.08,56.972999999999999]
[{"$f":"Clavet!A60","v":"  2019/03/03 06:00:00"},0.151,2.6739999999999999,2.8220000000000001,33.341000000000001,0.95699999999999996,0,-21.053999999999998,3.7869999999999999,259.31799999999998,58.137]
[{"$f":"Clavet!A61","v":"  2019/03/03 07:00:00"},0.13900000000000001,1.974,2.11,34.634,0.59399999999999997,0,-20.981999999999999,3.9289999999999998,255.74299999999999,59.33]
[{"$f":"Clavet!A62","v":"  2019/03/03 08:00:00"},0.216,1.677,1.89,35.374000000000002,0.5,0,-20.67,4.0869999999999997,257.23399999999998,58.423000000000002]
[{"$f":"Clavet!A63","v":"  2019/03/03 09:00:00"},0.49399999999999999,1.3620000000000001,1.853,35.930999999999997,0.50900000000000001,0,-19.89,4.0810000000000004,256.07299999999998,55.841999999999999]
[{"$f":"Clavet!A64","v":"  2019/03/03 10:00:00"},0.64400000000000002,1.1100000000000001,1.7509999999999999,37.036000000000001,0.374,0,-18.760999999999999,3.964,265.255,52.372999999999998]
[{"$f":"Clavet!A65","v":"  2019/03/03 11:00:00"},0.54900000000000004,0.81499999999999995,1.361,37.335000000000001,0.33100000000000002,0,-17.78,3.93,262.62099999999998,51.970999999999997]
[{"$f":"Clavet!A66","v":"  2019/03/03 12:00:00"},0.61399999999999999,0.72399999999999998,1.333,38.070999999999998,0.33900000000000002,0,-16.184999999999999,3.9449999999999998,262.65300000000002,50.26]
[{"$f":"Clavet!A67","v":"  2019/03/03 13:00:00"},0.71499999999999997,0.77700000000000002,1.4890000000000001,38.103000000000002,0.39900000000000002,0,-14.78,3.661,258.78199999999998,49.500999999999998]
[{"$f":"Clavet!A68","v":"  2019/03/03 14:00:00"},0.60099999999999998,0.76800000000000002,1.3660000000000001,40.009,0.38300000000000001,0,-12.840999999999999,4.0819999999999999,279.20999999999998,47.34]
[{"$f":"Clavet!A69","v":"  2019/03/03 15:00:00"},0.27100000000000002,0.50900000000000001,0.77600000000000002,40.22,0.379,0,-12.052,4.0449999999999999,274.52100000000002,47.939]
[{"$f":"Clavet!A70","v":"  2019/03/03 16:00:00"},0.151,0.33400000000000002,0.48299999999999998,40.68,0.42199999999999999,0,-11.366,4.6319999999999997,282.66000000000003,48.040999999999997]
[{"$f":"Clavet!A71","v":"  2019/03/03 17:00:00"},0.123,0.39100000000000001,0.51,40.759,0.48099999999999998,0,-11.164,3.3069999999999999,290.38,47.462000000000003]
[{"$f":"Clavet!A72","v":"  2019/03/03 18:00:00"},0.13600000000000001,0.59,0.72299999999999998,40.359000000000002,0.54,0,-11.984,2.23,288.589,47.161999999999999]
[{"$f":"Clavet!A73","v":"  2019/03/03 19:00:00"},0.18099999999999999,0.65200000000000002,0.83,39.293999999999997,0.54400000000000004,0,-14.01,1.7130000000000001,282.608,51.078000000000003]
[{"$f":"Clavet!A74","v":"  2019/03/03 20:00:00"},"        Z","        Z","        Z","        Z",0.54900000000000004,0,-15.146000000000001,1.8,280.19499999999999,53.302]
[{"$f":"Clavet!A75","v":"  2019/03/03 21:00:00"},0.16400000000000001,0.72899999999999998,0.89,38.798999999999999,0.46100000000000002,0,-15.444000000000001,2.383,277.916,54.094999999999999]
[{"$f":"Clavet!A76","v":"  2019/03/03 22:00:00"},0.19400000000000001,1.44,1.63,37.805,0.45100000000000001,0,-15.327,2.7229999999999999,268.60199999999998,53.901000000000003]
[{"$f":"Clavet!A77","v":"  2019/03/03 23:00:00"},3.6999999999999998E-2,1.167,1.2030000000000001,37.746000000000002,0.501,0,-15.502000000000001,2.85,261.50799999999998,54.078000000000003]
[{"$f":"Clavet!A78","v":"  2019/03/04 00:00:00"},7.0999999999999994E-2,1.4470000000000001,1.516,36.792999999999999,0.504,0,-15.641999999999999,3.05,260.14400000000001,54.406999999999996]
[{"$f":"Clavet!A79","v":"  2019/03/04 01:00:00"},0.13600000000000001,1.147,1.2809999999999999,36.479999999999997,0.434,0,-15.087,3.173,261.11,51.927999999999997]
[{"$f":"Clavet!A80","v":"  2019/03/04 02:00:00"},0.27600000000000002,2.3839999999999999,2.6579999999999999,34.938000000000002,0.55000000000000004,0,-15.305999999999999,3.24,255.55099999999999,52.79]
[{"$f":"Clavet!A81","v":"  2019/03/04 03:00:00"},5.8000000000000003E-2,1.371,1.4279999999999999,36.191000000000003,0.46800000000000003,0,-14.757,3.964,257.89100000000002,52.462000000000003]
[{"$f":"Clavet!A82","v":"  2019/03/04 04:00:00"},7.1999999999999995E-2,1.355,1.4259999999999999,36.338000000000001,0.501,0,-14.794,4.173,264.41699999999997,53.048000000000002]
[{"$f":"Clavet!A83","v":"  2019/03/04 05:00:00"},0.104,1.3939999999999999,1.498,36.585000000000001,0.47,0,-15.064,4.1269999999999998,263.47800000000001,52.570999999999998]
[{"$f":"Clavet!A84","v":"  2019/03/04 06:00:00"},0.14799999999999999,2.11,2.2559999999999998,36.456000000000003,0.45100000000000001,0,-15.422000000000001,4.3259999999999996,259.81900000000002,52.518000000000001]
[{"$f":"Clavet!A85","v":"  2019/03/04 07:00:00"},7.2999999999999995E-2,2.2450000000000001,2.3180000000000001,36.472999999999999,0.438,0,-15.65,4.18,262.21800000000002,53.4]
[{"$f":"Clavet!A86","v":"  2019/03/04 08:00:00"},0.157,1.756,1.9119999999999999,36.872999999999998,0.439,0,-15.166,3.9830000000000001,266.459,53.917999999999999]
[{"$f":"Clavet!A87","v":"  2019/03/04 09:00:00"},0.25700000000000001,1.357,1.6140000000000001,37.375999999999998,0.47299999999999998,0,-14.494999999999999,4.4740000000000002,268.04199999999997,53.75]
[{"$f":"Clavet!A88","v":"  2019/03/04 10:00:00"},0.41299999999999998,1.1100000000000001,1.524,37.847000000000001,0.49399999999999999,0,-13.837,4.5579999999999998,266.06099999999998,52.576000000000001]
[{"$f":"Clavet!A89","v":"  2019/03/04 11:00:00"},0.60599999999999998,0.97299999999999998,1.579,37.575000000000003,0.57399999999999995,0,-13.153,4.4320000000000004,267.779,51.918999999999997]
[{"$f":"Clavet!A90","v":"  2019/03/04 12:00:00"},0.68400000000000005,0.92700000000000005,1.611,38.009,0.57299999999999995,0,-11.68,4.2850000000000001,266.71800000000002,49.295999999999999]
[{"$f":"Clavet!A91","v":"  2019/03/04 13:00:00"},0.877,0.996,1.873,38.691000000000003,0.60199999999999998,0,-9.7149999999999999,3.5590000000000002,264.42700000000002,46.463999999999999]
[{"$f":"Clavet!A92","v":"  2019/03/04 14:00:00"},0.36799999999999999,0.74099999999999999,1.1100000000000001,40.889000000000003,0.64500000000000002,0,-7.7270000000000003,4.2560000000000002,265.62799999999999,43.911000000000001]
[{"$f":"Clavet!A93","v":"  2019/03/04 15:00:00"},0.27700000000000002,0.53600000000000003,0.81399999999999995,42.055999999999997,1.2130000000000001,0,-6.08,4.0830000000000002,277.19200000000001,43.588999999999999]
[{"$f":"Clavet!A94","v":"  2019/03/04 16:00:00"},0.19,0.52200000000000002,0.71299999999999997,42.006,0.78600000000000003,0,-5.9249999999999998,3.93,282.67500000000001,43.679000000000002]
[{"$f":"Clavet!A95","v":"  2019/03/04 17:00:00"},0.18099999999999999,0.59499999999999997,0.77900000000000003,42.046999999999997,0.76100000000000001,0,-5.8390000000000004,3.2050000000000001,277.96199999999999,46.506]
[{"$f":"Clavet!A96","v":"  2019/03/04 18:00:00"},-8.0000000000000002E-3,0.72499999999999998,0.71899999999999997,42.103000000000002,0.75,0,-6.367,3.2490000000000001,278.67200000000003,47.756]
[{"$f":"Clavet!A97","v":"  2019/03/04 19:00:00"},"        Z","        Z","        Z","        Z",0.66800000000000004,0,-6.9790000000000001,2.5659999999999998,282.64,49.857999999999997]
[{"$f":"Clavet!A98","v":"  2019/03/04 20:00:00"},6.3E-2,0.54800000000000004,0.61199999999999999,41.838999999999999,0.86799999999999999,0,-7.0339999999999998,2.4790000000000001,274.07600000000002,50.061999999999998]
[{"$f":"Clavet!A99","v":"  2019/03/04 21:00:00"},0.111,0.59099999999999997,0.70299999999999996,41.783999999999999,0.60299999999999998,0,-6.84,2.2599999999999998,283.88299999999998,51.686999999999998]
[{"$f":"Clavet!A100","v":"  2019/03/04 22:00:00"},4.4999999999999998E-2,0.51800000000000002,0.56599999999999995,41.994,0.86499999999999999,0,-6.101,2.8210000000000002,284.08600000000001,49.076000000000001]
[{"$f":"Clavet!A101","v":"  2019/03/04 23:00:00"},0.20499999999999999,0.80400000000000005,1.012,41.771999999999998,2.444,0,-5.9690000000000003,2.3140000000000001,283.88099999999997,47.536999999999999]
[{"$f":"Clavet!A102","v":"  2019/03/05 00:00:00"},0.14499999999999999,0.64300000000000002,0.79,41.445,0.748,0,-7.06,2.0310000000000001,276.38799999999998,50.204000000000001]
[{"$f":"Clavet!A103","v":"  2019/03/05 01:00:00"},0.223,2.214,2.44,38.994,0.97899999999999998,0,-7.5270000000000001,2.1989999999999998,262.98599999999999,48.722999999999999]
[{"$f":"Clavet!A104","v":"  2019/03/05 02:00:00"},8.1000000000000003E-2,1.002,1.085,40.234000000000002,0.86199999999999999,0,-7.3129999999999997,3.0209999999999999,265.642,46.41]
[{"$f":"Clavet!A105","v":"  2019/03/05 03:00:00"},0.17899999999999999,1.0029999999999999,1.1830000000000001,39.878,1.169,0,-7.81,3.3180000000000001,274.89800000000002,47.136000000000003]
[{"$f":"Clavet!A106","v":"  2019/03/05 04:00:00"},7.3999999999999996E-2,1.1220000000000001,1.198,39.323999999999998,1.599,0,-8.6289999999999996,2.851,273.89299999999997,48.72]
[{"$f":"Clavet!A107","v":"  2019/03/05 05:00:00"},9.0999999999999998E-2,1.149,1.242,39.220999999999997,4.3280000000000003,0,-9.7230000000000008,2.6459999999999999,297.226,52.277999999999999]
[{"$f":"Clavet!A108","v":"  2019/03/05 06:00:00"},0.28599999999999998,0.71299999999999997,1.0009999999999999,40.034999999999997,17.244,0,-11.802,2.1280000000000001,288.09100000000001,53.94]
[{"$f":"Clavet!A109","v":"  2019/03/05 07:00:00"},7.4999999999999997E-2,1.073,1.1499999999999999,38.966000000000001,3.3170000000000002,0,-13.949,2.1240000000000001,281.697,57.378]
[{"$f":"Clavet!A110","v":"  2019/03/05 08:00:00"},0.111,1.24,1.355,38.618000000000002,3.8149999999999999,0,-13.72,2.6629999999999998,277.95699999999999,56.68]
[{"$f":"Clavet!A111","v":"  2019/03/05 09:00:00"},0.40300000000000002,1.5740000000000001,1.9810000000000001,38.207000000000001,2.3620000000000001,0,-13.754,2.6349999999999998,291.56299999999999,55.956000000000003]
[{"$f":"Clavet!A112","v":"  2019/03/05 10:00:00"},0.79700000000000004,1.5269999999999999,2.327,38.164999999999999,6.6840000000000002,0,-13.356,2.3959999999999999,304.93700000000001,56.929000000000002]
[{"$f":"Clavet!A113","v":"  2019/03/05 11:00:00"},0.19700000000000001,0.40100000000000002,0.60199999999999998,40.015000000000001,1.069,0,-13.465999999999999,4.0629999999999997,355.25400000000002,60.820999999999998]
[{"$f":"Clavet!A114","v":"  2019/03/05 12:00:00"},0.19800000000000001,0.311,0.51100000000000001,40.902999999999999,0.95599999999999996,0,-12.829000000000001,3.16,318.60899999999998,58.164999999999999]
[{"$f":"Clavet!A115","v":"  2019/03/05 13:00:00"},8.2000000000000003E-2,0.30099999999999999,0.38700000000000001,41.152999999999999,0.97099999999999997,0,-12.172000000000001,2.9740000000000002,321.80900000000003,56.936999999999998]
[{"$f":"Clavet!A116","v":"  2019/03/05 14:00:00"},7.0999999999999994E-2,0.47499999999999998,0.54900000000000004,42.176000000000002,4.968,0,-11.083,3.089,297.69200000000001,53.56]
[{"$f":"Clavet!A117","v":"  2019/03/05 15:00:00"},0.193,0.505,0.70199999999999996,42.923999999999999,2.7679999999999998,0,-10.222,2.665,277.416,53.198]
[{"$f":"Clavet!A118","v":"  2019/03/05 16:00:00"},0.128,0.41899999999999998,0.55100000000000005,43.639000000000003,0.84899999999999998,0,-9.1319999999999997,2.528,307.00700000000001,49.308]
[{"$f":"Clavet!A119","v":"  2019/03/05 17:00:00"},0.11700000000000001,0.30599999999999999,0.42399999999999999,43.957999999999998,0.81399999999999995,0,-8.8089999999999993,2.9860000000000002,339.02699999999999,46.139000000000003]
[{"$f":"Clavet!A120","v":"  2019/03/05 18:00:00"},"        Z","        Z","        Z","        Z",1.1319999999999999,0,-10.114000000000001,3.3109999999999999,3.53,48.472000000000001]
[{"$f":"Clavet!A121","v":"  2019/03/05 19:00:00"},8.5000000000000006E-2,0.318,0.40600000000000003,40.933,1.8460000000000001,0,-12.297000000000001,5.4210000000000003,13.94,51.008000000000003]
[{"$f":"Clavet!A122","v":"  2019/03/05 20:00:00"},-1E-3,0.30299999999999999,0.30499999999999999,40.158000000000001,1.417,0,-13.859,3.8210000000000002,7.6950000000000003,53.944000000000003]
[{"$f":"Clavet!A123","v":"  2019/03/05 21:00:00"},0.105,0.38600000000000001,0.49299999999999999,39.438000000000002,1.1859999999999999,0,-15.175000000000001,3.3519999999999999,7.7610000000000001,57.112000000000002]
[{"$f":"Clavet!A124","v":"  2019/03/05 22:00:00"},9.6000000000000002E-2,0.312,0.41,38.08,2.3210000000000002,0,-16.373000000000001,2.899,16.553000000000001,61.396000000000001]
[{"$f":"Clavet!A125","v":"  2019/03/05 23:00:00"},4.1000000000000002E-2,0.309,0.35199999999999998,36.229999999999997,3.625,0,-16.452000000000002,3.4009999999999998,19.381,64.266000000000005]
[{"$f":"Clavet!A126","v":"  2019/03/06 00:00:00"},0.03,0.23,0.26200000000000001,35.780999999999999,2.2829999999999999,0,-15.619,1.157,13.465,62.493000000000002]
[{"$f":"Clavet!A127","v":"  2019/03/06 01:00:00"},0.38,8.7550000000000008,9.1359999999999992,26.414999999999999,6.67,0,-15.225,0.90600000000000003,254.78299999999999,60.502000000000002]
[{"$f":"Clavet!A128","v":"  2019/03/06 02:00:00"},1.7000000000000001E-2,1.425,1.4430000000000001,34.276000000000003,2.1320000000000001,0,-15.912000000000001,1.3420000000000001,272.79199999999997,63.945999999999998]
[{"$f":"Clavet!A129","v":"  2019/03/06 03:00:00"},1.9E-2,0.57599999999999996,0.59499999999999997,35.32,0.753,0,-15.952,1.2809999999999999,269.50099999999998,64.3]
[{"$f":"Clavet!A130","v":"  2019/03/06 04:00:00"},0.13800000000000001,3.4889999999999999,3.6280000000000001,32.033999999999999,2.4710000000000001,0,-15.606,0.83199999999999996,246.37899999999999,63.23]
[{"$f":"Clavet!A131","v":"  2019/03/06 05:00:00"},0.124,3.0960000000000001,3.2210000000000001,32.201999999999998,3.34,0,-15.683,0.66700000000000004,226.73400000000001,63.481000000000002]
[{"$f":"Clavet!A132","v":"  2019/03/06 06:00:00"},1.669,4.68,6.3490000000000002,30.353000000000002,3.4390000000000001,0,-16.048999999999999,0.53800000000000003,224.35599999999999,64.376999999999995]
[{"$f":"Clavet!A133","v":"  2019/03/06 07:00:00"},0.754,4.5990000000000002,5.3529999999999998,30.088000000000001,3.052,0,-17.111000000000001,0.89600000000000002,208.88900000000001,67.775999999999996]
[{"$f":"Clavet!A134","v":"  2019/03/06 08:00:00"},5.0439999999999996,8.6809999999999992,13.727,24.632000000000001,3.3029999999999999,0,-18.013999999999999,0.61,189.72399999999999,68.290000000000006]
[{"$f":"Clavet!A135","v":"  2019/03/06 09:00:00"},4.984,5.37,10.353999999999999,28.05,2.4119999999999999,0,-15.952,0.46500000000000002,208.893,62.4]
[{"$f":"Clavet!A136","v":"  2019/03/06 10:00:00"},1.8460000000000001,2.4740000000000002,4.32,33.682000000000002,1.339,0,-15.37,0.93799999999999994,31.077999999999999,60.942999999999998]
[{"$f":"Clavet!A137","v":"  2019/03/06 11:00:00"},0.34,0.48399999999999999,0.82399999999999995,38.58,1.5469999999999999,0,-14.395,1.488,13.381,58.646000000000001]
[{"$f":"Clavet!A138","v":"  2019/03/06 12:00:00"},0.21199999999999999,0.53700000000000003,0.748,40.118000000000002,3.0579999999999998,0,-13.676,1.863,12.125,58.011000000000003]
[{"$f":"Clavet!A139","v":"  2019/03/06 13:00:00"},0.14799999999999999,0.438,0.58599999999999997,39.89,"       AF",0,-12.199,1.546,11.877000000000001,52.582000000000001]
[{"$f":"Clavet!A140","v":"  2019/03/06 14:00:00"},-0.04,0.46500000000000002,0.42399999999999999,40.158999999999999,"       AF",0,-10.199,1.6459999999999999,290.67200000000003,46.872999999999998]
[{"$f":"Clavet!A141","v":"  2019/03/06 15:00:00"},0.13100000000000001,0.47099999999999997,0.60099999999999998,40.902999999999999,"       AF",0,-10.326000000000001,2.3940000000000001,282.83300000000003,49.49]
[{"$f":"Clavet!A142","v":"  2019/03/06 16:00:00"},0.19500000000000001,0.61199999999999999,0.80600000000000005,40.627000000000002,"       AF",0,-11.493,2.64,279.09300000000002,53.31]
[{"$f":"Clavet!A143","v":"  2019/03/06 17:00:00"},"        Z","        Z","        Z","        Z","       AF",0,-11.439,1.546,279.40800000000002,52.249000000000002]
[{"$f":"Clavet!A144","v":"  2019/03/06 18:00:00"},9.7000000000000003E-2,1.0549999999999999,1.151,40.04,"       AF",0,-12.625,1.573,259.678,55.298999999999999]
[{"$f":"Clavet!A145","v":"  2019/03/06 19:00:00"},2.0979999999999999,13.135,15.231,28.495000000000001,"       AF",0,-14.287000000000001,0.76,241.08099999999999,59.289000000000001]
[{"$f":"Clavet!A146","v":"  2019/03/06 20:00:00"},4.8689999999999998,7.952,12.819000000000001,32.203000000000003,"       AF",0,-17.451000000000001,0.98199999999999998,168.363,68.215999999999994]
[{"$f":"Clavet!A147","v":"  2019/03/06 21:00:00"},2.9350000000000001,3.67,6.6040000000000001,31.974,"       AF",0,-19.308,0.92200000000000004,169.369,70.021000000000001]
[{"$f":"Clavet!A148","v":"  2019/03/06 22:00:00"},6.452,6.4859999999999998,12.936999999999999,30.077999999999999,"       AF",0,-20.457999999999998,0.871,162.08500000000001,71.132999999999996]
[{"$f":"Clavet!A149","v":"  2019/03/06 23:00:00"},0.88700000000000001,1.8720000000000001,2.758,34.069000000000003,"       AF",0,-20.567,0.57499999999999996,170.01599999999999,68.429000000000002]
[{"$f":"Clavet!A150","v":"  2019/03/07 00:00:00"},2.34,2.3359999999999999,4.6740000000000004,35.404000000000003,"       AF",0,-21.265000000000001,0.64600000000000002,165.35400000000001,68.748999999999995]
[{"$f":"Clavet!A151","v":"  2019/03/07 01:00:00"},2.3769999999999998,1.1850000000000001,3.56,34.564,"       AF",0,-22.228000000000002,1.0549999999999999,168.404,70.709999999999994]
[{"$f":"Clavet!A152","v":"  2019/03/07 02:00:00"},2.456,2.9990000000000001,5.4539999999999997,34.613,"       AF",0,-22.041,0.89900000000000002,165.084,71.975999999999999]
[{"$f":"Clavet!A153","v":"  2019/03/07 03:00:00"},2.9359999999999999,3.0169999999999999,5.9530000000000003,31.777999999999999,"       AF",0,-23.422000000000001,0.76200000000000001,164.26900000000001,70.013999999999996]
[{"$f":"Clavet!A154","v":"  2019/03/07 04:00:00"},0.78500000000000003,2.2530000000000001,3.0379999999999998,33.247999999999998,"       AF",0,-22.792999999999999,0.67800000000000005,145.148,71.531000000000006]
[{"$f":"Clavet!A155","v":"  2019/03/07 05:00:00"},2.5059999999999998,3.573,6.0789999999999997,33.627000000000002,"       AF",0,-21.218,0.85199999999999998,141.63200000000001,71.361999999999995]
[{"$f":"Clavet!A156","v":"  2019/03/07 06:00:00"},1.806,1.9059999999999999,3.7130000000000001,34.697000000000003,"       AF",0,-21.42,1.1599999999999999,153.04400000000001,71.563999999999993]
[{"$f":"Clavet!A157","v":"  2019/03/07 07:00:00"},3.4329999999999998,2.613,6.0449999999999999,34.686999999999998,"       AF",0,-21.52,1.579,129.53800000000001,71.412000000000006]
[{"$f":"Clavet!A158","v":"  2019/03/07 08:00:00"},2.6970000000000001,2.5449999999999999,5.2409999999999997,34.128999999999998,"       AF",0,-21.472999999999999,1.754,112.79900000000001,71.569000000000003]
[{"$f":"Clavet!A159","v":"  2019/03/07 09:00:00"},0.9,1.6639999999999999,2.5640000000000001,34.68,"       AF",0,-20.295000000000002,1.655,94.841999999999999,70.408000000000001]
[{"$f":"Clavet!A160","v":"  2019/03/07 10:00:00"},1.8340000000000001,2.0870000000000002,3.9220000000000002,35.683,"       AF",0,-16.805,2.4169999999999998,115.739,64.72]
[{"$f":"Clavet!A161","v":"  2019/03/07 11:00:00"},0.90500000000000003,1.3240000000000001,2.2280000000000002,37.347999999999999,"       AF",0,-13.962,2.6779999999999999,111.821,55.566000000000003]
[{"$f":"Clavet!A162","v":"  2019/03/07 12:00:00"},0.89900000000000002,1.3009999999999999,2.1989999999999998,39.036999999999999,"       AF",0,-10.942,2.4660000000000002,112.514,46.850999999999999]
[{"$f":"Clavet!A163","v":"  2019/03/07 13:00:00"},1.55,1.85,3.4,40.625999999999998,"       AF",0,-7.968,2.4289999999999998,122.292,40.323]
[{"$f":"Clavet!A164","v":"  2019/03/07 14:00:00"},0.80700000000000005,1.3360000000000001,2.1429999999999998,43.051000000000002,"       AF",0,-6.6079999999999997,2.8460000000000001,91.921000000000006,36.311]
[{"$f":"Clavet!A165","v":"  2019/03/07 15:00:00"},0.70299999999999996,1.3480000000000001,2.0510000000000002,44.430999999999997,"       AF",0,-5.1479999999999997,2.6219999999999999,103.959,33.173000000000002]
[{"$f":"Clavet!A166","v":"  2019/03/07 16:00:00"},"        Z","        Z","        Z","        Z","       AF",0,-4.2380000000000004,2.4119999999999999,105.78700000000001,32.478999999999999]
[{"$f":"Clavet!A167","v":"  2019/03/07 17:00:00"},1.573,1.843,3.4159999999999999,43.499000000000002,"       AF",0,-4.4729999999999999,2.4820000000000002,120.96899999999999,32.488999999999997]
[{"$f":"Clavet!A168","v":"  2019/03/07 18:00:00"},1.403,2.4060000000000001,3.81,43.042000000000002,"       AF",0,-5.5049999999999999,1.6180000000000001,145.00800000000001,36.152999999999999]
[{"$f":"Clavet!A169","v":"  2019/03/07 19:00:00"},1.099,2.625,3.7240000000000002,42.31,"       AF",0,-6.8810000000000002,1.639,144.03399999999999,39.720999999999997]
[{"$f":"Clavet!A170","v":"  2019/03/07 20:00:00"},1.329,1.998,3.327,40.633000000000003,"       AF",0,-8.6329999999999991,2.032,131.334,45.54]
[{"$f":"Clavet!A171","v":"  2019/03/07 21:00:00"},2.105,2.6850000000000001,4.79,41.085999999999999,"       AF",0,-9.8420000000000005,1.9610000000000001,137.47499999999999,49.765000000000001]
[{"$f":"Clavet!A172","v":"  2019/03/07 22:00:00"},1.478,1.823,3.302,40.965000000000003,"       AF",0,-10.741,1.6639999999999999,142.941,53.893999999999998]
[{"$f":"Clavet!A173","v":"  2019/03/07 23:00:00"},0.72599999999999998,4.1470000000000002,4.8719999999999999,38.834000000000003,"       AF",0,-10.721,0.621,128.809,53.777999999999999]
[{"$f":"Clavet!A174","v":"  2019/03/08 00:00:00"},1.601,4.8369999999999997,6.4379999999999997,37.393999999999998,"       AF",0,-11.003,1.3420000000000001,115.63500000000001,55.856000000000002]
[{"$f":"Clavet!A175","v":"  2019/03/08 01:00:00"},1.5089999999999999,3.87,5.3769999999999998,37.978999999999999,"       AF",0,-11.092000000000001,1.105,135.83799999999999,58.003999999999998]
[{"$f":"Clavet!A176","v":"  2019/03/08 02:00:00"},0.59499999999999997,3.7450000000000001,4.34,38.091000000000001,"       AF",0,-10.933999999999999,0.59099999999999997,147.79,57.113999999999997]
[{"$f":"Clavet!A177","v":"  2019/03/08 03:00:00"},1.1970000000000001,5.6340000000000003,6.83,35.512,"       AF",0,-10.843,0.53,148.596,57.487000000000002]
[{"$f":"Clavet!A178","v":"  2019/03/08 04:00:00"},0.44,2.988,3.427,37.908999999999999,"       AF",0,-11.095000000000001,0.80600000000000005,121.322,59.256999999999998]
[{"$f":"Clavet!A179","v":"  2019/03/08 05:00:00"},0.90100000000000002,2.9020000000000001,3.8029999999999999,37.103000000000002,"       AF",0,-10.804,0.435,147.852,58.395000000000003]
[{"$f":"Clavet!A180","v":"  2019/03/08 06:00:00"},0.32400000000000001,4.79,5.1139999999999999,33.893999999999998,"       AF",0,-11.382999999999999,0.41299999999999998,99.826999999999998,60.726999999999997]
[{"$f":"Clavet!A181","v":"  2019/03/08 07:00:00"},0.65800000000000003,3.6230000000000002,4.28,34.618000000000002,"       AF",0,-11.721,0.45500000000000002,149.56899999999999,62.320999999999998]
[{"$f":"Clavet!A182","v":"  2019/03/08 08:00:00"},1.5669999999999999,5.7220000000000004,7.2889999999999997,33.33,"       AF",0,-12.349,0.39700000000000002,135.75,62.692]
[{"$f":"Clavet!A183","v":"  2019/03/08 09:00:00"},1.3029999999999999,2.7280000000000002,4.03,35.268999999999998,"       AF",0,-11.516,0.35,157.85,59.746000000000002]
[{"$f":"Clavet!A184","v":"  2019/03/08 10:00:00"},0.98099999999999998,2.1469999999999998,3.1269999999999998,34.603999999999999,"       AF",0,-10.141,0.73,350.62,57.930999999999997]
[{"$f":"Clavet!A185","v":"  2019/03/08 11:00:00"},0.51700000000000002,1.956,2.4710000000000001,37.831000000000003,4.915,0,-10.557,1.266,2.58,61.418999999999997]
[{"$f":"Clavet!A186","v":"  2019/03/08 12:00:00"},0.54400000000000004,2.2360000000000002,2.7789999999999999,39.612000000000002,5.6870000000000003,0,-9.2360000000000007,1.2869999999999999,278.44499999999999,56.515999999999998]
[{"$f":"Clavet!A187","v":"  2019/03/08 13:00:00"},0.33900000000000002,2.0059999999999998,2.3450000000000002,42.835999999999999,9.8960000000000008,0,-9.4529999999999994,2.0710000000000002,289.32900000000001,61.377000000000002]
[{"$f":"Clavet!A188","v":"  2019/03/08 14:00:00"},0.88,3.2519999999999998,4.1310000000000002,42.098999999999997,12.137,0,-9.6940000000000008,1.8420000000000001,273.11799999999999,67.885999999999996]
[{"$f":"Clavet!A189","v":"  2019/03/08 15:00:00"},"        Z","        Z","        Z","        Z",21.911000000000001,0,-9.5649999999999995,1.8560000000000001,259.03100000000001,66.995999999999995]
[{"$f":"Clavet!A190","v":"  2019/03/08 16:00:00"},0.316,2.3050000000000002,2.6219999999999999,42.600999999999999,6.476,0,-9.3559999999999999,1.819,270.64400000000001,66.034000000000006]
[{"$f":"Clavet!A191","v":"  2019/03/08 17:00:00"},0.17399999999999999,2.036,2.2080000000000002,44.326999999999998,3.5790000000000002,0,-9.6519999999999992,1.796,265.11799999999999,67.001000000000005]
[{"$f":"Clavet!A192","v":"  2019/03/08 18:00:00"},0.20699999999999999,2.597,2.8029999999999999,42.639000000000003,4.4370000000000003,0,-9.7929999999999993,1.419,265.58,69.912000000000006]
[{"$f":"Clavet!A193","v":"  2019/03/08 19:00:00"},3.5000000000000003E-2,2.0779999999999998,2.109,42.189,6.7869999999999999,0,-9.7629999999999999,1.4630000000000001,263.02300000000002,72.533000000000001]
[{"$f":"Clavet!A194","v":"  2019/03/08 20:00:00"},7.8E-2,2.1389999999999998,2.2160000000000002,39.835000000000001,5.4119999999999999,0,-9.7799999999999994,2.11,265.39,76.117000000000004]
[{"$f":"Clavet!A195","v":"  2019/03/08 21:00:00"},3.9E-2,2.3969999999999998,2.4359999999999999,39.006,4.8360000000000003,0,-9.6180000000000003,1.766,268.34300000000002,76.369]
[{"$f":"Clavet!A196","v":"  2019/03/08 22:00:00"},5.5E-2,2.9209999999999998,2.9750000000000001,37.616,4.7039999999999997,0,-9.4109999999999996,2.093,262.61200000000002,75.403999999999996]
[{"$f":"Clavet!A197","v":"  2019/03/08 23:00:00"},5.8000000000000003E-2,2.0569999999999999,2.1150000000000002,39.231000000000002,4.1829999999999998,0,-9.57,2.343,272.31299999999999,73.369]
[{"$f":"Clavet!A198","v":"  2019/03/09 00:00:00"},2.5000000000000001E-2,1.6970000000000001,1.7210000000000001,40.869,4.3739999999999997,0,-9.76,1.88,272.11200000000002,71.102000000000004]
[{"$f":"Clavet!A199","v":"  2019/03/09 01:00:00"},3.6999999999999998E-2,1.0269999999999999,1.0629999999999999,42.423000000000002,4.117,0,-9.6969999999999992,2.0009999999999999,268.22899999999998,69.834000000000003]
[{"$f":"Clavet!A200","v":"  2019/03/09 02:00:00"},5.8000000000000003E-2,0.78500000000000003,0.84199999999999997,42.625,2.7930000000000001,0,-9.9220000000000006,1.7709999999999999,261.52699999999999,68.424000000000007]
[{"$f":"Clavet!A201","v":"  2019/03/09 03:00:00"},-6.7000000000000004E-2,0.76500000000000001,0.7,42.235999999999997,2.2890000000000001,0,-9.1150000000000002,2.4420000000000002,271.37200000000001,64.067999999999998]
[{"$f":"Clavet!A202","v":"  2019/03/09 04:00:00"},-6.0999999999999999E-2,0.67200000000000004,0.61099999999999999,41.844000000000001,2.177,0,-9.5399999999999991,2.2189999999999999,269.608,62.557000000000002]
[{"$f":"Clavet!A203","v":"  2019/03/09 05:00:00"},-2.4E-2,0.71,0.68500000000000005,41.143000000000001,2.5760000000000001,0,-11.04,2.0779999999999998,259.71199999999999,62.585999999999999]
[{"$f":"Clavet!A204","v":"  2019/03/09 06:00:00"},-2.4E-2,0.82799999999999996,0.80300000000000005,41.34,3.036,0,-12.321,1.542,263.01299999999998,63.482999999999997]
[{"$f":"Clavet!A205","v":"  2019/03/09 07:00:00"},0.16900000000000001,0.89,1.0589999999999999,41.228000000000002,3.532,0,-13.276,1.887,273.57100000000003,65.759]
[{"$f":"Clavet!A206","v":"  2019/03/09 08:00:00"},4.2000000000000003E-2,1.01,1.0509999999999999,40.808999999999997,3.6309999999999998,0,-13.420999999999999,1.726,273.95100000000002,65.911000000000001]
[{"$f":"Clavet!A207","v":"  2019/03/09 09:00:00"},0.24399999999999999,1.1399999999999999,1.3839999999999999,40.649000000000001,2.2930000000000001,0,-13.053000000000001,2.0649999999999999,291.29399999999998,63.777999999999999]
[{"$f":"Clavet!A208","v":"  2019/03/09 10:00:00"},0.36199999999999999,1.2969999999999999,1.659,40.683,1.609,0,-11.55,2.2989999999999999,276.67599999999999,61.503999999999998]
[{"$f":"Clavet!A209","v":"  2019/03/09 11:00:00"},0.26600000000000001,0.90200000000000002,1.1679999999999999,41.709000000000003,1.6950000000000001,0,-9.9860000000000007,2.2160000000000002,267.12700000000001,58.439]
[{"$f":"Clavet!A210","v":"  2019/03/09 12:00:00"},8.5999999999999993E-2,0.66600000000000004,0.751,42.402000000000001,1.6659999999999999,0,-8.6579999999999995,2.4430000000000001,266.49299999999999,56.92]
[{"$f":"Clavet!A211","v":"  2019/03/09 13:00:00"},0.78700000000000003,0.83199999999999996,1.62,42.637999999999998,1.1200000000000001,0,-7.0439999999999996,2.2440000000000002,267.52,54.747]
[{"$f":"Clavet!A212","v":"  2019/03/09 14:00:00"},"        Z","        Z","        Z","        Z",0.81,0,-6.5350000000000001,2.9380000000000002,264.81099999999998,55.47]
[{"$f":"Clavet!A213","v":"  2019/03/09 15:00:00"},8.0000000000000002E-3,0.52500000000000002,0.53300000000000003,44.06,0.91600000000000004,0,-6.2670000000000003,2.879,260.35199999999998,54.404000000000003]
[{"$f":"Clavet!A214","v":"  2019/03/09 16:00:00"},1.7999999999999999E-2,0.49099999999999999,0.51,44.122999999999998,0.90700000000000003,0,-5.7750000000000004,2.581,257.40499999999997,51.612000000000002]
[{"$f":"Clavet!A215","v":"  2019/03/09 17:00:00"},0.26100000000000001,0.91200000000000003,1.173,43.423999999999999,1.0029999999999999,0,-5.9710000000000001,2.323,261.17899999999997,52.124000000000002]
[{"$f":"Clavet!A216","v":"  2019/03/09 18:00:00"},5.5E-2,0.84699999999999998,0.90200000000000002,42.503999999999998,1.048,0,-6.7119999999999997,1.5609999999999999,277.13400000000001,55.5]
[{"$f":"Clavet!A217","v":"  2019/03/09 19:00:00"},-2.1000000000000001E-2,0.82499999999999996,0.80300000000000005,41.033999999999999,2.5579999999999998,0,-8.1769999999999996,1.091,299.815,58.786999999999999]
[{"$f":"Clavet!A218","v":"  2019/03/09 20:00:00"},8.9999999999999993E-3,0.74099999999999999,0.751,40.463000000000001,4.0579999999999998,0,-9.0909999999999993,0.874,250.49799999999999,61.424999999999997]
[{"$f":"Clavet!A219","v":"  2019/03/09 21:00:00"},6.9000000000000006E-2,0.78400000000000003,0.85299999999999998,39.134,5.0860000000000003,0,-8.9030000000000005,0.29099999999999998,188.59100000000001,60.911000000000001]
[{"$f":"Clavet!A220","v":"  2019/03/09 22:00:00"},-3.1E-2,0.64700000000000002,0.61399999999999999,37.962000000000003,4.4710000000000001,0,-8.7899999999999991,0.307,174.09399999999999,60.085000000000001]
[{"$f":"Clavet!A221","v":"  2019/03/09 23:00:00"},8.7999999999999995E-2,0.621,0.70899999999999996,40.006999999999998,4.7130000000000001,0,-9.8350000000000009,0.47299999999999998,136.422,62.463999999999999]
[{"$f":"Clavet!A222","v":"  2019/03/10 00:00:00"},-3.3000000000000002E-2,0.82399999999999995,0.79100000000000004,39.689,5.0170000000000003,0,-11.063000000000001,0.52700000000000002,217.91200000000001,65.867999999999995]
[{"$f":"Clavet!A223","v":"  2019/03/10 01:00:00"},9.0999999999999998E-2,0.84899999999999998,0.94,35.905000000000001,6.6180000000000003,0,-11.451000000000001,0.67700000000000005,224.16,67.188000000000002]
[{"$f":"Clavet!A224","v":"  2019/03/10 02:00:00"},3.2000000000000001E-2,0.872,0.90400000000000003,34.003999999999998,6.125,0,-11.882,0.54800000000000004,182.71799999999999,68.197000000000003]
[{"$f":"Clavet!A225","v":"  2019/03/10 03:00:00"},4.9000000000000002E-2,0.48299999999999998,0.53300000000000003,29.422000000000001,5.2809999999999997,0,-13.725,0.53300000000000003,183.39500000000001,71.459000000000003]
[{"$f":"Clavet!A226","v":"  2019/03/10 04:00:00"},4.8000000000000001E-2,0.28100000000000003,0.32800000000000001,30.221,4.5270000000000001,0,-15.906000000000001,0.79500000000000004,174.44499999999999,74.298000000000002]
[{"$f":"Clavet!A227","v":"  2019/03/10 05:00:00"},-2.5000000000000001E-2,0.20100000000000001,0.17699999999999999,29.638000000000002,3.6549999999999998,0,-17.408999999999999,0.97299999999999998,167.303,72.623999999999995]
[{"$f":"Clavet!A228","v":"  2019/03/10 06:00:00"},-4.7E-2,0.27400000000000002,0.22700000000000001,30.477,3.5590000000000002,0,-17.684000000000001,0.70499999999999996,157.453,73.289000000000001]
[{"$f":"Clavet!A229","v":"  2019/03/10 07:00:00"},5.2999999999999999E-2,0.29799999999999999,0.35199999999999998,34.729999999999997,2.8519999999999999,0,-16.318000000000001,0.84599999999999997,198.50399999999999,72.186000000000007]
[{"$f":"Clavet!A230","v":"  2019/03/10 08:00:00"},2.9000000000000001E-2,0.27700000000000002,0.307,35.557000000000002,2.399,0,-15.420999999999999,0.72099999999999997,171.15100000000001,71.334000000000003]
[{"$f":"Clavet!A231","v":"  2019/03/10 09:00:00"},9.2999999999999999E-2,0.52300000000000002,0.61499999999999999,36.527999999999999,2.319,0,-12.903,0.80100000000000005,95.578999999999994,65.981999999999999]
[{"$f":"Clavet!A232","v":"  2019/03/10 10:00:00"},0.378,0.76700000000000002,1.1459999999999999,37.215000000000003,1.4339999999999999,0,-11.62,0.98199999999999998,19.149000000000001,62.281999999999996]
[{"$f":"Clavet!A233","v":"  2019/03/10 11:00:00"},0.17399999999999999,0.65100000000000002,0.82499999999999996,41.067,1.617,0,-7.5679999999999996,1.1080000000000001,40.253999999999998,55.057000000000002]
[{"$f":"Clavet!A234","v":"  2019/03/10 12:00:00"},0.189,0.77500000000000002,0.96499999999999997,45.268000000000001,2.105,0,-4.843,1.2250000000000001,45.271000000000001,49.569000000000003]
[{"$f":"Clavet!A235","v":"  2019/03/10 13:00:00"},"        Z","        Z","        Z","        Z",2.31,0,-2.6059999999999999,0.53500000000000003,2.14,44.609000000000002]
[{"$f":"Clavet!A236","v":"  2019/03/10 14:00:00"},0.21299999999999999,0.81499999999999995,1.028,46.944000000000003,2.3439999999999999,0,-1.0609999999999999,2.3980000000000001,208.34299999999999,40.823]
[{"$f":"Clavet!A237","v":"  2019/03/10 15:00:00"},5.7000000000000002E-2,0.80100000000000005,0.85799999999999998,49.59,2.2799999999999998,0,-1.6140000000000001,3.4319999999999999,202.31800000000001,41.978000000000002]
[{"$f":"Clavet!A238","v":"  2019/03/10 16:00:00"},0.183,0.70399999999999996,0.88700000000000001,52.043999999999997,2.4649999999999999,0,-2.121,3.4369999999999998,201.5,42.923000000000002]
[{"$f":"Clavet!A239","v":"  2019/03/10 17:00:00"},9.5000000000000001E-2,0.70599999999999996,0.80100000000000005,51.610999999999997,2.9369999999999998,0,-2.7450000000000001,3.4039999999999999,203.21700000000001,42.106000000000002]
[{"$f":"Clavet!A240","v":"  2019/03/10 18:00:00"},7.8E-2,0.86799999999999999,0.94499999999999995,53.536000000000001,5.8,0,-3.3570000000000002,2.2759999999999998,200.58099999999999,43.470999999999997]
[{"$f":"Clavet!A241","v":"  2019/03/10 19:00:00"},0.108,1.21,1.3180000000000001,54.008000000000003,8.4060000000000006,0,-4.7389999999999999,1.4810000000000001,199.18100000000001,45.719000000000001]
[{"$f":"Clavet!A242","v":"  2019/03/10 20:00:00"},-1.4999999999999999E-2,1.5329999999999999,1.518,53.634,11.933999999999999,0,-6.641,1.369,179.28899999999999,52.927999999999997]
[{"$f":"Clavet!A243","v":"  2019/03/10 21:00:00"},0.11600000000000001,1.71,1.825,54.781999999999996,14.657999999999999,0,-7.9459999999999997,2.0259999999999998,182.505,59.02]
[{"$f":"Clavet!A244","v":"  2019/03/10 22:00:00"},6.0999999999999999E-2,2.0550000000000002,2.1160000000000001,55.816000000000003,14.852,0,-8.25,2.198,191.804,61.146999999999998]
[{"$f":"Clavet!A245","v":"  2019/03/10 23:00:00"},0.17199999999999999,2.2370000000000001,2.4079999999999999,55.335999999999999,14.516,0,-7.6159999999999997,2.306,201.012,59.430999999999997]
[{"$f":"Clavet!A246","v":"  2019/03/11 00:00:00"},0.10100000000000001,2.1819999999999999,2.2829999999999999,53.771000000000001,12.074,0,-6.9669999999999996,2.887,200.93299999999999,57.337000000000003]
[{"$f":"Clavet!A247","v":"  2019/03/11 01:00:00"},0.2,2.024,2.2240000000000002,53.381,10.669,0,-6.98,1.82,200.494,56.423000000000002]
[{"$f":"Clavet!A248","v":"  2019/03/11 02:00:00"},0.154,2.044,2.198,52.496000000000002,11.105,0,-7.7039999999999997,2.1549999999999998,196.386,59.036999999999999]
[{"$f":"Clavet!A249","v":"  2019/03/11 03:00:00"},1.2999999999999999E-2,2.1930000000000001,2.2050000000000001,51.597000000000001,10.791,0,-7.7990000000000004,2.09,188.86699999999999,58.402999999999999]
[{"$f":"Clavet!A250","v":"  2019/03/11 04:00:00"},0.19500000000000001,2.242,2.4359999999999999,50.543999999999997,12.028,0,-8.1739999999999995,1.0149999999999999,179.078,58.662999999999997]
[{"$f":"Clavet!A251","v":"  2019/03/11 05:00:00"},9.6000000000000002E-2,2.2959999999999998,2.3919999999999999,50.305999999999997,11.305,0,-7.4379999999999997,1.01,182.494,57.75]
[{"$f":"Clavet!A252","v":"  2019/03/11 06:00:00"},0.20200000000000001,2.496,2.6970000000000001,49.978999999999999,12.367000000000001,0,-7.2160000000000002,1.3520000000000001,210.17,60.360999999999997]
[{"$f":"Clavet!A253","v":"  2019/03/11 07:00:00"},0.14499999999999999,2.758,2.9020000000000001,48.481999999999999,11.266999999999999,0,-7.0810000000000004,1.081,185.66800000000001,61.043999999999997]
[{"$f":"Clavet!A254","v":"  2019/03/11 08:00:00"},0.23200000000000001,2.2629999999999999,2.4940000000000002,48.78,9.0850000000000009,0,-6.8019999999999996,0.63100000000000001,179.19300000000001,59.378]
[{"$f":"Clavet!A255","v":"  2019/03/11 09:00:00"},0.28699999999999998,2.5470000000000002,2.8340000000000001,49.073,6.74,0,-5.0430000000000001,0.66600000000000004,201.364,53.600999999999999]
[{"$f":"Clavet!A256","v":"  2019/03/11 10:00:00"},0.44600000000000001,2.63,3.0750000000000002,50.52,3.1440000000000001,0,-2.72,0.80800000000000005,219.922,47.415999999999997]
[{"$f":"Clavet!A257","v":"  2019/03/11 11:00:00"},0.63600000000000001,2.89,3.5259999999999998,51.58,2.2730000000000001,0,-2.8820000000000001,1.0089999999999999,26.303000000000001,49.332999999999998]
[{"$f":"Clavet!A258","v":"  2019/03/11 12:00:00"},"        Z","        Z","        Z","        Z",1.9750000000000001,0,0.72099999999999997,0.77400000000000002,323.8,42.578000000000003]
[{"$f":"Clavet!A259","v":"  2019/03/11 13:00:00"},0.44800000000000001,2.4620000000000002,2.9089999999999998,53.360999999999997,1.798,0,1.4550000000000001,0.80800000000000005,11.442,41.351999999999997]
[{"$f":"Clavet!A260","v":"  2019/03/11 14:00:00"},0.38900000000000001,2.2909999999999999,2.6789999999999998,54.857999999999997,1.633,0,2.5089999999999999,0.66700000000000004,23.367000000000001,39.594999999999999]
[{"$f":"Clavet!A261","v":"  2019/03/11 15:00:00"},0.48699999999999999,2.6509999999999998,3.1379999999999999,56.365000000000002,2.2999999999999998,0,3.8879999999999999,1.6020000000000001,287.49400000000003,37.277000000000001]
[{"$f":"Clavet!A262","v":"  2019/03/11 16:00:00"},0.54,3.2050000000000001,3.7429999999999999,56.704999999999998,2.899,0,4.5890000000000004,0.879,318.93200000000002,36.363999999999997]
[{"$f":"Clavet!A263","v":"  2019/03/11 17:00:00"},0.35399999999999998,2.5289999999999999,2.8820000000000001,54.914000000000001,2.4449999999999998,0,4.8959999999999999,0.754,186.57900000000001,34.881999999999998]
[{"$f":"Clavet!A264","v":"  2019/03/11 18:00:00"},0.13500000000000001,1.1559999999999999,1.2889999999999999,53.316000000000003,1.4419999999999999,0,5.2789999999999999,1.8520000000000001,202.34700000000001,33.463000000000001]
[{"$f":"Clavet!A265","v":"  2019/03/11 19:00:00"},0.13200000000000001,1.208,1.34,52.969000000000001,1.921,0,4.1289999999999996,0.69599999999999995,191.447,36.055]
[{"$f":"Clavet!A266","v":"  2019/03/11 20:00:00"},0.13500000000000001,1.2809999999999999,1.4139999999999999,53.265000000000001,2.9470000000000001,0,2.3580000000000001,0.83399999999999996,189.61699999999999,40.286999999999999]
[{"$f":"Clavet!A267","v":"  2019/03/11 21:00:00"},0.13500000000000001,1.4650000000000001,1.599,56.317,5.5380000000000003,0,0.83499999999999996,0.92900000000000005,185.584,41.31]
[{"$f":"Clavet!A268","v":"  2019/03/11 22:00:00"},0.16500000000000001,1.637,1.8009999999999999,55.963000000000001,6.8840000000000003,0,-0.115,0.41499999999999998,209.255,43.476999999999997]
[{"$f":"Clavet!A269","v":"  2019/03/11 23:00:00"},0.106,1.764,1.869,54.622999999999998,6.92,0,-0.60099999999999998,0.79100000000000004,147.203,46.232999999999997]
[{"$f":"Clavet!A270","v":"  2019/03/12 00:00:00"},0.20699999999999999,2.0470000000000002,2.2519999999999998,53.018999999999998,8.2639999999999993,0,-0.67400000000000004,0.498,241.934,48.63]
[{"$f":"Clavet!A271","v":"  2019/03/12 01:00:00"},4.4999999999999998E-2,2.2469999999999999,2.29,51.578000000000003,9.5449999999999999,0,-1.1100000000000001,0.51200000000000001,197.476,52.186]
[{"$f":"Clavet!A272","v":"  2019/03/12 02:00:00"},9.4E-2,2.4620000000000002,2.5550000000000002,52.573999999999998,13.326000000000001,0,-2.1440000000000001,1.5609999999999999,261.108,55.247999999999998]
[{"$f":"Clavet!A273","v":"  2019/03/12 03:00:00"},6.3E-2,2.6219999999999999,2.6829999999999998,54.267000000000003,14.477,0,-2.9569999999999999,0.94399999999999995,265.97800000000001,55.566000000000003]
[{"$f":"Clavet!A274","v":"  2019/03/12 04:00:00"},7.3999999999999996E-2,2.72,2.7930000000000001,53.179000000000002,14.975,0,-3.6720000000000002,0.61099999999999999,229.07900000000001,57.124000000000002]
[{"$f":"Clavet!A275","v":"  2019/03/12 05:00:00"},0.05,2.7210000000000001,2.77,50.331000000000003,16.437999999999999,0,-4.6630000000000003,0.20599999999999999,168.76599999999999,60.27]
[{"$f":"Clavet!A276","v":"  2019/03/12 06:00:00"},0.155,3.1760000000000002,3.3290000000000002,48.780999999999999,19.733000000000001,0,-5.3339999999999996,0.626,191.773,63.039000000000001]
[{"$f":"Clavet!A277","v":"  2019/03/12 07:00:00"},5.0000000000000001E-3,2.2429999999999999,2.246,41.384999999999998,21.254999999999999,0,-6.3979999999999997,0.70899999999999996,182.511,67.186000000000007]
[{"$f":"Clavet!A278","v":"  2019/03/12 08:00:00"},1.2999999999999999E-2,2.7530000000000001,2.7639999999999998,44.814,16.506,0,-4.726,1.1499999999999999,214.089,63.936999999999998]
[{"$f":"Clavet!A279","v":"  2019/03/12 09:00:00"},0.28299999999999997,3.5449999999999999,3.8279999999999998,44.176000000000002,12.583,0,-2.4809999999999999,1.3320000000000001,228.36500000000001,57.655999999999999]
[{"$f":"Clavet!A280","v":"  2019/03/12 10:00:00"},0.73699999999999999,4.6159999999999997,5.3520000000000003,46.162999999999997,6.7510000000000003,0,0.38200000000000001,2.7170000000000001,262.24099999999999,52.151000000000003]
[{"$f":"Clavet!A281","v":"  2019/03/12 11:00:00"},"        Z","        Z","        Z","        Z",4.2679999999999998,0,1.081,2.6539999999999999,264.61599999999999,52.326999999999998]
[{"$f":"Clavet!A282","v":"  2019/03/12 12:00:00"},0.97199999999999998,4.3310000000000004,5.3019999999999996,47.771000000000001,3.306,0,2.375,2.42,283.096,51.466999999999999]
[{"$f":"Clavet!A283","v":"  2019/03/12 13:00:00"},0.76200000000000001,3.5950000000000002,4.3559999999999999,49.85,2.14,0,4.01,3.169,263.54500000000002,46.627000000000002]
[{"$f":"Clavet!A284","v":"  2019/03/12 14:00:00"},0.47399999999999998,3.2749999999999999,3.7469999999999999,51.201999999999998,1.5189999999999999,0,5.2510000000000003,2.4830000000000001,264.85599999999999,46.351999999999997]
[{"$f":"Clavet!A285","v":"  2019/03/12 15:00:00"},0.34599999999999997,2.7839999999999998,3.1269999999999998,49.713000000000001,0.84699999999999998,0,5.6230000000000002,2.4649999999999999,260.38499999999999,49.055]
[{"$f":"Clavet!A286","v":"  2019/03/12 16:00:00"},0.28799999999999998,2.6930000000000001,2.98,48.174999999999997,0.72799999999999998,0,5.8760000000000003,2.3140000000000001,255.34800000000001,48.889000000000003]
[{"$f":"Clavet!A287","v":"  2019/03/12 17:00:00"},-1.2E-2,2.4510000000000001,2.4380000000000002,47.427,0.80800000000000005,0,5.407,2.2440000000000002,246.42599999999999,52.582000000000001]
[{"$f":"Clavet!A288","v":"  2019/03/12 18:00:00"},1.2999999999999999E-2,2.0489999999999999,2.0609999999999999,44.622999999999998,0.96699999999999997,0,4.4359999999999999,2.1829999999999998,256.73700000000002,58.398000000000003]
[{"$f":"Clavet!A289","v":"  2019/03/12 19:00:00"},-2.5000000000000001E-2,2.1030000000000002,2.0760000000000001,43.4,1.349,0,3.42,1.6910000000000001,245.64599999999999,63.036000000000001]
[{"$f":"Clavet!A290","v":"  2019/03/12 20:00:00"},5.7000000000000002E-2,1.929,1.984,42.38,1.516,0,3.04,0.79800000000000004,262.68599999999998,64.262]
[{"$f":"Clavet!A291","v":"  2019/03/12 21:00:00"},1.7000000000000001E-2,1.677,1.6930000000000001,41.316000000000003,1.349,0,2.5819999999999999,0.83199999999999996,216.35900000000001,64.349999999999994]
[{"$f":"Clavet!A292","v":"  2019/03/12 22:00:00"},-2.9000000000000001E-2,1.5069999999999999,1.476,41.558,1.47,0,2.1349999999999998,1.1399999999999999,231.72900000000001,64.296999999999997]
[{"$f":"Clavet!A293","v":"  2019/03/12 23:00:00"},1.0999999999999999E-2,1.246,1.2549999999999999,41.860999999999997,1.423,0,1.696,1.165,230.72300000000001,64.914000000000001]
[{"$f":"Clavet!A294","v":"  2019/03/13 00:00:00"},5.2999999999999999E-2,1.252,1.302,41.893000000000001,1.3580000000000001,0,1.3169999999999999,1.1020000000000001,229.20099999999999,65.055000000000007]
[{"$f":"Clavet!A295","v":"  2019/03/13 01:00:00"},2.7E-2,1.1970000000000001,1.2210000000000001,40.773000000000003,1.758,0,9.9000000000000005E-2,0.89500000000000002,211.30799999999999,67.347999999999999]
[{"$f":"Clavet!A296","v":"  2019/03/13 02:00:00"},8.5999999999999993E-2,1.1459999999999999,1.23,41.14,1.5649999999999999,0,-0.12,1.3779999999999999,258.74400000000003,66.599000000000004]
[{"$f":"Clavet!A297","v":"  2019/03/13 03:00:00"},0.126,1.038,1.161,41.171999999999997,1.605,0,-1.0660000000000001,1.4119999999999999,250.042,67.441999999999993]
[{"$f":"Clavet!A298","v":"  2019/03/13 04:00:00"},0.13800000000000001,0.92800000000000005,1.0649999999999999,40.421999999999997,1.966,0,-2.1840000000000002,1.2869999999999999,251.26300000000001,69.088999999999999]
[{"$f":"Clavet!A299","v":"  2019/03/13 05:00:00"},5.5E-2,0.86399999999999999,0.91500000000000004,39.265999999999998,2.2149999999999999,0,-3.0329999999999999,1.069,237.52500000000001,71.168999999999997]
[{"$f":"Clavet!A300","v":"  2019/03/13 06:00:00"},0.222,1.0129999999999999,1.2310000000000001,38.659999999999997,2.952,0,-4.22,0.60799999999999998,247.482,72.138000000000005]
[{"$f":"Clavet!A301","v":"  2019/03/13 07:00:00"},0.23100000000000001,1.7170000000000001,1.9450000000000001,35.942,3.4969999999999999,0,-5.3319999999999999,0.81100000000000005,223.761,75.37]
[{"$f":"Clavet!A302","v":"  2019/03/13 08:00:00"},0.21299999999999999,1.264,1.4750000000000001,34.497999999999998,3.17,0,-6.0259999999999998,0.17,267.69499999999999,74.192999999999998]
[{"$f":"Clavet!A303","v":"  2019/03/13 09:00:00"},0.41199999999999998,1.58,1.988,37.825000000000003,1.6990000000000001,0,-2.2240000000000002,1.173,252.25,61.375]
[{"$f":"Clavet!A304","v":"  2019/03/13 10:00:00"},"        Z","        Z","        Z","        Z",1.0489999999999999,0,1.4999999999999999E-2,1.111,274.07,54.015000000000001]
[{"$f":"Clavet!A305","v":"  2019/03/13 11:00:00"},0.48299999999999998,1.3759999999999999,1.855,40.616999999999997,1.3109999999999999,0,0.252,1.7629999999999999,302.23599999999999,54.255000000000003]
[{"$f":"Clavet!A306","v":"  2019/03/13 12:00:00"},0.91400000000000003,2.069,2.98,40.481999999999999,1.216,0,1.359,1.851,276.59699999999998,54.017000000000003]
[{"$f":"Clavet!A307","v":"  2019/03/13 13:00:00"},1.605,2.7469999999999999,4.3499999999999996,41.393000000000001,1.272,0,2.92,1.9079999999999999,275.46100000000001,49.86]
[{"$f":"Clavet!A308","v":"  2019/03/13 14:00:00"},0.96599999999999997,2.16,3.1230000000000002,43.228999999999999,1.2150000000000001,0,4.0259999999999998,2.5619999999999998,260.61,45.27]
[{"$f":"Clavet!A309","v":"  2019/03/13 15:00:00"},0.64300000000000002,1.657,2.298,45.62,1.2070000000000001,0,4.9080000000000004,2.347,257.22500000000002,43.62]
[{"$f":"Clavet!A310","v":"  2019/03/13 16:00:00"},0.13500000000000001,0.93100000000000005,1.0640000000000001,46.271999999999998,1.1060000000000001,0,5.0919999999999996,2.6059999999999999,258.31700000000001,41.555999999999997]
[{"$f":"Clavet!A311","v":"  2019/03/13 17:00:00"},8.6999999999999994E-2,0.81899999999999995,0.90300000000000002,45.237000000000002,1.4019999999999999,0,5.1059999999999999,1.873,254.39699999999999,41.414999999999999]
[{"$f":"Clavet!A312","v":"  2019/03/13 18:00:00"},8.4000000000000005E-2,0.84099999999999997,0.92300000000000004,46.524999999999999,1.0449999999999999,0,4.4240000000000004,1.5309999999999999,246.84700000000001,41.41]
[{"$f":"Clavet!A313","v":"  2019/03/13 19:00:00"},1.6E-2,0.84,0.85399999999999998,45.948,1.2250000000000001,0,2.714,1.147,210.339,43.604999999999997]
[{"$f":"Clavet!A314","v":"  2019/03/13 20:00:00"},0.123,0.61399999999999999,0.73699999999999999,44.774000000000001,2.02,0,1.5820000000000001,1.4239999999999999,201.209,45.122]
[{"$f":"Clavet!A315","v":"  2019/03/13 21:00:00"},-2.4E-2,0.67100000000000004,0.64600000000000002,44.564999999999998,2.069,0,0.93799999999999994,1.556,206.47800000000001,45.838999999999999]
[{"$f":"Clavet!A316","v":"  2019/03/13 22:00:00"},2.7E-2,0.95299999999999996,0.97799999999999998,45.338999999999999,2.5670000000000002,0,0.27500000000000002,2.0369999999999999,225.45,51.911000000000001]
[{"$f":"Clavet!A317","v":"  2019/03/13 23:00:00"},-2E-3,1.1200000000000001,1.117,45.792000000000002,3.0859999999999999,0,-1.4E-2,1.925,212.52699999999999,52.52]
[{"$f":"Clavet!A318","v":"  2019/03/14 00:00:00"},-2.1000000000000001E-2,1.081,1.06,45.908999999999999,2.7909999999999999,0,-0.51,2.0779999999999998,213.11799999999999,51.186]
[{"$f":"Clavet!A319","v":"  2019/03/14 01:00:00"},-2E-3,1.242,1.24,46.35,3.3679999999999999,0,-1.1379999999999999,1.6579999999999999,210.85599999999999,50.819000000000003]
[{"$f":"Clavet!A320","v":"  2019/03/14 02:00:00"},4.3999999999999997E-2,1.5049999999999999,1.55,44.911000000000001,4.5,0,-2.028,1.05,221.40799999999999,52.148000000000003]
[{"$f":"Clavet!A321","v":"  2019/03/14 03:00:00"},9.1999999999999998E-2,1.5880000000000001,1.679,43.631,4.806,0,-2.2450000000000001,1.917,215.18799999999999,52.716000000000001]
[{"$f":"Clavet!A322","v":"  2019/03/14 04:00:00"},2.9000000000000001E-2,1.58,1.609,42.404000000000003,4.2009999999999996,0,-2.5510000000000002,1.5940000000000001,220.81399999999999,54.014000000000003]
[{"$f":"Clavet!A323","v":"  2019/03/14 05:00:00"},-6.4000000000000001E-2,1.6739999999999999,1.61,41.177999999999997,4.42,0,-3.01,1.1299999999999999,248.69300000000001,55.823]
[{"$f":"Clavet!A324","v":"  2019/03/14 06:00:00"},-5.0000000000000001E-3,2.145,2.141,40.430999999999997,4.6100000000000003,0,-3.3679999999999999,1.899,252.70099999999999,57.058999999999997]
[{"$f":"Clavet!A325","v":"  2019/03/14 07:00:00"},3.1E-2,2.532,2.5630000000000002,39.264000000000003,4.2119999999999997,0,-3.839,1.8540000000000001,254.738,59.987000000000002]
[{"$f":"Clavet!A326","v":"  2019/03/14 08:00:00"},0.3,2.6240000000000001,2.9260000000000002,38.909999999999997,3.0920000000000001,0,-3.786,2.0990000000000002,260.55399999999997,61.655000000000001]
[{"$f":"Clavet!A327","v":"  2019/03/14 09:00:00"},"        Z","        Z","        Z","        Z",1.9239999999999999,0,-3.4790000000000001,2.1139999999999999,278.435,61.085999999999999]
[{"$f":"Clavet!A328","v":"  2019/03/14 10:00:00"},"        C","        C","        C","        C","        C",0,-2.3769999999999998,1.978,270.10500000000002,60.82]
[{"$f":"Clavet!A329","v":"  2019/03/14 11:00:00"},"        C","        C","        C","        C","        C",0,-1.2250000000000001,2.048,263.00900000000001,61.927]
[{"$f":"Clavet!A330","v":"  2019/03/14 12:00:00"},"        C","        C","        C","        C","        C",0,-0.13100000000000001,2.1349999999999998,264.90199999999999,61.671999999999997]
[{"$f":"Clavet!A331","v":"  2019/03/14 13:00:00"},"        C","        C","        C","        C","        C",0,1.1200000000000001,2.1320000000000001,254.078,59.892000000000003]
[{"$f":"Clavet!A332","v":"  2019/03/14 14:00:00"},"        C","        C","        C","        C","        C",0,2.2669999999999999,1.825,275.303,55.716000000000001]
[{"$f":"Clavet!A333","v":"  2019/03/14 15:00:00"},"        C","        C","        C","        C","        C",0,3.343,1.512,275.57400000000001,51.825000000000003]
[{"$f":"Clavet!A334","v":"  2019/03/14 16:00:00"},"        C","        C","        C","        C","        C",0,3.9,1.6870000000000001,260.149,48.503999999999998]
[{"$f":"Clavet!A335","v":"  2019/03/14 17:00:00"},"        C","        C","        C","        C","        C",0,3.871,1.6970000000000001,258.89699999999999,47.567]
[{"$f":"Clavet!A336","v":"  2019/03/14 18:00:00"},"        C","        C","        C","        C","        C",0,3.0880000000000001,1.327,248.62,49.173999999999999]
[{"$f":"Clavet!A337","v":"  2019/03/14 19:00:00"},"        C","        C","        C","        C","        C",0,0.58599999999999997,0.58099999999999996,195.30799999999999,54.546999999999997]
[{"$f":"Clavet!A338","v":"  2019/03/14 20:00:00"},"        C","        C","        C","        C","        C",0,-1.5669999999999999,0.79900000000000004,158.92699999999999,60.704000000000001]
[{"$f":"Clavet!A339","v":"  2019/03/14 21:00:00"},"        C","        C","        C","        C","        C",0,-2.556,0.92800000000000005,170.34200000000001,63.313000000000002]
[{"$f":"Clavet!A340","v":"  2019/03/14 22:00:00"},"        C","        C","        C","        C","        C",0,-3.9249999999999998,1.06,167.679,66.477999999999994]
[{"$f":"Clavet!A341","v":"  2019/03/14 23:00:00"},"        C","        C","        C","        C","        C",0,-4.742,0.89900000000000002,164.63200000000001,66.644000000000005]
[{"$f":"Clavet!A342","v":"  2019/03/15 00:00:00"},"        C","        C","        C","        C","        C",0,-5.6059999999999999,0.94399999999999995,167.73500000000001,67.790000000000006]
[{"$f":"Clavet!A343","v":"  2019/03/15 01:00:00"},4.1000000000000002E-2,0.42199999999999999,0.46200000000000002,34.840000000000003,1.111,0,-5.3049999999999997,0.79300000000000004,170.66399999999999,66.326999999999998]
[{"$f":"Clavet!A344","v":"  2019/03/15 02:00:00"},0.128,0.49199999999999999,0.61899999999999999,35.604999999999997,1.1830000000000001,0,-6.3789999999999996,0.86,152.18700000000001,70.661000000000001]
[{"$f":"Clavet!A345","v":"  2019/03/15 03:00:00"},8.6999999999999994E-2,0.52300000000000002,0.60799999999999998,35.808999999999997,1.71,0,-6.9690000000000003,0.68899999999999995,162.77099999999999,71.938999999999993]
[{"$f":"Clavet!A346","v":"  2019/03/15 04:00:00"},7.3999999999999996E-2,0.66100000000000003,0.73399999999999999,37.661999999999999,2.464,0,-6.5449999999999999,0.97099999999999997,156.84299999999999,70.555999999999997]
[{"$f":"Clavet!A347","v":"  2019/03/15 05:00:00"},0.13200000000000001,1.044,1.1739999999999999,42.789000000000001,4.7949999999999999,0,-5.5579999999999998,0.751,152.43100000000001,68.057000000000002]
[{"$f":"Clavet!A348","v":"  2019/03/15 06:00:00"},0.13100000000000001,1.633,1.7609999999999999,45.325000000000003,5.7889999999999997,0,-5.2450000000000001,0.80800000000000005,130.755,66.37]
[{"$f":"Clavet!A349","v":"  2019/03/15 07:00:00"},0.16400000000000001,1.716,1.8779999999999999,44.134999999999998,6.056,0,-6.2859999999999996,0.52100000000000002,91.111999999999995,69.174000000000007]
[{"$f":"Clavet!A350","v":"  2019/03/15 08:00:00"},"        Z","        Z","        Z","        Z",3.363,0,-3.7509999999999999,0.876,180.232,60.996000000000002]
[{"$f":"Clavet!A351","v":"  2019/03/15 09:00:00"},0.39800000000000002,1.419,1.8160000000000001,47.783999999999999,1.7270000000000001,0,-1.754,1.1559999999999999,199.66300000000001,54.578000000000003]
[{"$f":"Clavet!A352","v":"  2019/03/15 10:00:00"},0.36,1.226,1.5840000000000001,49.161000000000001,1.2629999999999999,0,-0.438,0.98099999999999998,292.298,49.17]
[{"$f":"Clavet!A353","v":"  2019/03/15 11:00:00"},0.51900000000000002,1.4259999999999999,1.9430000000000001,49.709000000000003,1.48,0,0.55600000000000005,0.28100000000000003,262.88400000000001,46.783000000000001]
[{"$f":"Clavet!A354","v":"  2019/03/15 12:00:00"},0.378,1.37,1.746,55.017000000000003,1.9059999999999999,0,3.3860000000000001,2.2829999999999999,212.61,39.703000000000003]
[{"$f":"Clavet!A355","v":"  2019/03/15 13:00:00"},0.63100000000000001,2.3039999999999998,2.9329999999999998,54.408000000000001,3.3530000000000002,0,2.9119999999999999,2.2000000000000002,268.935,48.343000000000004]
[{"$f":"Clavet!A356","v":"  2019/03/15 14:00:00"},0.747,2.7610000000000001,3.5070000000000001,55.017000000000003,3.5470000000000002,0,3.4060000000000001,1.788,285.96100000000001,48.295000000000002]
[{"$f":"Clavet!A357","v":"  2019/03/15 15:00:00"},0.40699999999999997,2.2370000000000001,2.6429999999999998,56.591999999999999,3.125,0,4.2850000000000001,1.6719999999999999,285.81900000000002,45.496000000000002]
[{"$f":"Clavet!A358","v":"  2019/03/15 16:00:00"},0.36299999999999999,1.8779999999999999,2.2400000000000002,57.21,2.556,0,4.8460000000000001,2.4119999999999999,254.767,43.540999999999997]
[{"$f":"Clavet!A359","v":"  2019/03/15 17:00:00"},0.39700000000000002,1.633,2.028,56.415999999999997,2.5819999999999999,0,4.6760000000000002,2.4390000000000001,254.358,44.777999999999999]
[{"$f":"Clavet!A360","v":"  2019/03/15 18:00:00"},0.27200000000000002,1.8779999999999999,2.15,52.921999999999997,2.4990000000000001,0,2.3879999999999999,1.661,268.44299999999998,66.64]
[{"$f":"Clavet!A361","v":"  2019/03/15 19:00:00"},0.159,2.145,2.3039999999999998,50.055,4.3860000000000001,0,1.2410000000000001,0.22500000000000001,234.38399999999999,69.58]
[{"$f":"Clavet!A362","v":"  2019/03/15 20:00:00"},0.158,1.335,1.492,50.819000000000003,3.4809999999999999,0,1.073,0.999,274.30200000000002,72.019000000000005]
[{"$f":"Clavet!A363","v":"  2019/03/15 21:00:00"},0.184,1.01,1.1930000000000001,46.61,4.1909999999999998,0,-0.77200000000000002,0.78200000000000003,182.05799999999999,77.811000000000007]
[{"$f":"Clavet!A364","v":"  2019/03/15 22:00:00"},0.17199999999999999,0.82299999999999995,0.995,45.237000000000002,3.09,0,-0.70399999999999996,1.3859999999999999,198.83600000000001,70.908000000000001]
[{"$f":"Clavet!A365","v":"  2019/03/15 23:00:00"},0.16800000000000001,0.68,0.84799999999999998,50.055999999999997,2.0920000000000001,0,-0.375,1.8160000000000001,212.357,65.299000000000007]
[{"$f":"Clavet!A366","v":"  2019/03/16 00:00:00"},2.5999999999999999E-2,0.78500000000000003,0.81200000000000006,52.061,2.2490000000000001,0,0.22700000000000001,2.089,227.458,57.496000000000002]
[{"$f":"Clavet!A367","v":"  2019/03/16 01:00:00"},-2.3E-2,1.1519999999999999,1.129,51.984999999999999,2.1080000000000001,0,0.30099999999999999,2.214,248.35400000000001,53.082999999999998]
[{"$f":"Clavet!A368","v":"  2019/03/16 02:00:00"},0.06,1.4470000000000001,1.5069999999999999,50.844000000000001,2.0099999999999998,0,-0.19900000000000001,2.0569999999999999,243.77799999999999,51.957000000000001]
[{"$f":"Clavet!A369","v":"  2019/03/16 03:00:00"},-0.01,1.2250000000000001,1.214,50.6,2.0190000000000001,0,-0.55600000000000005,2.008,241.50800000000001,50.987000000000002]
[{"$f":"Clavet!A370","v":"  2019/03/16 04:00:00"},0.16800000000000001,1.486,1.6559999999999999,50.281999999999996,1.8720000000000001,0,-0.73399999999999999,1.9510000000000001,235.51300000000001,49.122999999999998]
[{"$f":"Clavet!A371","v":"  2019/03/16 05:00:00"},8.5000000000000006E-2,1.214,1.2989999999999999,50.5,1.75,0,-1.0469999999999999,1.7789999999999999,225.41300000000001,48.103000000000002]
[{"$f":"Clavet!A372","v":"  2019/03/16 06:00:00"},0.13,0.92400000000000004,1.0569999999999999,50.703000000000003,1.7470000000000001,0,-1.546,2.044,223.23,48.524000000000001]
[{"$f":"Clavet!A373","v":"  2019/03/16 07:00:00"},"        Z","        Z","        Z","        Z",1.784,0,-2.0179999999999998,2.0950000000000002,242.596,49.289000000000001]
[{"$f":"Clavet!A374","v":"  2019/03/16 08:00:00"},7.6999999999999999E-2,1.1890000000000001,1.266,50.499000000000002,1.923,0,-1.718,2.294,246.28899999999999,48.311]
[{"$f":"Clavet!A375","v":"  2019/03/16 09:00:00"},0.24,1.1240000000000001,1.3660000000000001,51.744999999999997,2.0390000000000001,0,-0.91200000000000003,2.9990000000000001,259.24799999999999,46.938000000000002]
[{"$f":"Clavet!A376","v":"  2019/03/16 10:00:00"},0.39800000000000002,1.357,1.756,52.917999999999999,2.7069999999999999,0,-0.23100000000000001,2.9769999999999999,261.67099999999999,46.673999999999999]
[{"$f":"Clavet!A377","v":"  2019/03/16 11:00:00"},0.5,1.351,1.853,54.033999999999999,2.754,0,0.95299999999999996,2.4929999999999999,267.50099999999998,44.817999999999998]
[{"$f":"Clavet!A378","v":"  2019/03/16 12:00:00"},0.48299999999999998,1.2989999999999999,1.7829999999999999,55.03,2.7280000000000002,0,1.9239999999999999,2.391,261.32400000000001,43.917999999999999]
[{"$f":"Clavet!A379","v":"  2019/03/16 13:00:00"},0.55500000000000005,1.61,2.1659999999999999,55.853999999999999,1.403,0,2.7919999999999998,2.077,259.452,43.295000000000002]
[{"$f":"Clavet!A380","v":"  2019/03/16 14:00:00"},0.44600000000000001,1.4159999999999999,1.865,57.046999999999997,1.546,0,3.7610000000000001,2.3149999999999999,261.55399999999997,42.451000000000001]
[{"$f":"Clavet!A381","v":"  2019/03/16 15:00:00"},0.36799999999999999,1.115,1.484,58.481000000000002,1.3129999999999999,0,4.8710000000000004,2.5659999999999998,259.863,39.622]
[{"$f":"Clavet!A382","v":"  2019/03/16 16:00:00"},0.40799999999999997,1.4379999999999999,1.847,57.816000000000003,1.405,0,5.3879999999999999,2.3769999999999998,259.358,37.341999999999999]
[{"$f":"Clavet!A383","v":"  2019/03/16 17:00:00"},0.14899999999999999,0.95099999999999996,1.1020000000000001,56.881999999999998,0.92700000000000005,0,5.218,2.181,250.78899999999999,36.177]
[{"$f":"Clavet!A384","v":"  2019/03/16 18:00:00"},4.5999999999999999E-2,1.01,1.0569999999999999,56.323,2.206,0,4.3390000000000004,1.92,247.20699999999999,38.253]
[{"$f":"Clavet!A385","v":"  2019/03/16 19:00:00"},0.106,1.3149999999999999,1.423,55.252000000000002,4.7110000000000003,0,2.7730000000000001,1.2849999999999999,241.43600000000001,41.478999999999999]
[{"$f":"Clavet!A386","v":"  2019/03/16 20:00:00"},0.16600000000000001,1.04,1.2070000000000001,54.904000000000003,3.766,0,1.653,0.92800000000000005,226.60599999999999,41.988999999999997]
[{"$f":"Clavet!A387","v":"  2019/03/16 21:00:00"},0.11600000000000001,1.101,1.218,53.819000000000003,3.5129999999999999,0,0.24099999999999999,0.755,216.136,43.582999999999998]
[{"$f":"Clavet!A388","v":"  2019/03/16 22:00:00"},8.2000000000000003E-2,1.0940000000000001,1.1759999999999999,53.44,3.2959999999999998,0,-1.0999999999999999E-2,0.92100000000000004,211.173,42.706000000000003]
[{"$f":"Clavet!A389","v":"  2019/03/16 23:00:00"},2.9000000000000001E-2,1.1100000000000001,1.1399999999999999,53.173000000000002,2.6219999999999999,0,-0.55400000000000005,0.90400000000000003,213.47499999999999,43.606999999999999]
[{"$f":"Clavet!A390","v":"  2019/03/17 00:00:00"},1.6E-2,0.97199999999999998,0.98799999999999999,52.872999999999998,2.9750000000000001,0,-1.123,1.081,213.27799999999999,44.991999999999997]
[{"$f":"Clavet!A391","v":"  2019/03/17 01:00:00"},0.10100000000000001,1.0960000000000001,1.1990000000000001,51.850999999999999,2.4900000000000002,0,-1.4370000000000001,1.4279999999999999,216.62799999999999,45.893000000000001]
[{"$f":"Clavet!A392","v":"  2019/03/17 02:00:00"},0.14799999999999999,0.79900000000000004,0.94899999999999995,51.113999999999997,1.97,0,-1.542,1.7050000000000001,215.626,45.118000000000002]
[{"$f":"Clavet!A393","v":"  2019/03/17 03:00:00"},6.5000000000000002E-2,0.68400000000000005,0.748,50.78,1.9079999999999999,0,-1.8959999999999999,1.5489999999999999,210.69300000000001,44.774000000000001]
[{"$f":"Clavet!A394","v":"  2019/03/17 04:00:00"},4.0000000000000001E-3,0.74,0.745,49.09,1.796,0,-3.1030000000000002,1.4510000000000001,199.898,47.316000000000003]
[{"$f":"Clavet!A395","v":"  2019/03/17 05:00:00"},9.0999999999999998E-2,0.628,0.71899999999999997,41.643999999999998,1.5409999999999999,0,-5.6289999999999996,1.0629999999999999,180.44200000000001,54.158000000000001]
[{"$f":"Clavet!A396","v":"  2019/03/17 06:00:00"},"        Z","        Z","        Z","        Z",1.6910000000000001,0,-4.4210000000000003,1.4079999999999999,191.11699999999999,50.493000000000002]
[{"$f":"Clavet!A397","v":"  2019/03/17 07:00:00"},1.6E-2,0.69399999999999995,0.71199999999999997,42.332000000000001,1.2010000000000001,0,-6.0810000000000004,1.0569999999999999,175.80099999999999,54.548000000000002]
[{"$f":"Clavet!A398","v":"  2019/03/17 08:00:00"},7.9000000000000001E-2,0.70599999999999996,0.78700000000000003,43.930999999999997,1.25,0,-4.2629999999999999,1.0149999999999999,172.21100000000001,49.787999999999997]
[{"$f":"Clavet!A399","v":"  2019/03/17 09:00:00"},0.1,0.71699999999999997,0.81799999999999995,46.76,2.125,0,-0.32500000000000001,1.0169999999999999,174.119,41.499000000000002]
[{"$f":"Clavet!A400","v":"  2019/03/17 10:00:00"},0.2,0.79100000000000004,0.99199999999999999,52.988,2.8969999999999998,0,3.399,2.2549999999999999,198.34200000000001,35.091000000000001]
[{"$f":"Clavet!A401","v":"  2019/03/17 11:00:00"},0.10299999999999999,0.77800000000000002,0.88200000000000001,56.238999999999997,2.839,0,4.9489999999999998,3.2949999999999999,206.06299999999999,31.558]
[{"$f":"Clavet!A402","v":"  2019/03/17 12:00:00"},0.17599999999999999,0.77,0.94699999999999995,57.134,1.3680000000000001,0,5.5659999999999998,3.355,203.251,30.635000000000002]
[{"$f":"Clavet!A403","v":"  2019/03/17 13:00:00"},0.33,1.2749999999999999,1.605,60.406999999999996,2.1779999999999999,0,7.02,3.371,202.42099999999999,31.745999999999999]
[{"$f":"Clavet!A404","v":"  2019/03/17 14:00:00"},0.21099999999999999,1.2010000000000001,1.413,63.124000000000002,3.617,0,7.7359999999999998,2.827,212.12700000000001,32.54]
[{"$f":"Clavet!A405","v":"  2019/03/17 15:00:00"},2.4769999999999999,0.57199999999999995,3.0510000000000002,62.048000000000002,10.704000000000001,0,7.0359999999999996,1.639,278.89299999999997,41.637]
[{"$f":"Clavet!A406","v":"  2019/03/17 16:00:00"},1.0649999999999999,2.617,3.6840000000000002,60.438000000000002,6.923,0,7.8650000000000002,2.1800000000000002,231.429,42.21]
[{"$f":"Clavet!A407","v":"  2019/03/17 17:00:00"},0.13500000000000001,1.599,1.7350000000000001,60.021999999999998,5.3719999999999999,0,7.5940000000000003,2.887,220.244,44.896000000000001]
[{"$f":"Clavet!A408","v":"  2019/03/17 18:00:00"},0.05,2.1779999999999999,2.2290000000000001,61.015000000000001,8.8230000000000004,0,5.9560000000000004,2.6819999999999999,215.50700000000001,48.2]
[{"$f":"Clavet!A409","v":"  2019/03/17 19:00:00"},-4.5999999999999999E-2,2.6970000000000001,2.6509999999999998,60.915999999999997,16.558,0,3.9660000000000002,1.7230000000000001,206.04900000000001,55.472000000000001]
[{"$f":"Clavet!A410","v":"  2019/03/17 20:00:00"},-9.1999999999999998E-2,2.8719999999999999,2.78,61.505000000000003,21.706,0,3.1970000000000001,2.4039999999999999,203.249,59.701000000000001]
[{"$f":"Clavet!A411","v":"  2019/03/17 21:00:00"},-4.9000000000000002E-2,3.0179999999999998,2.9689999999999999,61.628,19.873999999999999,0,3.2330000000000001,2.4510000000000001,207.08600000000001,62.747]
[{"$f":"Clavet!A412","v":"  2019/03/17 22:00:00"},-0.01,2.7519999999999998,2.7410000000000001,60.311999999999998,15.083,0,3.01,1.282,241.61799999999999,64.051000000000002]
[{"$f":"Clavet!A413","v":"  2019/03/17 23:00:00"},-3.3000000000000002E-2,2.226,2.1909999999999998,58.165999999999997,7.7510000000000003,0,3.95,2.302,234.87,61.024000000000001]
[{"$f":"Clavet!A414","v":"  2019/03/18 00:00:00"},-7.6999999999999999E-2,1.679,1.603,56.459000000000003,4.9029999999999996,0,3.8719999999999999,2.4809999999999999,251.98099999999999,60.369]
[{"$f":"Clavet!A415","v":"  2019/03/18 01:00:00"},-0.04,1.655,1.615,54.451999999999998,4.4139999999999997,0,3.4140000000000001,2.3290000000000002,250.91499999999999,61.408000000000001]
[{"$f":"Clavet!A416","v":"  2019/03/18 02:00:00"},-3.7999999999999999E-2,1.889,1.851,52.337000000000003,3.9729999999999999,0,3.2650000000000001,2.5819999999999999,250.077,60.648000000000003]
[{"$f":"Clavet!A417","v":"  2019/03/18 03:00:00"},-0.16700000000000001,1.8939999999999999,1.728,50.695999999999998,3.2909999999999999,0,3.0489999999999999,2.4910000000000001,254.51599999999999,60.325000000000003]
[{"$f":"Clavet!A418","v":"  2019/03/18 04:00:00"},-4.5999999999999999E-2,1.8220000000000001,1.7749999999999999,49.682000000000002,3.3519999999999999,0,1.964,1.9750000000000001,257.20699999999999,62.624000000000002]
[{"$f":"Clavet!A419","v":"  2019/03/18 05:00:00"},"        Z","        Z","        Z","        Z",3.6469999999999998,0,0.73199999999999998,1.9359999999999999,256.166,65.070999999999998]
[{"$f":"Clavet!A420","v":"  2019/03/18 06:00:00"},-4.4999999999999998E-2,1.657,1.6120000000000001,47.384,4.2190000000000003,0,0.15,2.0289999999999999,250.85499999999999,65.584000000000003]
[{"$f":"Clavet!A421","v":"  2019/03/18 07:00:00"},-6.8000000000000005E-2,1.556,1.488,46.970999999999997,3.4729999999999999,0,0.02,2.0259999999999998,250.745,64.775999999999996]
[{"$f":"Clavet!A422","v":"  2019/03/18 08:00:00"},3.6999999999999998E-2,1.579,1.6160000000000001,47.418999999999997,2.4249999999999998,0,0.41099999999999998,2.1869999999999998,267.13,62.779000000000003]
[{"$f":"Clavet!A423","v":"  2019/03/18 09:00:00"},0.22800000000000001,1.5329999999999999,1.7609999999999999,47.993000000000002,2.0329999999999999,0,0.94299999999999995,2.2090000000000001,266.44,61.369]
[{"$f":"Clavet!A424","v":"  2019/03/18 10:00:00"},0.38700000000000001,1.21,1.597,49.533999999999999,1.659,0,2.3519999999999999,2.2749999999999999,270.37400000000002,58.475000000000001]
[{"$f":"Clavet!A425","v":"  2019/03/18 11:00:00"},0.32600000000000001,1.083,1.409,51.433,1.27,0,4.0890000000000004,2.2120000000000002,276.11900000000003,54.293999999999997]
[{"$f":"Clavet!A426","v":"  2019/03/18 12:00:00"},0.309,0.88500000000000001,1.194,53.595999999999997,1.2909999999999999,0,5.7080000000000002,2.246,280.53899999999999,49.277999999999999]
[{"$f":"Clavet!A427","v":"  2019/03/18 13:00:00"},0.19900000000000001,0.85699999999999998,1.056,54.719000000000001,1.74,0,7.1580000000000004,2.0249999999999999,260.536,44.273000000000003]
[{"$f":"Clavet!A428","v":"  2019/03/18 14:00:00"},0.13400000000000001,0.76700000000000002,0.90100000000000002,55.131,1.76,0,8.0760000000000005,2.0499999999999998,258.60899999999998,41.542000000000002]
[{"$f":"Clavet!A429","v":"  2019/03/18 15:00:00"},0.111,0.51300000000000001,0.625,54.468000000000004,1.7410000000000001,0,8.9250000000000007,2.02,254.977,38.338000000000001]
[{"$f":"Clavet!A430","v":"  2019/03/18 16:00:00"},0.14699999999999999,0.67600000000000005,0.82299999999999995,55.875999999999998,0.86599999999999999,0,8.7289999999999992,2.4380000000000002,251.274,38.42]
[{"$f":"Clavet!A431","v":"  2019/03/18 17:00:00"},0.121,0.86899999999999999,0.99099999999999999,55.444000000000003,1.429,0,9.1769999999999996,1.929,249.512,36.356999999999999]
[{"$f":"Clavet!A432","v":"  2019/03/18 18:00:00"},-0.01,0.66900000000000004,0.66,54.981999999999999,1.365,0,8.1479999999999997,1.5189999999999999,241.32900000000001,38.612000000000002]
[{"$f":"Clavet!A433","v":"  2019/03/18 19:00:00"},-2.9000000000000001E-2,0.64700000000000002,0.61799999999999999,54.273000000000003,1.016,0,6.4470000000000001,1.2889999999999999,203.88300000000001,42.290999999999997]
[{"$f":"Clavet!A434","v":"  2019/03/18 20:00:00"},-1.6E-2,0.59799999999999998,0.58299999999999996,53.767000000000003,0.71599999999999997,0,6.0129999999999999,1.82,200.12200000000001,42.185000000000002]
[{"$f":"Clavet!A435","v":"  2019/03/18 21:00:00"},0.09,0.67600000000000005,0.76700000000000002,53.369,0.64400000000000002,0,5.7060000000000004,2.1720000000000002,196.83,42.152999999999999]
[{"$f":"Clavet!A436","v":"  2019/03/18 22:00:00"},7.8E-2,0.89300000000000002,0.97099999999999997,54.790999999999997,1.431,0,4.8010000000000002,2.294,207.47499999999999,47.048000000000002]
[{"$f":"Clavet!A437","v":"  2019/03/18 23:00:00"},0.04,1.17,1.2110000000000001,59.058999999999997,2.5920000000000001,0,4.173,1.637,212.113,51.365000000000002]
[{"$f":"Clavet!A438","v":"  2019/03/19 00:00:00"},9.0999999999999998E-2,0.89200000000000002,0.98399999999999999,59.287999999999997,2.4550000000000001,0,3.617,1.4610000000000001,200.48500000000001,51.752000000000002]
[{"$f":"Clavet!A439","v":"  2019/03/19 01:00:00"},-2.3E-2,1.1000000000000001,1.0780000000000001,60.253999999999998,2.6150000000000002,0,3.9289999999999998,2.2090000000000001,210.89500000000001,53.137]
[{"$f":"Clavet!A440","v":"  2019/03/19 02:00:00"},9.2999999999999999E-2,1.4450000000000001,1.54,58.521000000000001,3.26,0,3.7309999999999999,1.752,202.66200000000001,54.387999999999998]
[{"$f":"Clavet!A441","v":"  2019/03/19 03:00:00"},7.3999999999999996E-2,1.6559999999999999,1.732,56.970999999999997,3.4420000000000002,0,4.92,2.149,238.06800000000001,50.773000000000003]
[{"$f":"Clavet!A442","v":"  2019/03/19 04:00:00"},"        Z","        Z","        Z","        Z",3.5,0,6.0140000000000002,3.472,251.36,48.91]
[{"$f":"Clavet!A443","v":"  2019/03/19 05:00:00"},0.18,2.3479999999999999,2.5289999999999999,54.228000000000002,3.5950000000000002,0,5.181,2.4940000000000002,251.15700000000001,51.982999999999997]
[{"$f":"Clavet!A444","v":"  2019/03/19 06:00:00"},0.13500000000000001,2.3740000000000001,2.5099999999999998,52.756999999999998,4.1769999999999996,0,4.5259999999999998,1.8420000000000001,259.74700000000001,54.447000000000003]
[{"$f":"Clavet!A445","v":"  2019/03/19 07:00:00"},0.17599999999999999,2.5169999999999999,2.6930000000000001,52.127000000000002,3.3050000000000002,0,4.7690000000000001,2.2610000000000001,257.24700000000001,54.124000000000002]
[{"$f":"Clavet!A446","v":"  2019/03/19 08:00:00"},0.40200000000000002,2.7309999999999999,3.133,52.145000000000003,2.5289999999999999,0,5.1970000000000001,2.8340000000000001,256.54500000000002,53.106999999999999]
[{"$f":"Clavet!A447","v":"  2019/03/19 09:00:00"},0.67500000000000004,2.6389999999999998,3.3140000000000001,52.052999999999997,1.911,0,5.8449999999999998,2.8490000000000002,255.72200000000001,51.438000000000002]
[{"$f":"Clavet!A448","v":"  2019/03/19 10:00:00"},0.98199999999999998,2.5819999999999999,3.5630000000000002,51.66,1.4590000000000001,0,6.0149999999999997,2.1280000000000001,277.536,52.222999999999999]
[{"$f":"Clavet!A449","v":"  2019/03/19 11:00:00"},0.89600000000000002,2.1949999999999998,3.0910000000000002,53.674999999999997,1.639,0,7.1029999999999998,2.4409999999999998,261.04399999999998,48.948999999999998]
[{"$f":"Clavet!A450","v":"  2019/03/19 12:00:00"},0.88500000000000001,2.2749999999999999,3.1579999999999999,55.46,1.649,0,8.6790000000000003,2.3210000000000002,261.86599999999999,44.555]
[{"$f":"Clavet!A451","v":"  2019/03/19 13:00:00"},0.76500000000000001,2.0470000000000002,2.8109999999999999,57.768999999999998,1.9079999999999999,0,10.548999999999999,2.4,262.25900000000001,39.411000000000001]
[{"$f":"Clavet!A452","v":"  2019/03/19 14:00:00"},0.379,1.3129999999999999,1.6919999999999999,59.509,2.2890000000000001,0,11.91,2.0310000000000001,267.69400000000002,36.292999999999999]
[{"$f":"Clavet!A453","v":"  2019/03/19 15:00:00"},0.28599999999999998,1.27,1.554,60.359000000000002,1.466,0,12.872999999999999,1.8120000000000001,268.45600000000002,33.850999999999999]
[{"$f":"Clavet!A454","v":"  2019/03/19 16:00:00"},0.24199999999999999,1.165,1.405,61.533999999999999,2.02,0,13.67,1.6779999999999999,267.56799999999998,31.856999999999999]
[{"$f":"Clavet!A455","v":"  2019/03/19 17:00:00"},0.41899999999999998,1.7330000000000001,2.1509999999999998,60.420999999999999,7.827,0,14.233000000000001,1.2909999999999999,258.27199999999999,30.818000000000001]
[{"$f":"Clavet!A456","v":"  2019/03/19 18:00:00"},0.33700000000000002,1.8340000000000001,2.1680000000000001,58.884999999999998,7.48,0,13.997999999999999,0.55400000000000005,246.29,30.771999999999998]
[{"$f":"Clavet!A457","v":"  2019/03/19 19:00:00"},0.25600000000000001,1.7669999999999999,2.02,57.668999999999997,9.8770000000000007,0,10.398,0.69299999999999995,180.649,38.880000000000003]
[{"$f":"Clavet!A458","v":"  2019/03/19 20:00:00"},0.13500000000000001,1.0649999999999999,1.1970000000000001,53.691000000000003,4.0039999999999996,0,6.47,1.143,169.77199999999999,48.29]
[{"$f":"Clavet!A459","v":"  2019/03/19 21:00:00"},0.27900000000000003,0.95499999999999996,1.2310000000000001,50.051000000000002,3.9460000000000002,0,4.4720000000000004,1.4370000000000001,166.36,52.225000000000001]
[{"$f":"Clavet!A460","v":"  2019/03/19 22:00:00"},0.28599999999999998,0.78500000000000003,1.0680000000000001,45.731000000000002,3.363,0,2.7789999999999999,1.3120000000000001,163.626,58.000999999999998]
[{"$f":"Clavet!A461","v":"  2019/03/19 23:00:00"},0.21,0.70399999999999996,0.91100000000000003,44.889000000000003,3.085,0,2.3260000000000001,1.044,162.13399999999999,60.021999999999998]
[{"$f":"Clavet!A462","v":"  2019/03/20 00:00:00"},0.20799999999999999,0.67400000000000004,0.879,46.896000000000001,3.9950000000000001,0,3.5750000000000002,1.2,194.29599999999999,55.613999999999997]
[{"$f":"Clavet!A463","v":"  2019/03/20 01:00:00"},0.185,0.84,1.02,50.616,3.0019999999999998,0,5.1749999999999998,1.7490000000000001,209.91399999999999,50.29]
[{"$f":"Clavet!A464","v":"  2019/03/20 02:00:00"},0.249,0.76800000000000002,1.0129999999999999,42.956000000000003,2.988,0,2.899,1.52,193.536,56.771999999999998]
[{"$f":"Clavet!A465","v":"  2019/03/20 03:00:00"},"        Z","        Z","        Z","        Z",4.3570000000000002,0,0.627,1.3049999999999999,169.21600000000001,63.335000000000001]
[{"$f":"Clavet!A466","v":"  2019/03/20 04:00:00"},0.27900000000000003,0.69299999999999995,0.96799999999999997,34.353999999999999,4.9400000000000004,0,-0.249,1.3,167.65299999999999,65.975999999999999]
[{"$f":"Clavet!A467","v":"  2019/03/20 05:00:00"},0.21099999999999999,0.877,1.0840000000000001,36.042999999999999,4.8659999999999997,0,-0.28199999999999997,1.147,180.46700000000001,65.468000000000004]
[{"$f":"Clavet!A468","v":"  2019/03/20 06:00:00"},0.32800000000000001,0.76400000000000001,1.087,30.385000000000002,4.5490000000000004,0,-1.36,0.99099999999999999,171.51,68.241]
[{"$f":"Clavet!A469","v":"  2019/03/20 07:00:00"},0.221,0.76,0.97799999999999998,32.241999999999997,3.85,0,-0.32600000000000001,1.0549999999999999,175.584,64.328999999999994]
[{"$f":"Clavet!A470","v":"  2019/03/20 08:00:00"},0.26100000000000001,0.78700000000000003,1.044,39.97,2.105,0,4.4130000000000003,1.21,196.934,50.753999999999998]
[{"$f":"Clavet!A471","v":"  2019/03/20 09:00:00"},0.28299999999999997,0.91600000000000004,1.194,50.973999999999997,1.361,0,8.3119999999999994,1.8009999999999999,209.45599999999999,41.194000000000003]
[{"$f":"Clavet!A472","v":"  2019/03/20 10:00:00"},0.2,0.94599999999999995,1.143,52.411999999999999,1.2,0,10.679,0.97499999999999998,230.369,35.700000000000003]
[{"$f":"Clavet!A473","v":"  2019/03/20 11:00:00"},0.38100000000000001,0.92600000000000005,1.3029999999999999,48.761000000000003,1.54,0,8.7899999999999991,0.82599999999999996,333.423,41.152999999999999]
[{"$f":"Clavet!A474","v":"  2019/03/20 12:00:00"},0.625,1.8580000000000001,2.4820000000000002,54.987000000000002,2.5150000000000001,0,11.327,1.569,273.71800000000002,35.103999999999999]
[{"$f":"Clavet!A475","v":"  2019/03/20 13:00:00"},0.42699999999999999,1.4530000000000001,1.8779999999999999,58.847000000000001,2.2799999999999998,0,12.494,1.3,293.68,32.984000000000002]
[{"$f":"Clavet!A476","v":"  2019/03/20 14:00:00"},0.33300000000000002,1.1240000000000001,1.454,61.378,2.3650000000000002,0,13.787000000000001,1.502,290.30599999999998,30.684000000000001]
[{"$f":"Clavet!A477","v":"  2019/03/20 15:00:00"},0.216,1.123,1.337,62.636000000000003,1.788,0,14.323,1.3819999999999999,290.98399999999998,29.728999999999999]
[{"$f":"Clavet!A478","v":"  2019/03/20 16:00:00"},0.255,1.0029999999999999,1.256,62.514000000000003,1.966,0,14.683,1.246,284.91500000000002,28.78]
[{"$f":"Clavet!A479","v":"  2019/03/20 17:00:00"},0.17799999999999999,1.0269999999999999,1.204,62.954000000000001,3.73,0,14.96,1.026,286.33,27.893000000000001]
[{"$f":"Clavet!A480","v":"  2019/03/20 18:00:00"},0.14299999999999999,1.0580000000000001,1.2,61.037999999999997,7.9850000000000003,0,14.361000000000001,0.55600000000000005,230.53399999999999,28.08]
[{"$f":"Clavet!A481","v":"  2019/03/20 19:00:00"},0.14199999999999999,0.81499999999999995,0.95699999999999996,58.939,4.3040000000000003,0,10.933999999999999,0.64300000000000002,190.45699999999999,33.472999999999999]
[{"$f":"Clavet!A482","v":"  2019/03/20 20:00:00"},0.08,1.724,1.8009999999999999,59.595999999999997,4.8380000000000001,0,10.231999999999999,1.81,209.83199999999999,34.899000000000001]
[{"$f":"Clavet!A483","v":"  2019/03/20 21:00:00"},0.10299999999999999,2.508,2.61,62.744,9.0410000000000004,0,7.2389999999999999,0.38300000000000001,218.87799999999999,42.695999999999998]
[{"$f":"Clavet!A484","v":"  2019/03/20 22:00:00"},0.14699999999999999,2.524,2.6709999999999998,58.369,15.449,0,4.3849999999999998,0.54800000000000004,253.678,51.656999999999996]
[{"$f":"Clavet!A485","v":"  2019/03/20 23:00:00"},0.16800000000000001,2.9609999999999999,3.129,62.289000000000001,18.861999999999998,0,4.6349999999999998,1.333,254.01,51.319000000000003]
[{"$f":"Clavet!A486","v":"  2019/03/21 00:00:00"},0.13800000000000001,2.9729999999999999,3.1110000000000002,62.024999999999999,17.064,0,3.8679999999999999,0.92400000000000004,213.83500000000001,52.862000000000002]
[{"$f":"Clavet!A487","v":"  2019/03/21 01:00:00"},0.128,2.6379999999999999,2.7669999999999999,55.749000000000002,15.765000000000001,0,1.593,0.64700000000000002,187.79400000000001,59.392000000000003]
[{"$f":"Clavet!A488","v":"  2019/03/21 02:00:00"},"        Z","        Z","        Z","        Z",13.71,0,-0.60799999999999998,0.93500000000000005,166.80699999999999,64.606999999999999]
[{"$f":"Clavet!A489","v":"  2019/03/21 03:00:00"},0.109,1.615,1.724,41.741999999999997,11.576000000000001,0,-1.2190000000000001,0.91200000000000003,169.053,65.513999999999996]
[{"$f":"Clavet!A490","v":"  2019/03/21 04:00:00"},9.8000000000000004E-2,1.3839999999999999,1.4810000000000001,40.328000000000003,8.2780000000000005,0,-1.659,0.90400000000000003,166.59200000000001,66.575999999999993]
[{"$f":"Clavet!A491","v":"  2019/03/21 05:00:00"},0.16300000000000001,1.016,1.179,49.48,5.2869999999999999,0,-0.46800000000000003,0.55000000000000004,155.947,62.676000000000002]
[{"$f":"Clavet!A492","v":"  2019/03/21 06:00:00"},8.1000000000000003E-2,0.77,0.85099999999999998,44.234999999999999,4.7750000000000004,0,-0.89100000000000001,0.42399999999999999,179.96199999999999,62.835999999999999]
[{"$f":"Clavet!A493","v":"  2019/03/21 07:00:00"},0.18,0.77900000000000003,0.95799999999999996,36.954999999999998,4.641,0,-1.8979999999999999,0.80800000000000005,175.96100000000001,65.433000000000007]
[{"$f":"Clavet!A494","v":"  2019/03/21 08:00:00"},1.35,2.15,3.5,32.103000000000002,6.26,0,0.38700000000000001,0.29599999999999999,170.09700000000001,59.813000000000002]
[{"$f":"Clavet!A495","v":"  2019/03/21 09:00:00"},0.45,1.4219999999999999,1.871,43.58,3.3029999999999999,0,2.09,0.86599999999999999,53.485999999999997,54.28]
[{"$f":"Clavet!A496","v":"  2019/03/21 10:00:00"},0.48,0.99199999999999999,1.472,48.021999999999998,2.923,0,5.7640000000000002,2.0470000000000002,96.295000000000002,46.993000000000002]
[{"$f":"Clavet!A497","v":"  2019/03/21 11:00:00"},0.217,0.5,0.71699999999999997,49.905000000000001,2.742,0,9.359,2.4849999999999999,106.46299999999999,37.930999999999997]
[{"$f":"Clavet!A498","v":"  2019/03/21 12:00:00"},0.38200000000000001,0.70099999999999996,1.0820000000000001,52.110999999999997,5.0289999999999999,0,11.429,3.1640000000000001,117.747,30.504000000000001]
[{"$f":"Clavet!A499","v":"  2019/03/21 13:00:00"},0.222,0.36899999999999999,0.59,51.774000000000001,4.2960000000000003,0,12.731999999999999,2.6520000000000001,136.66800000000001,27.611000000000001]
[{"$f":"Clavet!A500","v":"  2019/03/21 14:00:00"},2.3E-2,0.26200000000000001,0.28299999999999997,51.91,2.323,0,12.766999999999999,3.07,128.55099999999999,27.581]
[{"$f":"Clavet!A501","v":"  2019/03/21 15:00:00"},2.7E-2,0.19600000000000001,0.224,51.988999999999997,0.88800000000000001,0,12.526999999999999,3.3210000000000002,125.688,27.850999999999999]
[{"$f":"Clavet!A502","v":"  2019/03/21 16:00:00"},3.6999999999999998E-2,0.27300000000000002,0.311,51.924999999999997,2.6360000000000001,0,12.32,3.1930000000000001,123.422,28.670999999999999]
[{"$f":"Clavet!A503","v":"  2019/03/21 17:00:00"},3.6999999999999998E-2,0.998,1.0329999999999999,54.988,5.8780000000000001,0,11.817,2.8359999999999999,121.404,30.437999999999999]
[{"$f":"Clavet!A504","v":"  2019/03/21 18:00:00"},3.9E-2,1.3080000000000001,1.3460000000000001,55.139000000000003,9.827,0,10.788,2.468,124.718,31.835999999999999]
[{"$f":"Clavet!A505","v":"  2019/03/21 19:00:00"},2.5999999999999999E-2,0.29099999999999998,0.317,52.116,4.0970000000000004,0,8.7550000000000008,1.7470000000000001,118.128,35.753999999999998]
[{"$f":"Clavet!A506","v":"  2019/03/21 20:00:00"},-8.1000000000000003E-2,0.29699999999999999,0.216,51.863999999999997,1.0269999999999999,0,7.5460000000000003,2.2000000000000002,133.411,37.725000000000001]
[{"$f":"Clavet!A507","v":"  2019/03/21 21:00:00"},-8.3000000000000004E-2,0.34799999999999998,0.26500000000000001,51.631,5.7889999999999997,0,6.3650000000000002,3.0760000000000001,148.25899999999999,40.759]
[{"$f":"Clavet!A508","v":"  2019/03/21 22:00:00"},-0.01,0.41299999999999998,0.40200000000000002,50.737000000000002,8.7729999999999997,0,4.8390000000000004,2.8929999999999998,148.58699999999999,46.802999999999997]
[{"$f":"Clavet!A509","v":"  2019/03/21 23:00:00"},-5.5E-2,0.46600000000000003,0.41,50.581000000000003,4.5670000000000002,0,4.1360000000000001,2.23,139.197,50.968000000000004]
[{"$f":"Clavet!A510","v":"  2019/03/22 00:00:00"},-0.128,0.41299999999999998,0.28499999999999998,50.365000000000002,1.63,0,3.7959999999999998,1.587,129.58699999999999,53.18]
[{"$f":"Clavet!A511","v":"  2019/03/22 01:00:00"},"        Z","        Z","        Z","        Z",2.7250000000000001,0,2.7559999999999998,0.52500000000000002,90.51,57.991]
[{"$f":"Clavet!A512","v":"  2019/03/22 02:00:00"},-7.0000000000000007E-2,0.502,0.432,46.767000000000003,2.754,0,1.9570000000000001,0.40699999999999997,74.084999999999994,62.003]
[{"$f":"Clavet!A513","v":"  2019/03/22 03:00:00"},-4.2000000000000003E-2,0.48799999999999999,0.44600000000000001,45.353999999999999,2.895,0,1.099,0.40699999999999997,139.69900000000001,64.841999999999999]
[{"$f":"Clavet!A514","v":"  2019/03/22 04:00:00"},0.112,0.49099999999999999,0.60099999999999998,43.180999999999997,3.206,0,-0.47499999999999998,0.23699999999999999,99.960999999999999,70.183000000000007]
[{"$f":"Clavet!A515","v":"  2019/03/22 05:00:00"},-3.9E-2,0.66200000000000003,0.622,39.685000000000002,4.532,0,-1.095,0.51600000000000001,103.453,74.852000000000004]
[{"$f":"Clavet!A516","v":"  2019/03/22 06:00:00"},4.1000000000000002E-2,1.26,1.3,41.098999999999997,9.5470000000000006,0,1.5289999999999999,0.94299999999999995,161.477,74.051000000000002]
[{"$f":"Clavet!A517","v":"  2019/03/22 07:00:00"},3.1E-2,1.1990000000000001,1.23,41.991999999999997,7.9690000000000003,0,2.556,0.59499999999999997,128.36099999999999,71.965000000000003]
[{"$f":"Clavet!A518","v":"  2019/03/22 08:00:00"},7.5999999999999998E-2,1.3939999999999999,1.47,41.347999999999999,4.6479999999999997,0,3.512,0.97299999999999998,173.75700000000001,67.572000000000003]
[{"$f":"Clavet!A519","v":"  2019/03/22 09:00:00"},0.191,1.401,1.5920000000000001,41.13,2.835,0,5.5579999999999998,1.2909999999999999,186.946,60.624000000000002]
[{"$f":"Clavet!A520","v":"  2019/03/22 10:00:00"},0.21299999999999999,1.3280000000000001,1.54,40.822000000000003,1.5389999999999999,0,8.9109999999999996,0.91500000000000004,166.39099999999999,50.473999999999997]
[{"$f":"Clavet!A521","v":"  2019/03/22 11:00:00"},0.23300000000000001,1.151,1.383,39.500999999999998,1.1839999999999999,0,9.1820000000000004,1.137,1.069,49.817999999999998]
[{"$f":"Clavet!A522","v":"  2019/03/22 12:00:00"},0.39,1.5649999999999999,1.954,41.686999999999998,1.4279999999999999,0,9.5250000000000004,1.1819999999999999,352.762,49.448999999999998]
[{"$f":"Clavet!A523","v":"  2019/03/22 13:00:00"},0.19700000000000001,1.448,1.645,44.609000000000002,3.5579999999999998,0,8.8330000000000002,2.0750000000000002,285.685,51.893000000000001]
[{"$f":"Clavet!A524","v":"  2019/03/22 14:00:00"},0.24199999999999999,1.579,1.819,46.698999999999998,2.5169999999999999,0,9.59,0.82799999999999996,2.4540000000000002,49.706000000000003]
[{"$f":"Clavet!A525","v":"  2019/03/22 15:00:00"},0.27100000000000002,1.643,1.9119999999999999,47.764000000000003,1.5920000000000001,0,10.763999999999999,0.81399999999999995,25.134,47.087000000000003]
[{"$f":"Clavet!A526","v":"  2019/03/22 16:00:00"},0.161,1.772,1.9319999999999999,49.484000000000002,3.698,0,12.263999999999999,0.69,322.75700000000001,44.063000000000002]
[{"$f":"Clavet!A527","v":"  2019/03/22 17:00:00"},0.191,1.53,1.7210000000000001,49.554000000000002,4.6619999999999999,0,13.255000000000001,0.52500000000000002,359.452,41.957999999999998]
[{"$f":"Clavet!A528","v":"  2019/03/22 18:00:00"},0.182,1.548,1.73,49.125999999999998,3.7240000000000002,0,10.891,0.315,3.286,48.271999999999998]
[{"$f":"Clavet!A529","v":"  2019/03/22 19:00:00"},0.20399999999999999,1.7230000000000001,1.9279999999999999,49.524999999999999,9.2560000000000002,0,8.6170000000000009,0.53700000000000003,267.30799999999999,50.957999999999998]
[{"$f":"Clavet!A530","v":"  2019/03/22 20:00:00"},0.10199999999999999,1.333,1.4359999999999999,49.423999999999999,4.4770000000000003,0,7.4370000000000003,1.4630000000000001,197.30500000000001,54.637]
[{"$f":"Clavet!A531","v":"  2019/03/22 21:00:00"},0.192,1.0509999999999999,1.2430000000000001,44.228000000000002,4.2809999999999997,0,4.4409999999999998,0.70699999999999996,165.636,63.826000000000001]
[{"$f":"Clavet!A532","v":"  2019/03/22 22:00:00"},7.8E-2,1.012,1.091,43.962000000000003,4.9450000000000003,0,3.4409999999999998,0.59799999999999998,176.607,66.706999999999994]
[{"$f":"Clavet!A533","v":"  2019/03/22 23:00:00"},0.17,1.07,1.2390000000000001,43.844999999999999,5.7990000000000004,0,2.504,0.66100000000000003,180.79400000000001,70.941999999999993]
[{"$f":"Clavet!A534","v":"  2019/03/23 00:00:00"},"        Z","        Z","        Z","        Z",7.2190000000000003,0,0.877,1.034,169.648,74.507000000000005]
[{"$f":"Clavet!A535","v":"  2019/03/23 01:00:00"},0.159,0.83899999999999997,0.996,31.963000000000001,9.7349999999999994,0,-0.17699999999999999,0.83499999999999996,166.82900000000001,75.972999999999999]
[{"$f":"Clavet!A536","v":"  2019/03/23 02:00:00"},0.246,0.94399999999999995,1.19,30.350999999999999,10.343999999999999,0,-0.64600000000000002,0.84599999999999997,169.11799999999999,78.046000000000006]
[{"$f":"Clavet!A537","v":"  2019/03/23 03:00:00"},0.25600000000000001,0.95399999999999996,1.2090000000000001,31.597999999999999,14.897,0,-0.57899999999999996,0.83,184.792,80.150999999999996]
[{"$f":"Clavet!A538","v":"  2019/03/23 04:00:00"},0.22,1.024,1.244,27.265999999999998,16.097999999999999,0,-1.341,0.64200000000000002,175.24299999999999,80.739999999999995]
[{"$f":"Clavet!A539","v":"  2019/03/23 05:00:00"},0.27700000000000002,1.2769999999999999,1.5549999999999999,28.388000000000002,15.901,0,-1.4059999999999999,0.38100000000000001,193.089,82.936000000000007]
[{"$f":"Clavet!A540","v":"  2019/03/23 06:00:00"},0.36099999999999999,1.407,1.77,34.468000000000004,12.548,0,-0.86099999999999999,0.10199999999999999,22.468,83.325000000000003]
[{"$f":"Clavet!A541","v":"  2019/03/23 07:00:00"},0.13300000000000001,1.3160000000000001,1.45,31.946999999999999,9.0660000000000007,0,-0.67500000000000004,0.36099999999999999,266.27100000000002,80.921999999999997]
[{"$f":"Clavet!A542","v":"  2019/03/23 08:00:00"},0.30599999999999999,1.169,1.476,32.984999999999999,4.9180000000000001,0,0.66700000000000004,0.59399999999999997,302.33499999999998,74.742999999999995]
[{"$f":"Clavet!A543","v":"  2019/03/23 09:00:00"},0.29699999999999999,0.94599999999999995,1.242,37.667999999999999,2.4209999999999998,0,1.792,1.0349999999999999,9.9939999999999998,69.984999999999999]
[{"$f":"Clavet!A544","v":"  2019/03/23 10:00:00"},0.24399999999999999,0.66900000000000004,0.91400000000000003,46.098999999999997,1.3380000000000001,0,4.1619999999999999,1.702,14.552,62.494999999999997]
[{"$f":"Clavet!A545","v":"  2019/03/23 11:00:00"},0.20100000000000001,0.64100000000000001,0.84299999999999997,49.43,1.008,0,6.6210000000000004,2.448,14.438000000000001,53.223999999999997]
[{"$f":"Clavet!A546","v":"  2019/03/23 12:00:00"},0.09,0.499,0.59,51.927999999999997,0.752,0,7.734,4.3780000000000001,24.504999999999999,48.249000000000002]
[{"$f":"Clavet!A547","v":"  2019/03/23 13:00:00"},0.23699999999999999,0.40500000000000003,0.64300000000000002,52.761000000000003,0.7,0,8.1150000000000002,5.8390000000000004,29.853999999999999,46.122999999999998]
[{"$f":"Clavet!A548","v":"  2019/03/23 14:00:00"},0.13900000000000001,0.439,0.57799999999999996,52.445999999999998,0.71899999999999997,0,8.3170000000000002,6.1260000000000003,28.446999999999999,45.139000000000003]
[{"$f":"Clavet!A549","v":"  2019/03/23 15:00:00"},0.16300000000000001,0.39900000000000002,0.56100000000000005,51.28,0.71399999999999997,0,8.16,4.9249999999999998,33.71,46.423999999999999]
[{"$f":"Clavet!A550","v":"  2019/03/23 16:00:00"},0.17599999999999999,0.33700000000000002,0.51500000000000001,49.383000000000003,0.76300000000000001,0,7.5960000000000001,6.2240000000000002,32.058999999999997,48.576999999999998]
[{"$f":"Clavet!A551","v":"  2019/03/23 17:00:00"},0.192,0.35899999999999999,0.55100000000000005,44.005000000000003,0.90500000000000003,0,4.6959999999999997,6.923,38.965000000000003,58.587000000000003]
[{"$f":"Clavet!A552","v":"  2019/03/23 18:00:00"},0.111,0.36,0.47199999999999998,44.716000000000001,0.6,0,2.153,6.093,39.673999999999999,65.561000000000007]
[{"$f":"Clavet!A553","v":"  2019/03/23 19:00:00"},0.125,0.30499999999999999,0.43,44.048999999999999,0.67300000000000004,0,0.69199999999999995,4.516,41.917000000000002,69.715000000000003]
[{"$f":"Clavet!A554","v":"  2019/03/23 20:00:00"},0.158,0.19600000000000001,0.35499999999999998,43.786000000000001,0.83199999999999996,0,-0.26400000000000001,3.98,47.786999999999999,70.956000000000003]
[{"$f":"Clavet!A555","v":"  2019/03/23 21:00:00"},0.16600000000000001,1.1779999999999999,1.345,42.003999999999998,5.9370000000000003,0,-0.78500000000000003,2.673,66.343000000000004,68.932000000000002]
[{"$f":"Clavet!A556","v":"  2019/03/23 22:00:00"},0.21,0.46800000000000003,0.67900000000000005,41.186,2.895,0,-1.845,2.0299999999999998,71.936999999999998,69.212999999999994]
[{"$f":"Clavet!A557","v":"  2019/03/23 23:00:00"},"        Z","        Z","        Z","        Z",1.9370000000000001,0,-2.5299999999999998,2.339,69.590999999999994,66.989000000000004]
[{"$f":"Clavet!A558","v":"  2019/03/24 00:00:00"},0.186,0.54300000000000004,0.73,39.838000000000001,2.008,0,-3.22,2.0939999999999999,71.177999999999997,66.522000000000006]
[{"$f":"Clavet!A559","v":"  2019/03/24 01:00:00"},0.14799999999999999,0.19800000000000001,0.34699999999999998,40.466000000000001,0.90700000000000003,0,-3.988,1.9430000000000001,73.664000000000001,65.649000000000001]
[{"$f":"Clavet!A560","v":"  2019/03/24 02:00:00"},0.157,0.22600000000000001,0.38400000000000001,40.042000000000002,0.82099999999999995,0,-4.766,1.6579999999999999,77.489000000000004,65.933000000000007]
[{"$f":"Clavet!A561","v":"  2019/03/24 03:00:00"},0.11899999999999999,0.29199999999999998,0.41099999999999998,36.747999999999998,1.712,0,-5.4509999999999996,0.90200000000000002,90.194000000000003,68.688999999999993]
[{"$f":"Clavet!A562","v":"  2019/03/24 04:00:00"},0.11600000000000001,0.16800000000000001,0.28499999999999998,33.893000000000001,0.80700000000000005,0,-6.06,0.8,82.706000000000003,72.287000000000006]
[{"$f":"Clavet!A563","v":"  2019/03/24 05:00:00"},0.22500000000000001,0.14599999999999999,0.372,33.405999999999999,0.82,0,-6.6369999999999996,1.01,86.438000000000002,73.792000000000002]
[{"$f":"Clavet!A564","v":"  2019/03/24 06:00:00"},0.25900000000000001,0.436,0.69599999999999995,31.206,4.9020000000000001,0,-7.06,0.56000000000000005,112.255,74.984999999999999]
[{"$f":"Clavet!A565","v":"  2019/03/24 07:00:00"},0.24399999999999999,0.36899999999999999,0.61399999999999999,32.338999999999999,1.3460000000000001,0,-7.0149999999999997,0.98599999999999999,101.334,74.909000000000006]
[{"$f":"Clavet!A566","v":"  2019/03/24 08:00:00"},0.11,0.17399999999999999,0.28599999999999998,34.719000000000001,0.81499999999999995,0,-5.2439999999999998,1.554,119.82899999999999,70.801000000000002]
[{"$f":"Clavet!A567","v":"  2019/03/24 09:00:00"},0.13100000000000001,0.26300000000000001,0.39300000000000002,38.393000000000001,0.84199999999999997,0,-2.75,1.1200000000000001,136.24799999999999,63.182000000000002]
[{"$f":"Clavet!A568","v":"  2019/03/24 10:00:00"},0.17699999999999999,0.25900000000000001,0.438,39.456000000000003,0.82199999999999995,0,-0.99399999999999999,0.97499999999999998,106.786,59.551000000000002]
[{"$f":"Clavet!A569","v":"  2019/03/24 11:00:00"},0.14499999999999999,0.255,0.40200000000000002,39.450000000000003,0.95099999999999996,0,-1.034,1.7490000000000001,19.914000000000001,62.307000000000002]
[{"$f":"Clavet!A570","v":"  2019/03/24 12:00:00"},0.496,0.77900000000000003,1.2749999999999999,42.067999999999998,3.2839999999999998,0,-7.1999999999999995E-2,1.4279999999999999,358.70800000000003,59.139000000000003]
[{"$f":"Clavet!A571","v":"  2019/03/24 13:00:00"},0.26200000000000001,0.37,0.63400000000000001,42.192999999999998,0.82799999999999996,0,1.484,1.494,40.375999999999998,54.603999999999999]
[{"$f":"Clavet!A572","v":"  2019/03/24 14:00:00"},0.30499999999999999,0.314,0.62,42.42,0.89600000000000002,0,2.5,1.6739999999999999,51.968000000000004,52.008000000000003]
[{"$f":"Clavet!A573","v":"  2019/03/24 15:00:00"},0.26,0.26600000000000001,0.52700000000000002,43.244,1.2789999999999999,0,3.2250000000000001,1.748,40.048000000000002,49.436]
[{"$f":"Clavet!A574","v":"  2019/03/24 16:00:00"},0.17599999999999999,0.52900000000000003,0.70499999999999996,44.677,2.774,0,3.4969999999999999,1.772,14.856999999999999,48.145000000000003]
[{"$f":"Clavet!A575","v":"  2019/03/24 17:00:00"},0.127,0.44,0.56799999999999995,44.2,2.23,0,3.6219999999999999,1.714,12.882,48.06]
[{"$f":"Clavet!A576","v":"  2019/03/24 18:00:00"},5.8999999999999997E-2,0.33700000000000002,0.39500000000000002,41.637999999999998,1.718,0,3.2240000000000002,1.278,15.099,50.402999999999999]
[{"$f":"Clavet!A577","v":"  2019/03/24 19:00:00"},0.16500000000000001,0.48599999999999999,0.65300000000000002,41.298000000000002,4.601,0,2.2509999999999999,0.97899999999999998,116.136,47.951999999999998]
[{"$f":"Clavet!A578","v":"  2019/03/24 20:00:00"},9.5000000000000001E-2,0.152,0.25,41.851999999999997,2.8940000000000001,0,0.40699999999999997,1.498,150.691,51.683]
[{"$f":"Clavet!A579","v":"  2019/03/24 21:00:00"},0.1,0.18099999999999999,0.28199999999999997,42.393999999999998,3.952,0,-0.92400000000000004,1.2130000000000001,158.70599999999999,53.896999999999998]
[{"$f":"Clavet!A580","v":"  2019/03/24 22:00:00"},"        Z","        Z","        Z","        Z",3.4769999999999999,0,-1.61,0.80200000000000005,179.8,57.965000000000003]
[{"$f":"Clavet!A581","v":"  2019/03/24 23:00:00"},0.184,0.29099999999999998,0.47599999999999998,38.963999999999999,4.1349999999999998,0,-2.1120000000000001,1.337,200.501,65.284999999999997]
[{"$f":"Clavet!A582","v":"  2019/03/25 00:00:00"},2.9000000000000001E-2,0.45100000000000001,0.48099999999999998,36.834000000000003,5.117,0,-2.6230000000000002,0.88200000000000001,201.44300000000001,69.192999999999998]
[{"$f":"Clavet!A583","v":"  2019/03/25 01:00:00"},0.19,0.309,0.502,35.973999999999997,5.484,0,-3.6030000000000002,0.36399999999999999,162.245,71.186999999999998]
[{"$f":"Clavet!A584","v":"  2019/03/25 02:00:00"},6.5000000000000002E-2,0.252,0.317,34.454000000000001,5.2409999999999997,0,-4.6070000000000002,0.58299999999999996,143.43799999999999,73.358000000000004]
[{"$f":"Clavet!A585","v":"  2019/03/25 03:00:00"},9.9000000000000005E-2,0.28199999999999997,0.38200000000000001,34.075000000000003,8.9529999999999994,0,-4.9770000000000003,0.38600000000000001,169.06899999999999,73.247]
[{"$f":"Clavet!A586","v":"  2019/03/25 04:00:00"},8.4000000000000005E-2,0.44800000000000001,0.53200000000000003,32.948,9.1839999999999993,0,-5.7240000000000002,0.54200000000000004,155.51300000000001,74.585999999999999]
[{"$f":"Clavet!A587","v":"  2019/03/25 05:00:00"},8.7999999999999995E-2,0.373,0.46200000000000002,34.536999999999999,8.3249999999999993,0,-5.6079999999999997,0.86899999999999999,185.94200000000001,73.885999999999996]
[{"$f":"Clavet!A588","v":"  2019/03/25 06:00:00"},0.126,0.41599999999999998,0.54300000000000004,34.774999999999999,6.7919999999999998,0,-5.76,0.64100000000000001,165.31800000000001,73.450999999999993]
[{"$f":"Clavet!A589","v":"  2019/03/25 07:00:00"},0.04,0.39100000000000001,0.432,34.591000000000001,5.4390000000000001,0,-5.5,0.38900000000000001,132.37,71.588999999999999]
[{"$f":"Clavet!A590","v":"  2019/03/25 08:00:00"},6.2E-2,0.52900000000000003,0.59099999999999997,34.746000000000002,3.23,0,-4.4909999999999997,1.0720000000000001,154.05500000000001,67.959999999999994]
[{"$f":"Clavet!A591","v":"  2019/03/25 09:00:00"},0.189,0.78300000000000003,0.97199999999999998,36.32,2.9020000000000001,0,-2.4550000000000001,1.1759999999999999,165.167,61.889000000000003]
[{"$f":"Clavet!A592","v":"  2019/03/25 10:00:00"},0.13300000000000001,0.85799999999999998,0.99199999999999999,38.878,2.5840000000000001,0,0.33,1.3320000000000001,176.87899999999999,54.384999999999998]
[{"$f":"Clavet!A593","v":"  2019/03/25 11:00:00"},9.8000000000000004E-2,0.81100000000000005,0.90800000000000003,41.579000000000001,2.508,0,2.556,1.466,194.70599999999999,49.213999999999999]
[{"$f":"Clavet!A594","v":"  2019/03/25 12:00:00"},3.4000000000000002E-2,0.71499999999999997,0.75,44.817,1.69,0,4.3319999999999999,1.64,215.58199999999999,44.186999999999998]
[{"$f":"Clavet!A595","v":"  2019/03/25 13:00:00"},1.6E-2,0.59399999999999997,0.61,46.454999999999998,1.2370000000000001,0,5.8090000000000002,1.58,201.898,39.369999999999997]
[{"$f":"Clavet!A596","v":"  2019/03/25 14:00:00"},-1.9E-2,0.49,0.47199999999999998,50.923000000000002,1.298,0,7.2110000000000003,1.5369999999999999,176.66,33.311]
[{"$f":"Clavet!A597","v":"  2019/03/25 15:00:00"},-1.4999999999999999E-2,0.38800000000000001,0.372,52.448999999999998,0.81200000000000006,0,7.9349999999999996,1.6679999999999999,203.24299999999999,30.872]
[{"$f":"Clavet!A598","v":"  2019/03/25 16:00:00"},-1.7999999999999999E-2,0.33300000000000002,0.314,57.555999999999997,1.774,0,7.53,2.4340000000000002,210.148,29.725999999999999]
[{"$f":"Clavet!A599","v":"  2019/03/25 17:00:00"},-6.2E-2,0.40400000000000003,0.34300000000000003,53.972000000000001,1.7989999999999999,0,6.5110000000000001,2.3820000000000001,204.398,34.606999999999999]
[{"$f":"Clavet!A600","v":"  2019/03/25 18:00:00"},-0.106,0.438,0.33200000000000002,49.19,1.569,0,4.8849999999999998,2.1280000000000001,202.41900000000001,43.969000000000001]
[{"$f":"Clavet!A601","v":"  2019/03/25 19:00:00"},-9.2999999999999999E-2,0.499,0.40500000000000003,46.679000000000002,2.1880000000000002,0,3.3980000000000001,1.2909999999999999,197.25,51.363]
[{"$f":"Clavet!A602","v":"  2019/03/25 20:00:00"},-0.10199999999999999,0.54,0.436,44.927,3.8149999999999999,0,2.359,0.92500000000000004,192.15100000000001,56.347999999999999]
[{"$f":"Clavet!A603","v":"  2019/03/25 21:00:00"},"        Z","        Z","        Z","        Z",4.8899999999999997,0,1.4359999999999999,0.72599999999999998,172.21,58.902000000000001]
[{"$f":"Clavet!A604","v":"  2019/03/25 22:00:00"},-3.4000000000000002E-2,0.55700000000000005,0.52200000000000002,42.686999999999998,5.6719999999999997,0,0.89200000000000002,1.04,166.19800000000001,60.603999999999999]
[{"$f":"Clavet!A605","v":"  2019/03/25 23:00:00"},-6.9000000000000006E-2,0.59899999999999998,0.52900000000000003,41.622,5.1829999999999998,0,0.433,1.016,167.21,62.332999999999998]
[{"$f":"Clavet!A606","v":"  2019/03/26 00:00:00"},-0.20599999999999999,0.59699999999999998,0.39100000000000001,39.917999999999999,4.9379999999999997,0,0.67800000000000005,1.006,184.17,63.212000000000003]
[{"$f":"Clavet!A607","v":"  2019/03/26 01:00:00"},-0.156,0.65600000000000003,0.498,38.682000000000002,3.9729999999999999,0,1.125,1.0840000000000001,184.06899999999999,63.686]
[{"$f":"Clavet!A608","v":"  2019/03/26 02:00:00"},-0.22500000000000001,0.68700000000000006,0.46200000000000002,37.561,3.7749999999999999,0,0.93400000000000005,1.109,179.56,65.116]
[{"$f":"Clavet!A609","v":"  2019/03/26 03:00:00"},-7.4999999999999997E-2,0.628,0.55200000000000005,35.529000000000003,3.8719999999999999,0,0.83899999999999997,1.72,195.15,67.153999999999996]
[{"$f":"Clavet!A610","v":"  2019/03/26 04:00:00"},-0.13300000000000001,0.745,0.61199999999999999,33.761000000000003,5.0529999999999999,0,1.79,0.82399999999999995,188.16900000000001,68.430999999999997]
[{"$f":"Clavet!A611","v":"  2019/03/26 05:00:00"},-7.5999999999999998E-2,0.85499999999999998,0.77900000000000003,31.738,4.8620000000000001,0,1.661,0.41099999999999998,164.797,68.192999999999998]
[{"$f":"Clavet!A612","v":"  2019/03/26 06:00:00"},0.129,1.347,1.4750000000000001,28.484999999999999,7.9720000000000004,0,1.179,0.69099999999999995,115.001,70.733000000000004]
[{"$f":"Clavet!A613","v":"  2019/03/26 07:00:00"},-0.13800000000000001,0.67700000000000005,0.53900000000000003,28.629000000000001,5.8259999999999996,0,1.4339999999999999,0.56899999999999995,177.45599999999999,69.89]
[{"$f":"Clavet!A614","v":"  2019/03/26 08:00:00"},-2.4E-2,0.76200000000000001,0.73799999999999999,27.44,4.1660000000000004,0,2.2519999999999998,0.41099999999999998,152.096,68.266000000000005]
[{"$f":"Clavet!A615","v":"  2019/03/26 09:00:00"},0.433,0.61499999999999999,1.048,27.742000000000001,3.839,0,3.262,0.747,195.221,65.757999999999996]
[{"$f":"Clavet!A616","v":"  2019/03/26 10:00:00"},5.1999999999999998E-2,1.379,1.43,29.838000000000001,5.6440000000000001,0,3.5680000000000001,1.5389999999999999,292.95299999999997,67.540000000000006]
[{"$f":"Clavet!A617","v":"  2019/03/26 11:00:00"},0.41699999999999998,2.2389999999999999,2.6549999999999998,31.561,8.734,0,3.3410000000000002,1.4470000000000001,285.32799999999997,68.715999999999994]
[{"$f":"Clavet!A618","v":"  2019/03/26 12:00:00"},0.16300000000000001,1.5049999999999999,1.6679999999999999,33.622,6.952,0,4.0279999999999996,1.359,326.06099999999998,67.820999999999998]
[{"$f":"Clavet!A619","v":"  2019/03/26 13:00:00"},-3.7999999999999999E-2,1.27,1.232,35.292000000000002,6.1479999999999997,0,4.8239999999999998,1.675,310.06799999999998,66.418999999999997]
[{"$f":"Clavet!A620","v":"  2019/03/26 14:00:00"},0.12,1.649,1.7689999999999999,35.518999999999998,9.2249999999999996,0,4.9820000000000002,1.7090000000000001,285.52699999999999,66.382999999999996]
[{"$f":"Clavet!A621","v":"  2019/03/26 15:00:00"},-1.2999999999999999E-2,1.5129999999999999,1.5,37.094999999999999,10.965,0,5.0869999999999997,1.361,282.99200000000002,66.254000000000005]
[{"$f":"Clavet!A622","v":"  2019/03/26 16:00:00"},-6.8000000000000005E-2,1.4910000000000001,1.4239999999999999,36.744,8.8670000000000009,0,5.7249999999999996,1.4450000000000001,307.33300000000003,63.83]
[{"$f":"Clavet!A623","v":"  2019/03/26 17:00:00"},-0.186,1.24,1.054,33.857999999999997,7.5519999999999996,0.08,4.6040000000000001,1.9059999999999999,330.58,71.162000000000006]
[{"$f":"Clavet!A624","v":"  2019/03/26 18:00:00"},-0.189,1.377,1.1890000000000001,29.108000000000001,10.452999999999999,0,3.52,0.96099999999999997,274.541,80.415000000000006]
[{"$f":"Clavet!A625","v":"  2019/03/26 19:00:00"},-0.127,1.274,1.147,27.076000000000001,8.5890000000000004,0,2.8740000000000001,0.96299999999999997,270.60700000000003,80.72]
[{"$f":"Clavet!A626","v":"  2019/03/26 20:00:00"},"        Z","        Z","        Z","        Z",7.5419999999999998,0,2.4769999999999999,0.81200000000000006,271.89100000000002,81.225999999999999]
[{"$f":"Clavet!A627","v":"  2019/03/26 21:00:00"},-0.05,1.0229999999999999,0.97199999999999998,24.218,6.9269999999999996,0,2.0529999999999999,0.95899999999999996,305.98899999999998,81.638000000000005]
[{"$f":"Clavet!A628","v":"  2019/03/26 22:00:00"},-0.23200000000000001,0.99199999999999999,0.76200000000000001,24.094000000000001,5.875,0,1.55,0.83699999999999997,303.98200000000003,81.730999999999995]
[{"$f":"Clavet!A629","v":"  2019/03/26 23:00:00"},-0.16900000000000001,0.90200000000000002,0.73099999999999998,24.099,7.9279999999999999,0,1.1240000000000001,0.68899999999999995,270.81099999999998,82.356999999999999]
[{"$f":"Clavet!A630","v":"  2019/03/27 00:00:00"},2E-3,0.95899999999999996,0.96199999999999997,22.754999999999999,11.369,0,0.80600000000000005,1.091,234.22800000000001,83.5]
[{"$f":"Clavet!A631","v":"  2019/03/27 01:00:00"},2.3E-2,1.1919999999999999,1.2150000000000001,19.861000000000001,13.4,0,0.38200000000000001,1.484,255.10300000000001,84.635999999999996]
[{"$f":"Clavet!A632","v":"  2019/03/27 02:00:00"},-6.6000000000000003E-2,1.181,1.115,19.552,15,0,5.0999999999999997E-2,1.5840000000000001,282.46199999999999,84.376999999999995]
[{"$f":"Clavet!A633","v":"  2019/03/27 03:00:00"},-6.9000000000000006E-2,0.73899999999999999,0.67100000000000004,26.34,8.4290000000000003,0,0.24199999999999999,1.1439999999999999,266.17200000000003,81.474999999999994]
[{"$f":"Clavet!A634","v":"  2019/03/27 04:00:00"},-4.4999999999999998E-2,0.36899999999999999,0.32400000000000001,32.787999999999997,3.2959999999999998,0,0.751,1.1859999999999999,296.51400000000001,78.402000000000001]
[{"$f":"Clavet!A635","v":"  2019/03/27 05:00:00"},-3.9E-2,0.35899999999999999,0.31900000000000001,35.381999999999998,1.409,0,0.77400000000000002,1.4910000000000001,292.03399999999999,77.034999999999997]
[{"$f":"Clavet!A636","v":"  2019/03/27 06:00:00"},7.2999999999999995E-2,0.19500000000000001,0.26700000000000002,36.777999999999999,0.73299999999999998,0,0.85699999999999998,2.1429999999999998,316.63900000000001,74.673000000000002]
[{"$f":"Clavet!A637","v":"  2019/03/27 07:00:00"},-7.0000000000000007E-2,0.123,5.1999999999999998E-2,41.52,0.54300000000000004,0,0.86299999999999999,2.5339999999999998,317.36,70.41]
[{"$f":"Clavet!A638","v":"  2019/03/27 08:00:00"},-0.114,0.17,5.5E-2,44.313000000000002,0.52100000000000002,0,0.877,3.2440000000000002,316.45699999999999,64.322999999999993]
[{"$f":"Clavet!A639","v":"  2019/03/27 09:00:00"},-2.1999999999999999E-2,0.219,0.19600000000000001,45.58,0.48099999999999998,0,1.1619999999999999,2.6349999999999998,315.76900000000001,60.734000000000002]
[{"$f":"Clavet!A640","v":"  2019/03/27 10:00:00"},8.7999999999999995E-2,0.22700000000000001,0.314,48.021000000000001,0.754,0,1.5680000000000001,3.16,310.18,57.390999999999998]
[{"$f":"Clavet!A641","v":"  2019/03/27 11:00:00"},-7.8E-2,0.13200000000000001,5.2999999999999999E-2,51.124000000000002,0.56299999999999994,0,1.931,3.101,314.30900000000003,53.337000000000003]
[{"$f":"Clavet!A642","v":"  2019/03/27 12:00:00"},0.13500000000000001,0.33600000000000002,0.47099999999999997,50.868000000000002,1.26,0,2.3220000000000001,3.2210000000000001,307.67599999999999,52.939]
[{"$f":"Clavet!A643","v":"  2019/03/27 13:00:00"},1.4999999999999999E-2,0.113,0.126,53.082999999999998,0.24299999999999999,0,2.6520000000000001,3.9670000000000001,316.63600000000002,48.313000000000002]
[{"$f":"Clavet!A644","v":"  2019/03/27 14:00:00"},4.5999999999999999E-2,0.11,0.154,52.645000000000003,0.17499999999999999,0,2.8980000000000001,3.8490000000000002,323.08199999999999,45.631]
[{"$f":"Clavet!A645","v":"  2019/03/27 15:00:00"},2.7E-2,0.125,0.152,52.908999999999999,-1.9E-2,0,3.12,3.8159999999999998,321.78199999999998,44.658000000000001]
[{"$f":"Clavet!A646","v":"  2019/03/27 16:00:00"},5.6000000000000001E-2,0.11700000000000001,0.17100000000000001,52.509,0.22,0,3.395,3.6469999999999998,319.63299999999998,44.957999999999998]
[{"$f":"Clavet!A647","v":"  2019/03/27 17:00:00"},6.4000000000000001E-2,0.125,0.188,52.218000000000004,5.6000000000000001E-2,0,3.238,3.347,323.14400000000001,46.139000000000003]
[{"$f":"Clavet!A648","v":"  2019/03/27 18:00:00"},-7.8E-2,0.193,0.114,47.786999999999999,0.105,0,1.736,2.6019999999999999,7.3390000000000004,56.862000000000002]
[{"$f":"Clavet!A649","v":"  2019/03/27 19:00:00"},"        Z","        Z","        Z","        Z",0.182,0,0.623,1.107,2.524,61.594999999999999]
[{"$f":"Clavet!A650","v":"  2019/03/27 20:00:00"},4.8000000000000001E-2,0.25700000000000001,0.30399999999999999,42.723999999999997,0.33800000000000002,0,-0.88100000000000001,1.742,6.6239999999999997,61.177999999999997]
[{"$f":"Clavet!A651","v":"  2019/03/27 21:00:00"},7.2999999999999995E-2,0.189,0.26100000000000001,44.554000000000002,0.251,0,-1.1339999999999999,0.91900000000000004,319.50299999999999,57.3]
[{"$f":"Clavet!A652","v":"  2019/03/27 22:00:00"},-7.0999999999999994E-2,0.248,0.17399999999999999,44.796999999999997,0.23499999999999999,0,-1.472,0.82599999999999996,255.815,56.972000000000001]
[{"$f":"Clavet!A653","v":"  2019/03/27 23:00:00"},-8.0000000000000002E-3,0.217,0.20899999999999999,40.988999999999997,0.192,0,-2.1219999999999999,0.93700000000000006,225.65100000000001,59.843000000000004]
[{"$f":"Clavet!A654","v":"  2019/03/28 00:00:00"},-5.6000000000000001E-2,0.37,0.314,38.991,0.68899999999999995,0,-2.9710000000000001,0.505,319.20699999999999,62.893000000000001]
[{"$f":"Clavet!A655","v":"  2019/03/28 01:00:00"},8.5999999999999993E-2,0.56399999999999995,0.64900000000000002,40.179000000000002,1.2809999999999999,0,-2.88,1.002,230.255,60.899000000000001]
[{"$f":"Clavet!A656","v":"  2019/03/28 02:00:00"},-7.0000000000000001E-3,0.22700000000000001,0.22,38.703000000000003,0.23499999999999999,0,-3.7010000000000001,0.92500000000000004,206.24,62.174999999999997]
[{"$f":"Clavet!A657","v":"  2019/03/28 03:00:00"},0.10199999999999999,0.33100000000000002,0.432,38.250999999999998,2.3149999999999999,0,-4.1340000000000003,1.0840000000000001,202.631,61.387999999999998]
[{"$f":"Clavet!A658","v":"  2019/03/28 04:00:00"},0.13100000000000001,0.52100000000000002,0.65100000000000002,31.451000000000001,4.0819999999999999,0,-5.452,1.2509999999999999,195.65299999999999,65.863]
[{"$f":"Clavet!A659","v":"  2019/03/28 05:00:00"},5.8999999999999997E-2,0.34200000000000003,0.40100000000000002,32.021999999999998,3.77,0,-5.5739999999999998,1.458,194.327,65.417000000000002]
[{"$f":"Clavet!A660","v":"  2019/03/28 06:00:00"},0.30399999999999999,0.438,0.74199999999999999,37.756,1.647,0,-4.6100000000000003,1.726,192.00399999999999,62.423999999999999]
[{"$f":"Clavet!A661","v":"  2019/03/28 07:00:00"},0.125,0.313,0.439,39.593000000000004,0.747,0,-3.6890000000000001,1.806,195.01499999999999,60.787999999999997]
[{"$f":"Clavet!A662","v":"  2019/03/28 08:00:00"},0.1,0.28199999999999997,0.38200000000000001,41.384,0.22600000000000001,0,-1.742,1.885,207.541,57.247999999999998]
[{"$f":"Clavet!A663","v":"  2019/03/28 09:00:00"},0.112,0.36899999999999999,0.48099999999999998,44.033000000000001,0.29099999999999998,0,0.57999999999999996,2.2069999999999999,214.024,51.878]
[{"$f":"Clavet!A664","v":"  2019/03/28 10:00:00"},0.14499999999999999,0.52700000000000002,0.67300000000000004,47.893999999999998,0.90100000000000002,0,2.9430000000000001,2.859,229.113,45.728999999999999]
[{"$f":"Clavet!A665","v":"  2019/03/28 11:00:00"},8.3000000000000004E-2,0.41499999999999998,0.499,48.158000000000001,0.47499999999999998,0,4.1920000000000002,2.9180000000000001,231.721,42.829000000000001]
[{"$f":"Clavet!A666","v":"  2019/03/28 12:00:00"},4.9000000000000002E-2,0.33700000000000002,0.38600000000000001,48.892000000000003,5.2999999999999999E-2,0,5.18,3.4889999999999999,256.42500000000001,39.18]
[{"$f":"Clavet!A667","v":"  2019/03/28 13:00:00"},7.9000000000000001E-2,0.40699999999999997,0.48699999999999999,49.194000000000003,0.35299999999999998,0,6.1879999999999997,3.641,245.80600000000001,40.076999999999998]
[{"$f":"Clavet!A668","v":"  2019/03/28 14:00:00"},0.188,0.58399999999999996,0.77300000000000002,48.930999999999997,0.41299999999999998,0,6.6479999999999997,4.3120000000000003,256.82400000000001,42.228000000000002]
[{"$f":"Clavet!A669","v":"  2019/03/28 15:00:00"},0.20200000000000001,0.52200000000000002,0.72299999999999998,50.033000000000001,1.1479999999999999,0,7.26,4.3449999999999998,257.09699999999998,40.67]
[{"$f":"Clavet!A670","v":"  2019/03/28 16:00:00"},0.06,0.59399999999999997,0.65500000000000003,49.302,0.97799999999999998,0,7.5490000000000004,3.9929999999999999,265.51,40.74]
[{"$f":"Clavet!A671","v":"  2019/03/28 17:00:00"},0.18,0.46600000000000003,0.64600000000000002,47.433999999999997,0.80100000000000005,0,6.6379999999999999,3.8460000000000001,262.517,45.073999999999998]
[{"$f":"Clavet!A672","v":"  2019/03/28 18:00:00"},"        Z","        Z","        Z","        Z",1.1499999999999999,0,6.681,3.1640000000000001,257.90499999999997,46.506]
[{"$f":"Clavet!A673","v":"  2019/03/28 19:00:00"},6.3E-2,0.59899999999999998,0.66400000000000003,45.241999999999997,1.3580000000000001,0,5.98,2.8889999999999998,254.733,49.524000000000001]
[{"$f":"Clavet!A674","v":"  2019/03/28 20:00:00"},6.3E-2,0.65500000000000003,0.72,45.262999999999998,0.879,0,5.5819999999999999,3.04,255.7,50.417999999999999]
[{"$f":"Clavet!A675","v":"  2019/03/28 21:00:00"},8.5000000000000006E-2,0.55500000000000005,0.64100000000000001,44.835000000000001,0.42899999999999999,0,5.1150000000000002,2.9860000000000002,270.45699999999999,52.63]
[{"$f":"Clavet!A676","v":"  2019/03/28 22:00:00"},8.5000000000000006E-2,0.623,0.70799999999999996,42.368000000000002,0.61699999999999999,0,3.754,2.0760000000000001,327.63600000000002,59.158999999999999]
[{"$f":"Clavet!A677","v":"  2019/03/28 23:00:00"},5.2999999999999999E-2,0.82,0.873,42.56,0.51400000000000001,0,3.0720000000000001,3.4350000000000001,359.637,58.231000000000002]
[{"$f":"Clavet!A678","v":"  2019/03/29 00:00:00"},0.09,0.28199999999999997,0.371,44.088999999999999,5.8999999999999997E-2,0,1.7889999999999999,3.8759999999999999,352.43099999999998,59.96]
[{"$f":"Clavet!A679","v":"  2019/03/29 01:00:00"},0.10199999999999999,0.255,0.35699999999999998,46.097999999999999,0.35699999999999998,0,0.53700000000000003,3.25,341.91,57.936]
[{"$f":"Clavet!A680","v":"  2019/03/29 02:00:00"},8.5999999999999993E-2,0.24099999999999999,0.32700000000000001,44.786000000000001,0.79100000000000004,0,-9.7000000000000003E-2,2.1989999999999998,316.18599999999998,60.445]
[{"$f":"Clavet!A681","v":"  2019/03/29 03:00:00"},2.7E-2,0.23100000000000001,0.25800000000000001,43.786999999999999,0.19,0,-0.28499999999999998,2.3439999999999999,317.66699999999997,62.415999999999997]
[{"$f":"Clavet!A682","v":"  2019/03/29 04:00:00"},3.7999999999999999E-2,0.40500000000000003,0.44400000000000001,42.938000000000002,2.1259999999999999,0,-0.65500000000000003,2.1480000000000001,309.26900000000001,63.154000000000003]
[{"$f":"Clavet!A683","v":"  2019/03/29 05:00:00"},0.10100000000000001,0.19800000000000001,0.29799999999999999,42.563000000000002,0.79700000000000004,0,-0.879,2.3839999999999999,327.14600000000002,63.677]
[{"$f":"Clavet!A684","v":"  2019/03/29 06:00:00"},7.8E-2,0.16,0.23799999999999999,44.164000000000001,0.10100000000000001,0,-0.79100000000000004,4.1959999999999997,352.05700000000002,60.667000000000002]
[{"$f":"Clavet!A685","v":"  2019/03/29 07:00:00"},-6.5000000000000002E-2,0.157,9.1999999999999998E-2,44.98,0.19700000000000001,0,-1.236,3.73,352.92899999999997,57.868000000000002]
[{"$f":"Clavet!A686","v":"  2019/03/29 08:00:00"},6.8000000000000005E-2,0.19,0.25700000000000001,44.921999999999997,0.14399999999999999,0,-0.92100000000000004,4.218,356.577,55.529000000000003]
[{"$f":"Clavet!A687","v":"  2019/03/29 09:00:00"},6.6000000000000003E-2,0.114,0.18,44.625999999999998,0.159,0,-0.629,3.6749999999999998,354.947,55.500999999999998]
[{"$f":"Clavet!A688","v":"  2019/03/29 10:00:00"},-3.1E-2,0.157,0.126,44.713000000000001,0.151,0,-0.185,3.681,349.70600000000002,53.25]
[{"$f":"Clavet!A689","v":"  2019/03/29 11:00:00"},4.9000000000000002E-2,6.9000000000000006E-2,0.11600000000000001,45.362000000000002,0.34699999999999998,0,0.31900000000000001,3.5859999999999999,346.98500000000001,51.296999999999997]
[{"$f":"Clavet!A690","v":"  2019/03/29 12:00:00"},-0.05,5.5E-2,4.0000000000000001E-3,46.121000000000002,0.59,0,0.85499999999999998,3.7,354.83,48.771000000000001]
[{"$f":"Clavet!A691","v":"  2019/03/29 13:00:00"},0.08,0.13800000000000001,0.217,46.360999999999997,0.27600000000000002,0,1.621,2.9569999999999999,357.72800000000001,46.039000000000001]
[{"$f":"Clavet!A692","v":"  2019/03/29 14:00:00"},1.2E-2,0.24299999999999999,0.253,46.914999999999999,0.501,0,2.2890000000000001,1.9550000000000001,325.67599999999999,42.834000000000003]
[{"$f":"Clavet!A693","v":"  2019/03/29 15:00:00"},-7.0000000000000001E-3,0.17399999999999999,0.16500000000000001,47.109000000000002,0.79300000000000004,0,3.01,2.3490000000000002,286.64400000000001,41.491]
[{"$f":"Clavet!A694","v":"  2019/03/29 16:00:00"},2.8580000000000001,2.5609999999999999,5.4189999999999996,45.814999999999998,3.8079999999999998,0,3.2749999999999999,2.5369999999999999,261.73500000000001,40.020000000000003]
[{"$f":"Clavet!A695","v":"  2019/03/29 17:00:00"},"        Z","        Z","        Z","        Z",3.496,0,3.456,2.2050000000000001,267.80399999999997,39.21]
[{"$f":"Clavet!A696","v":"  2019/03/29 18:00:00"},2.1000000000000001E-2,0.17199999999999999,0.191,46.075000000000003,2.9260000000000002,0,3.1869999999999998,1.867,252.922,40.424999999999997]
[{"$f":"Clavet!A697","v":"  2019/03/29 19:00:00"},5.0000000000000001E-3,0.33200000000000002,0.33500000000000002,42.972999999999999,7.3129999999999997,0,1.885,0.71199999999999997,221.07499999999999,45.557000000000002]
[{"$f":"Clavet!A698","v":"  2019/03/29 20:00:00"},-3.5999999999999997E-2,0.19700000000000001,0.159,33.662999999999997,2.5339999999999998,0,-1.012,0.78300000000000003,169.482,57.404000000000003]
[{"$f":"Clavet!A699","v":"  2019/03/29 21:00:00"},-0.02,7.3999999999999996E-2,5.3999999999999999E-2,39.1,1.659,0,-0.495,0.93600000000000005,182.124,49.962000000000003]
[{"$f":"Clavet!A700","v":"  2019/03/29 22:00:00"},-1.6E-2,0.14499999999999999,0.128,38.752000000000002,0.77600000000000002,0,-0.79500000000000004,1.03,184.089,50.177]
[{"$f":"Clavet!A701","v":"  2019/03/29 23:00:00"},5.8000000000000003E-2,0.121,0.17799999999999999,38.137,0.67400000000000004,0,-0.54100000000000004,0.95899999999999996,183.46,50.152999999999999]
[{"$f":"Clavet!A702","v":"  2019/03/30 00:00:00"},7.4999999999999997E-2,8.8999999999999996E-2,0.16400000000000001,37.552999999999997,0.71799999999999997,0,-0.378,1.006,189.245,51.039000000000001]
[{"$f":"Clavet!A703","v":"  2019/03/30 01:00:00"},0.02,0.218,0.23699999999999999,37.618000000000002,1.2809999999999999,0,-0.22600000000000001,1.1559999999999999,188.36,51.991999999999997]
[{"$f":"Clavet!A704","v":"  2019/03/30 02:00:00"},-5.0999999999999997E-2,0.40100000000000002,0.34599999999999997,38.271000000000001,1.6279999999999999,0,-0.42199999999999999,1.1459999999999999,185.654,53.151000000000003]
[{"$f":"Clavet!A705","v":"  2019/03/30 03:00:00"},6.4000000000000001E-2,0.84099999999999997,0.90300000000000002,38.500999999999998,2.5920000000000001,0,-0.17199999999999999,1.4,191.65600000000001,53.872999999999998]
[{"$f":"Clavet!A706","v":"  2019/03/30 04:00:00"},0.12,1.0069999999999999,1.1240000000000001,39.18,3.5529999999999999,0,5.8999999999999997E-2,1.1850000000000001,192.124,55.381999999999998]
[{"$f":"Clavet!A707","v":"  2019/03/30 05:00:00"},-9.9000000000000005E-2,0.98,0.879,39.171999999999997,2.9039999999999999,0,0.28499999999999998,0.94599999999999995,183.33099999999999,56.470999999999997]
[{"$f":"Clavet!A708","v":"  2019/03/30 06:00:00"},-9.2999999999999999E-2,0.85799999999999998,0.76300000000000001,39.590000000000003,3.319,0,0.53600000000000003,0.95799999999999996,155.286,56.689]
[{"$f":"Clavet!A709","v":"  2019/03/30 07:00:00"},4.4999999999999998E-2,0.64,0.68500000000000005,40.128999999999998,4.4109999999999996,0,0.79800000000000004,1.63,136.80799999999999,56.710999999999999]
[{"$f":"Clavet!A710","v":"  2019/03/30 08:00:00"},0.32200000000000001,0.63600000000000001,0.95699999999999996,39.103000000000002,6.5389999999999997,0,1.294,1.724,139.99600000000001,56.573]
[{"$f":"Clavet!A711","v":"  2019/03/30 09:00:00"},2.5000000000000001E-2,0.63800000000000001,0.66200000000000003,40.069000000000003,3.7440000000000002,0,3.0720000000000001,1.609,194.79400000000001,52.54]
[{"$f":"Clavet!A712","v":"  2019/03/30 10:00:00"},0.14699999999999999,0.86,1.004,40.734999999999999,4.7690000000000001,0,4.3780000000000001,1.82,233.869,50.405000000000001]
[{"$f":"Clavet!A713","v":"  2019/03/30 11:00:00"},0.216,1.036,1.2490000000000001,41.01,1.5640000000000001,0,5.1740000000000004,2.992,288.036,51.756]
[{"$f":"Clavet!A714","v":"  2019/03/30 12:00:00"},0.34599999999999997,1.216,1.56,41.173999999999999,1.9,0,5.4850000000000003,3.11,285.31700000000001,52.689]
[{"$f":"Clavet!A715","v":"  2019/03/30 13:00:00"},0.26200000000000001,1.0980000000000001,1.3580000000000001,43.795999999999999,1.74,0,7.0720000000000001,2.548,303.16199999999998,48.639000000000003]
[{"$f":"Clavet!A716","v":"  2019/03/30 14:00:00"},0.23300000000000001,0.95899999999999996,1.19,45.972000000000001,1.5209999999999999,0,7.3879999999999999,4.1139999999999999,353.54199999999997,45.253]
[{"$f":"Clavet!A717","v":"  2019/03/30 15:00:00"},8.1000000000000003E-2,0.70699999999999996,0.78600000000000003,47.905999999999999,2.0609999999999999,0,7.1740000000000004,5.5439999999999996,358.04300000000001,44.369]
[{"$f":"Clavet!A718","v":"  2019/03/30 16:00:00"},"        Z","        Z","        Z","        Z",2.2160000000000002,0,6.4089999999999998,5.468,355.09199999999998,45.706000000000003]
[{"$f":"Clavet!A719","v":"  2019/03/30 17:00:00"},0.10299999999999999,0.47499999999999998,0.57499999999999996,47.939,2.56,0,4.9429999999999996,5.4029999999999996,354.50400000000002,47.62]
[{"$f":"Clavet!A720","v":"  2019/03/30 18:00:00"},0.108,0.32,0.42599999999999999,47.024999999999999,4.1379999999999999,0,3.6909999999999998,4.7569999999999997,5.0590000000000002,50.874000000000002]
[{"$f":"Clavet!A721","v":"  2019/03/30 19:00:00"},8.5000000000000006E-2,0.26800000000000002,0.35099999999999998,46.835999999999999,6.016,0,2.8220000000000001,4.7190000000000003,0.214,52.103999999999999]
[{"$f":"Clavet!A722","v":"  2019/03/30 20:00:00"},4.2000000000000003E-2,0.34699999999999998,0.38700000000000001,45.21,4.05,0,1.8420000000000001,4.726,1.244,56.960999999999999]
[{"$f":"Clavet!A723","v":"  2019/03/30 21:00:00"},9.1999999999999998E-2,0.27200000000000002,0.36299999999999999,44.792999999999999,2.84,0,1.3480000000000001,3.1619999999999999,355.62400000000002,57.750999999999998]
[{"$f":"Clavet!A724","v":"  2019/03/30 22:00:00"},0.109,0.25,0.35799999999999998,43.234000000000002,2.988,0,0.78700000000000003,2.4510000000000001,353.28,61.725000000000001]
[{"$f":"Clavet!A725","v":"  2019/03/30 23:00:00"},0.124,0.23200000000000001,0.35399999999999998,42.384999999999998,2.8849999999999998,0,0.51700000000000002,2.605,350.673,62.079000000000001]
[{"$f":"Clavet!A726","v":"  2019/03/31 00:00:00"},4.2000000000000003E-2,0.153,0.19400000000000001,40.862000000000002,2.3769999999999998,0,0.312,2.7189999999999999,358.16699999999997,62.179000000000002]
[{"$f":"Clavet!A727","v":"  2019/03/31 01:00:00"},0.11700000000000001,0.15,0.26400000000000001,40.167000000000002,1.0329999999999999,0,-0.14299999999999999,3.6560000000000001,357.411,63.197000000000003]
[{"$f":"Clavet!A728","v":"  2019/03/31 02:00:00"},0.127,0.106,0.23100000000000001,41.911999999999999,0.64900000000000002,0,-0.75600000000000001,3.1469999999999998,356.36500000000001,61.426000000000002]
[{"$f":"Clavet!A729","v":"  2019/03/31 03:00:00"},0.152,8.3000000000000004E-2,0.23300000000000001,40.695999999999998,0.51600000000000001,0,-1.6839999999999999,1.4390000000000001,338.11200000000002,62.72]
[{"$f":"Clavet!A730","v":"  2019/03/31 04:00:00"},0.251,0.112,0.36,39.28,0.28100000000000003,0,-2.2130000000000001,1.024,328.43299999999999,64.278000000000006]
[{"$f":"Clavet!A731","v":"  2019/03/31 05:00:00"},0.13200000000000001,0.215,0.34499999999999997,37.695999999999998,9.5000000000000001E-2,0,-3.073,1.5720000000000001,330.56799999999998,66.911000000000001]
[{"$f":"Clavet!A732","v":"  2019/03/31 06:00:00"},0.111,9.1999999999999998E-2,0.2,39.209000000000003,-0.61399999999999999,0,-3.355,1.9650000000000001,339.40699999999998,65.325000000000003]
[{"$f":"Clavet!A733","v":"  2019/03/31 07:00:00"},0.16200000000000001,0.107,0.26600000000000001,37.880000000000003,-1.0209999999999999,0,-3.5190000000000001,1.4,328.99599999999998,66.686000000000007]
[{"$f":"Clavet!A734","v":"  2019/03/31 08:00:00"},0.25900000000000001,6.6000000000000003E-2,0.32200000000000001,39.012,-1.284,0,-3.0150000000000001,2.27,348.077,64.781999999999996]
[{"$f":"Clavet!A735","v":"  2019/03/31 09:00:00"},0.26200000000000001,0.106,0.36599999999999999,42.167000000000002,-1.181,0,-2.3250000000000002,2.3940000000000001,1.395,57.029000000000003]
[{"$f":"Clavet!A736","v":"  2019/03/31 10:00:00"},0.23599999999999999,8.2000000000000003E-2,0.316,44.820999999999998,-0.64500000000000002,0,-1.38,1.8169999999999999,359.11799999999999,50.241]
[{"$f":"Clavet!A737","v":"  2019/03/31 11:00:00"},0.245,0.11,0.35299999999999998,45.804000000000002,0.82099999999999995,0,-0.57399999999999995,1.51,342.755,47.12]
[{"$f":"Clavet!A738","v":"  2019/03/31 12:00:00"},0.33,0.157,0.48399999999999999,46.151000000000003,2.5819999999999999,0,0.11899999999999999,1.054,289.03500000000003,46.353000000000002]
[{"$f":"Clavet!A739","v":"  2019/03/31 13:00:00"},0.372,0.184,0.55400000000000005,46.456000000000003,3.6360000000000001,0,0.83699999999999997,1.3340000000000001,271.32,44.292000000000002]
[{"$f":"Clavet!A740","v":"  2019/03/31 14:00:00"},0.26600000000000001,0.109,0.374,46.795999999999999,3.5139999999999998,0,1.4850000000000001,1.7050000000000001,305.45100000000002,42.564999999999998]
[{"$f":"Clavet!A741","v":"  2019/03/31 15:00:00"},"        Z","        Z","        Z","        Z",2.3959999999999999,0,2.0830000000000002,1.5629999999999999,286.197,39.488]
[{"$f":"Clavet!A742","v":"  2019/03/31 16:00:00"},0.34799999999999998,8.5999999999999993E-2,0.432,46.58,2.0910000000000002,0,2.5230000000000001,2.08,285.82299999999998,38.917000000000002]
[{"$f":"Clavet!A743","v":"  2019/03/31 17:00:00"},0.20300000000000001,0.108,0.307,45.914000000000001,2.2829999999999999,0,2.5830000000000002,1.2090000000000001,294.90899999999999,39.774999999999999]
[{"$f":"Clavet!A744","v":"  2019/03/31 18:00:00"},0.222,0.214,0.434,46.097000000000001,16.585999999999999,0,2.6379999999999999,1.6779999999999999,251.36799999999999,39.055999999999997]
[{"$f":"Clavet!A745","v":"  2019/03/31 19:00:00"},0.26700000000000002,0.13100000000000001,0.39700000000000002,42.993000000000002,9.4689999999999994,0,1.3520000000000001,0.53900000000000003,189.52199999999999,44.472000000000001]
[{"$f":"Clavet!A746","v":"  2019/03/31 20:00:00"},0.251,0.26700000000000002,0.51500000000000001,41.753,10.417,0,1.0329999999999999,1.351,196.21299999999999,44.524999999999999]
[{"$f":"Clavet!A747","v":"  2019/03/31 21:00:00"},0.28199999999999997,0.20300000000000001,0.48199999999999998,41.106999999999999,4.9939999999999998,0,0.65600000000000003,1.4370000000000001,196.21100000000001,44.679000000000002]
[{"$f":"Clavet!A748","v":"  2019/03/31 22:00:00"},0.17599999999999999,0.22500000000000001,0.39900000000000002,40.784999999999997,6.0339999999999998,0,0.60299999999999998,1.855,204.012,45.695]
[{"$f":"Clavet!A749","v":"  2019/03/31 23:00:00"},0.253,0.42599999999999999,0.67600000000000005,42.533999999999999,4.1150000000000002,0,1.1619999999999999,2.0030000000000001,210.684,46.109000000000002]
[]
[]
[]
["Minimum",{"$f":"MIN(B6:B749)","v":-0.23200000000000001},5.5E-2,4.0000000000000001E-3,15.606,-1.284,0,-29.117999999999999,0.10199999999999999,0.214,27.581]
["MinDate",{"$f":"INDEX($A6:$A749,MATCH(MIN(B6:B749),B6:B749,0))","v":"  2019/03/26 22:00:00"},"  2019/03/29 12:00:00","  2019/03/29 12:00:00","  2019/03/01 04:00:00","  2019/03/31 08:00:00","  2019/03/01 00:00:00","  2019/03/02 06:00:00","  2019/03/23 06:00:00","  2019/03/30 19:00:00","  2019/03/21 14:00:00"]
["Maximum",{"$f":"MAX(B6:B749)","v":6.452},13.135,15.231,63.124000000000002,21.911000000000001,0.08,14.96,6.923,359.637,84.635999999999996]
["MaxDate",{"$f":"INDEX($A6:$A749,MATCH(MAX(B6:B749),B6:B749,0))","v":"  2019/03/06 22:00:00"},"  2019/03/06 19:00:00","  2019/03/06 19:00:00","  2019/03/17 14:00:00","  2019/03/08 15:00:00","  2019/03/26 17:00:00","  2019/03/20 17:00:00","  2019/03/23 17:00:00","  2019/03/28 23:00:00","  2019/03/27 01:00:00"]
["Avg",{"$f":"AVERAGE(B6:B749)","v":0.28400573888091818},1.2380903873744633,1.5216614060258233,42.99710473457678,3.5735797950219674,1.0752688172043011E-4,-3.3871747311827973,1.9391276881720425,219.1256008064515,55.608504032258061]
["Num",{"$f":"COUNT(B6:B749)","v":697},697,697,697,683,744,744,744,744,744]
["Data[%]",{"$f":"(B758/(COUNTA(B6:B749)))*100","v":93.682795698924721},93.682795698924721,93.682795698924721,93.682795698924721,91.8010752688172,100,100,100,100,100]
["STD",{"$f":"_xlfn.STDEV.P(B6:B749)","v":0.59152121325835771},{"$f":"_xlfn.STDEV.P(C6:C749)","v":1.1552079898100938},{"$f":"_xlfn.STDEV.P(D6:D749)","v":1.5662864845353803},{"$f":"_xlfn.STDEV.P(E6:E749)","v":8.7340115622993455},{"$f":"_xlfn.STDEV.P(F6:F749)","v":3.7547710171872959},"No Data",{"$f":"_xlfn.STDEV.P(H6:H749)","v":9.2593192481898612},{"$f":"_xlfn.STDEV.P(I6:I749)","v":1.1265982284617495},"No Data",{"$f":"_xlfn.STDEV.P(K6:K749)","v":11.366504713670752}]